BEGIN:VCALENDAR
VERSION:2.0
PRODID:-//ACprosite - ECPv6.15.20//NONSGML v1.0//EN
CALSCALE:GREGORIAN
METHOD:PUBLISH
X-WR-CALNAME:ACprosite
X-ORIGINAL-URL:https://acprosite.com
X-WR-CALDESC:Events for ACprosite
REFRESH-INTERVAL;VALUE=DURATION:PT1H
X-Robots-Tag:noindex
X-PUBLISHED-TTL:PT1H
BEGIN:VTIMEZONE
TZID:America/New_York
BEGIN:DAYLIGHT
TZOFFSETFROM:-0500
TZOFFSETTO:-0400
TZNAME:EDT
DTSTART:20240310T070000
END:DAYLIGHT
BEGIN:STANDARD
TZOFFSETFROM:-0400
TZOFFSETTO:-0500
TZNAME:EST
DTSTART:20241103T060000
END:STANDARD
BEGIN:DAYLIGHT
TZOFFSETFROM:-0500
TZOFFSETTO:-0400
TZNAME:EDT
DTSTART:20250309T070000
END:DAYLIGHT
BEGIN:STANDARD
TZOFFSETFROM:-0400
TZOFFSETTO:-0500
TZNAME:EST
DTSTART:20251102T060000
END:STANDARD
BEGIN:DAYLIGHT
TZOFFSETFROM:-0500
TZOFFSETTO:-0400
TZNAME:EDT
DTSTART:20260308T070000
END:DAYLIGHT
BEGIN:STANDARD
TZOFFSETFROM:-0400
TZOFFSETTO:-0500
TZNAME:EST
DTSTART:20261101T060000
END:STANDARD
END:VTIMEZONE
BEGIN:VEVENT
DTSTART;TZID=America/New_York:20250620T110000
DTEND;TZID=America/New_York:20250620T130000
DTSTAMP:20260420T093835
CREATED:20250603T141459Z
LAST-MODIFIED:20250606T171229Z
UID:10003067-1750417200-1750424400@acprosite.com
SUMMARY:Tropic Supply T-1 N. Miami: Customer Appreciation Cookout  ﻿& HVAC/R Tech Tips
DESCRIPTION:Join us in celebration of both National HVAC Tech Appreciation Day and World Refrigeration Day on Friday\, June 20\, 2025 from 11:00 a.m. – 1:00 p.m. at any of our 22 resource center locations. All locations will feature a customer appreciation cookout\, and most locations will be hosting live demonstrations of time and money-saving best practices that will elevate the game of your HVAC/R techs! We look forward to seeing you there! \nFREE T-shirt for all attendees! \nRegistration is not required\, and there is NO COST to attend. \nTo find your nearest service center visit https://www.tropicsupply.com/resource-center-locator. \n \n  \n 
URL:https://acprosite.com/event/tropic-supply-t-1-n-miami-customer-appreciation-cookout-hvac-r-tech-tips/
LOCATION:Tropic T1\, 151 NE 179th Street\, Miami\, Florida\, 33162
CATEGORIES:Southeast Florida
END:VEVENT
BEGIN:VEVENT
DTSTART;TZID=America/New_York:20250620T110000
DTEND;TZID=America/New_York:20250620T130000
DTSTAMP:20260420T093835
CREATED:20250603T143848Z
LAST-MODIFIED:20250606T171532Z
UID:10003068-1750417200-1750424400@acprosite.com
SUMMARY:Tropic Supply T-2 N. Ft. Lauderdale: Customer Appreciation Cookout  ﻿& HVAC/R Tech Tips
DESCRIPTION:Join us in celebration of both National HVAC Tech Appreciation Day and World Refrigeration Day on Friday\, June 20\, 2025 from 11:00 a.m. – 1:00 p.m. at any of our 22 resource center locations. All locations will feature a customer appreciation cookout\, and most locations will be hosting live demonstrations of time and money-saving best practices that will elevate the game of your HVAC/R techs! We look forward to seeing you there! \nFREE T-shirt for all attendees! \nRegistration is not required\, and there is NO COST to attend. \n\nTo find your nearest service center visit https://www.tropicsupply.com/resource-center-locator.
URL:https://acprosite.com/event/tropic-supply-t-2-n-ft-lauderdale-customer-appreciation-cookout-hvac-r-tech-tips/
LOCATION:Tropic Supply T2\, 4321 NE 12th Terrace\, Oakland Park\, Florida\, 33334
CATEGORIES:Southeast Florida
END:VEVENT
BEGIN:VEVENT
DTSTART;TZID=America/New_York:20250620T110000
DTEND;TZID=America/New_York:20250620T130000
DTSTAMP:20260420T093835
CREATED:20250603T143952Z
LAST-MODIFIED:20250606T171628Z
UID:10003069-1750417200-1750424400@acprosite.com
SUMMARY:Tropic Supply T-3 S. Miami: Customer Appreciation Cookout  ﻿& HVAC/R Tech Tips
DESCRIPTION:Join us in celebration of both National HVAC Tech Appreciation Day and World Refrigeration Day on Friday\, June 20\, 2025 from 11:00 a.m. – 1:00 p.m. at any of our 22 resource center locations. All locations will feature a customer appreciation cookout\, and most locations will be hosting live demonstrations of time and money-saving best practices that will elevate the game of your HVAC/R techs! We look forward to seeing you there! \nFREE T-shirt for all attendees! \nRegistration is not required\, and there is NO COST to attend. \nTo find your nearest service center visit https://www.tropicsupply.com/resource-center-locator.
URL:https://acprosite.com/event/tropic-supply-t-3-s-miami-customer-appreciation-cookout-hvac-r-tech-tips/
LOCATION:Tropic Supply T3\, 10776A SW 190 St\, Miami\, Florida\, 33157\, United States
CATEGORIES:Southeast Florida
END:VEVENT
BEGIN:VEVENT
DTSTART;TZID=America/New_York:20250620T110000
DTEND;TZID=America/New_York:20250620T130000
DTSTAMP:20260420T093835
CREATED:20250603T144422Z
LAST-MODIFIED:20250606T171720Z
UID:10003070-1750417200-1750424400@acprosite.com
SUMMARY:Tropic Supply T-4 S. Ft. Lauderdale: Customer Appreciation Cookout  ﻿& HVAC/R Tech Tips
DESCRIPTION:Join us in celebration of both National HVAC Tech Appreciation Day and World Refrigeration Day on Friday\, June 20\, 2025 from 11:00 a.m. – 1:00 p.m. at any of our 22 resource center locations. All locations will feature a customer appreciation cookout\, and most locations will be hosting live demonstrations of time and money-saving best practices that will elevate the game of your HVAC/R techs! We look forward to seeing you there! \nFREE T-shirt for all attendees! \nRegistration is not required\, and there is NO COST to attend. \n\nTo find your nearest service center visit https://www.tropicsupply.com/resource-center-locator.
URL:https://acprosite.com/event/tropic-supply-t-4-s-ft-lauderdale-customer-appreciation-cookout-hvac-r-tech-tips/
LOCATION:Tropic Supply T4\, 3200 SE 6th Ave\, Ft Lauderdale\, Florida\, 33316
CATEGORIES:Southeast Florida
END:VEVENT
BEGIN:VEVENT
DTSTART;TZID=America/New_York:20250620T110000
DTEND;TZID=America/New_York:20250620T130000
DTSTAMP:20260420T093835
CREATED:20250603T144605Z
LAST-MODIFIED:20250606T172016Z
UID:10003071-1750417200-1750424400@acprosite.com
SUMMARY:Tropic Supply T-5 West Palm Beach: Customer Appreciation Cookout  ﻿& HVAC/R Tech Tips
DESCRIPTION:Join us in celebration of both National HVAC Tech Appreciation Day and World Refrigeration Day on Friday\, June 20\, 2025 from 11:00 a.m. – 1:00 p.m. at any of our 22 resource center locations. All locations will feature a customer appreciation cookout\, and most locations will be hosting live demonstrations of time and money-saving best practices that will elevate the game of your HVAC/R techs! We look forward to seeing you there! \nFREE T-shirt for all attendees! \nRegistration is not required\, and there is NO COST to attend. \nTo find your nearest service center visit https://www.tropicsupply.com/resource-center-locator.
URL:https://acprosite.com/event/tropic-supply-t-5-west-palm-beach-customer-appreciation-cookout-hvac-r-tech-tips/
LOCATION:Tropic Supply T5\, 1880 Old Okeechobee Rd\, West Palm Beach\, Florida\, 33409\, United States
CATEGORIES:Southeast Florida
END:VEVENT
BEGIN:VEVENT
DTSTART;TZID=America/New_York:20250620T110000
DTEND;TZID=America/New_York:20250620T130000
DTSTAMP:20260420T093835
CREATED:20250603T144750Z
LAST-MODIFIED:20250606T172107Z
UID:10003072-1750417200-1750424400@acprosite.com
SUMMARY:Tropic Supply T-6 Fort Pierce: Customer Appreciation Cookout  ﻿& HVAC/R Tech Tips
DESCRIPTION:Join us in celebration of both National HVAC Tech Appreciation Day and World Refrigeration Day on Friday\, June 20\, 2025 from 11:00 a.m. – 1:00 p.m. at any of our 22 resource center locations. All locations will feature a customer appreciation cookout\, and most locations will be hosting live demonstrations of time and money-saving best practices that will elevate the game of your HVAC/R techs! We look forward to seeing you there! \nFREE T-shirt for all attendees! \nRegistration is not required\, and there is NO COST to attend. \nTo find your nearest service center visit https://www.tropicsupply.com/resource-center-locator.
URL:https://acprosite.com/event/tropic-supply-t-6-fort-pierce-customer-appreciation-cookout-hvac-r-tech-tips/
LOCATION:Tropic Supply T6\, 903 South Market Ave\, Ft. Pierce\, Florida\, 34982
CATEGORIES:Southeast Florida
END:VEVENT
BEGIN:VEVENT
DTSTART;TZID=America/New_York:20250620T110000
DTEND;TZID=America/New_York:20250620T130000
DTSTAMP:20260420T093835
CREATED:20250603T144905Z
LAST-MODIFIED:20250606T172213Z
UID:10003073-1750417200-1750424400@acprosite.com
SUMMARY:Tropic Supply T-7 Mid Miami: Customer Appreciation Cookout  ﻿& HVAC/R Tech Tips
DESCRIPTION:Join us in celebration of both National HVAC Tech Appreciation Day and World Refrigeration Day on Friday\, June 20\, 2025 from 11:00 a.m. – 1:00 p.m. at any of our 22 resource center locations. All locations will feature a customer appreciation cookout\, and most locations will be hosting live demonstrations of time and money-saving best practices that will elevate the game of your HVAC/R techs! We look forward to seeing you there! \nFREE T-shirt for all attendees! \nRegistration is not required\, and there is NO COST to attend. \n\nTo find your nearest service center visit https://www.tropicsupply.com/resource-center-locator.
URL:https://acprosite.com/event/tropic-supply-t-7-mid-miami-customer-appreciation-cookout-hvac-r-tech-tips/
LOCATION:Tropic Supply T7\, 3770 NW 21st St\, Miami\, Florida\, 33142
CATEGORIES:Southeast Florida
END:VEVENT
BEGIN:VEVENT
DTSTART;TZID=America/New_York:20250620T110000
DTEND;TZID=America/New_York:20250620T130000
DTSTAMP:20260420T093835
CREATED:20250603T145044Z
LAST-MODIFIED:20250606T172309Z
UID:10003074-1750417200-1750424400@acprosite.com
SUMMARY:Tropic Supply T-8 Ft. Myers: Customer Appreciation Cookout  ﻿& HVAC/R Tech Tips
DESCRIPTION:Join us in celebration of both National HVAC Tech Appreciation Day and World Refrigeration Day on Friday\, June 20\, 2025 from 11:00 a.m. – 1:00 p.m. at any of our 22 resource center locations. All locations will feature a customer appreciation cookout\, and most locations will be hosting live demonstrations of time and money-saving best practices that will elevate the game of your HVAC/R techs! We look forward to seeing you there! \nFREE T-shirt for all attendees! \nRegistration is not required\, and there is NO COST to attend. \n\nTo find your nearest service center visit https://www.tropicsupply.com/resource-center-locator.
URL:https://acprosite.com/event/tropic-supply-t-8-ft-myers-customer-appreciation-cookout-hvac-r-tech-tips/
LOCATION:Tropic Supply T8\, 6450 Arc Way\, Ft. Myers\, Florida\, 33912
CATEGORIES:Southwest Florida
END:VEVENT
BEGIN:VEVENT
DTSTART;TZID=America/New_York:20250620T110000
DTEND;TZID=America/New_York:20250620T130000
DTSTAMP:20260420T093835
CREATED:20250603T145208Z
LAST-MODIFIED:20250606T172419Z
UID:10003075-1750417200-1750424400@acprosite.com
SUMMARY:Tropic Supply T-9 Delray Beach: Customer Appreciation Cookout  ﻿& HVAC/R Tech Tips
DESCRIPTION:Join us in celebration of both National HVAC Tech Appreciation Day and World Refrigeration Day on Friday\, June 20\, 2025 from 11:00 a.m. – 1:00 p.m. at any of our 22 resource center locations. All locations will feature a customer appreciation cookout\, and most locations will be hosting live demonstrations of time and money-saving best practices that will elevate the game of your HVAC/R techs! We look forward to seeing you there! \nFREE T-shirt for all attendees! \nRegistration is not required\, and there is NO COST to attend. \n\nTo find your nearest service center visit https://www.tropicsupply.com/resource-center-locator.
URL:https://acprosite.com/event/tropic-supply-t-9-delray-beach-customer-appreciation-cookout-hvac-r-tech-tips/
LOCATION:Tropic Supply T9\, 1203 Poinsettia Dr\, Del Ray Beach\, Florida\, 33444
CATEGORIES:Southeast Florida
END:VEVENT
BEGIN:VEVENT
DTSTART;TZID=America/New_York:20250620T110000
DTEND;TZID=America/New_York:20250620T130000
DTSTAMP:20260420T093835
CREATED:20250603T150555Z
LAST-MODIFIED:20250606T173134Z
UID:10003076-1750417200-1750424400@acprosite.com
SUMMARY:Tropic Supply T-10 Naples: Customer Appreciation Cookout  ﻿& HVAC/R Tech Tips
DESCRIPTION:Join us in celebration of both National HVAC Tech Appreciation Day and World Refrigeration Day on Friday\, June 20\, 2025 from 11:00 a.m. – 1:00 p.m. at any of our 22 resource center locations. All locations will feature a customer appreciation cookout\, and most locations will be hosting live demonstrations of time and money-saving best practices that will elevate the game of your HVAC/R techs! We look forward to seeing you there! \nFREE T-shirt for all attendees! \nRegistration is not required\, and there is NO COST to attend. \n\nTo find your nearest service center visit https://www.tropicsupply.com/resource-center-locator.
URL:https://acprosite.com/event/tropic-supply-t-10-naples-customer-appreciation-cookout-hvac-r-tech-tips/
LOCATION:Tropic Supply T10\, 4325 Domestic Ave\, Naples\, Florida\, 34104
CATEGORIES:Southwest Florida
END:VEVENT
BEGIN:VEVENT
DTSTART;TZID=America/New_York:20250620T110000
DTEND;TZID=America/New_York:20250620T130000
DTSTAMP:20260420T093835
CREATED:20250603T150803Z
LAST-MODIFIED:20250606T173242Z
UID:10003077-1750417200-1750424400@acprosite.com
SUMMARY:Tropic Supply T-11 Cape Coral: Customer Appreciation Cookout  ﻿& HVAC/R Tech Tips
DESCRIPTION:Join us in celebration of both National HVAC Tech Appreciation Day and World Refrigeration Day on Friday\, June 20\, 2025 from 11:00 a.m. – 1:00 p.m. at any of our 22 resource center locations. All locations will feature a customer appreciation cookout\, and most locations will be hosting live demonstrations of time and money-saving best practices that will elevate the game of your HVAC/R techs! We look forward to seeing you there! \nFREE T-shirt for all attendees! \nRegistration is not required\, and there is NO COST to attend. \n\nTo find your nearest service center visit https://www.tropicsupply.com/resource-center-locator.
URL:https://acprosite.com/event/tropic-supply-t-11-cape-coral-customer-appreciation-cookout-hvac-r-tech-tips/
LOCATION:Tropic Supply T11\, 785 NE 19th Pl\, Cape Coral\, Florida\, 33909
CATEGORIES:Southwest Florida
END:VEVENT
BEGIN:VEVENT
DTSTART;TZID=America/New_York:20250620T110000
DTEND;TZID=America/New_York:20250620T130000
DTSTAMP:20260420T093835
CREATED:20250603T150931Z
LAST-MODIFIED:20250606T173341Z
UID:10003078-1750417200-1750424400@acprosite.com
SUMMARY:Tropic Supply T-12 Port Charlotte: Customer Appreciation Cookout  ﻿& HVAC/R Tech Tips
DESCRIPTION:Join us in celebration of both National HVAC Tech Appreciation Day and World Refrigeration Day on Friday\, June 20\, 2025 from 11:00 a.m. – 1:00 p.m. at any of our 22 resource center locations. All locations will feature a customer appreciation cookout\, and most locations will be hosting live demonstrations of time and money-saving best practices that will elevate the game of your HVAC/R techs! We look forward to seeing you there! \nFREE T-shirt for all attendees! \nRegistration is not required\, and there is NO COST to attend. \n\nTo find your nearest service center visit https://www.tropicsupply.com/resource-center-locator.
URL:https://acprosite.com/event/tropic-supply-t-12-port-charlotte-customer-appreciation-cookout-hvac-r-tech-tips/
LOCATION:Tropic Supply T12\, 20100 Veterans Blvd # 1\, Port Charlotte\, Florida\, 33954
CATEGORIES:Southwest Florida
END:VEVENT
BEGIN:VEVENT
DTSTART;TZID=America/New_York:20250620T110000
DTEND;TZID=America/New_York:20250620T130000
DTSTAMP:20260420T093836
CREATED:20250603T151940Z
LAST-MODIFIED:20250606T173450Z
UID:10003079-1750417200-1750424400@acprosite.com
SUMMARY:Tropic Supply T-14 Sarasota: Customer Appreciation Cookout  ﻿& HVAC/R Tech Tips
DESCRIPTION:Join us in celebration of both National HVAC Tech Appreciation Day and World Refrigeration Day on Friday\, June 20\, 2025 from 11:00 a.m. – 1:00 p.m. at any of our 22 resource center locations. All locations will feature a customer appreciation cookout\, and most locations will be hosting live demonstrations of time and money-saving best practices that will elevate the game of your HVAC/R techs! We look forward to seeing you there! \nFREE T-shirt for all attendees! \nRegistration is not required\, and there is NO COST to attend. \n\nTo find your nearest service center visit https://www.tropicsupply.com/resource-center-locator.
URL:https://acprosite.com/event/tropic-supply-t-14-sarasota-customer-appreciation-cookout-hvac-r-tech-tips/
LOCATION:Tropic Supply T14\, 7533 Claxstrauss Dr\, Sarasota\, Florida\, 34240
CATEGORIES:Southwest Florida
END:VEVENT
BEGIN:VEVENT
DTSTART;TZID=America/New_York:20250620T110000
DTEND;TZID=America/New_York:20250620T130000
DTSTAMP:20260420T093836
CREATED:20250603T152531Z
LAST-MODIFIED:20250606T173538Z
UID:10003080-1750417200-1750424400@acprosite.com
SUMMARY:Tropic Supply T-15 East Tampa: Customer Appreciation Cookout  ﻿& HVAC/R Tech Tips
DESCRIPTION:Join us in celebration of both National HVAC Tech Appreciation Day and World Refrigeration Day on Friday\, June 20\, 2025 from 11:00 a.m. – 1:00 p.m. at any of our 22 resource center locations. All locations will feature a customer appreciation cookout\, and most locations will be hosting live demonstrations of time and money-saving best practices that will elevate the game of your HVAC/R techs! We look forward to seeing you there! \nFREE T-shirt for all attendees! \nRegistration is not required\, and there is NO COST to attend. \n\nTo find your nearest service center visit https://www.tropicsupply.com/resource-center-locator.
URL:https://acprosite.com/event/tropic-supply-t-15-east-tampa-customer-appreciation-cookout-hvac-r-tech-tips/
LOCATION:Tropic Supply T15\, 5120 East Adamo Dr Suite A\, Tampa\, Florida\, 33619
CATEGORIES:West Central Florida
END:VEVENT
BEGIN:VEVENT
DTSTART;TZID=America/New_York:20250620T110000
DTEND;TZID=America/New_York:20250620T130000
DTSTAMP:20260420T093836
CREATED:20250603T152710Z
LAST-MODIFIED:20250606T173637Z
UID:10003081-1750417200-1750424400@acprosite.com
SUMMARY:Tropic Supply T-16 West Tampa: Customer Appreciation Cookout  ﻿& HVAC/R Tech Tips
DESCRIPTION:Join us in celebration of both National HVAC Tech Appreciation Day and World Refrigeration Day on Friday\, June 20\, 2025 from 11:00 a.m. – 1:00 p.m. at any of our 22 resource center locations. All locations will feature a customer appreciation cookout\, and most locations will be hosting live demonstrations of time and money-saving best practices that will elevate the game of your HVAC/R techs! We look forward to seeing you there! \nFREE T-shirt for all attendees! \nRegistration is not required\, and there is NO COST to attend. \n\nTo find your nearest service center visit https://www.tropicsupply.com/resource-center-locator.
URL:https://acprosite.com/event/tropic-supply-t-16-west-tampa-customer-appreciation-cookout-hvac-r-tech-tips/
LOCATION:Tropic Supply T16\, 7735 Anderson Rd\, Tampa\, Florida\, 33634
CATEGORIES:West Central Florida
END:VEVENT
BEGIN:VEVENT
DTSTART;TZID=America/New_York:20250620T110000
DTEND;TZID=America/New_York:20250620T130000
DTSTAMP:20260420T093836
CREATED:20250603T152836Z
LAST-MODIFIED:20250606T173731Z
UID:10003082-1750417200-1750424400@acprosite.com
SUMMARY:Tropic Supply T-17 Orlando: Customer Appreciation Cookout  ﻿& HVAC/R Tech Tips
DESCRIPTION:Join us in celebration of both National HVAC Tech Appreciation Day and World Refrigeration Day on Friday\, June 20\, 2025 from 11:00 a.m. – 1:00 p.m. at any of our 22 resource center locations. All locations will feature a customer appreciation cookout\, and most locations will be hosting live demonstrations of time and money-saving best practices that will elevate the game of your HVAC/R techs! We look forward to seeing you there! \nFREE T-shirt for all attendees! \nRegistration is not required\, and there is NO COST to attend. \n\nTo find your nearest service center visit https://www.tropicsupply.com/resource-center-locator.
URL:https://acprosite.com/event/tropic-supply-t-17-orlando-customer-appreciation-cookout-hvac-r-tech-tips/
LOCATION:Tropic Supply T17\, 4528 36th St\, Orlando\, Florida\, 32811
CATEGORIES:East Central Florida
END:VEVENT
BEGIN:VEVENT
DTSTART;TZID=America/New_York:20250620T110000
DTEND;TZID=America/New_York:20250620T130000
DTSTAMP:20260420T093836
CREATED:20250603T153005Z
LAST-MODIFIED:20250606T173838Z
UID:10003083-1750417200-1750424400@acprosite.com
SUMMARY:Tropic Supply T-18 Jacksonville: Customer Appreciation Cookout  ﻿& HVAC/R Tech Tips
DESCRIPTION:Join us in celebration of both National HVAC Tech Appreciation Day and World Refrigeration Day on Friday\, June 20\, 2025 from 11:00 a.m. – 1:00 p.m. at any of our 22 resource center locations. All locations will feature a customer appreciation cookout\, and most locations will be hosting live demonstrations of time and money-saving best practices that will elevate the game of your HVAC/R techs! We look forward to seeing you there! \nFREE T-shirt for all attendees! \nRegistration is not required\, and there is NO COST to attend. \n\nTo find your nearest service center visit https://www.tropicsupply.com/resource-center-locator.
URL:https://acprosite.com/event/tropic-supply-t-18-jacksonville-customer-appreciation-cookout-hvac-r-tech-tips/
LOCATION:Tropic Supply T18\, 6631 Executive Park Ct Ste 101\, Jacksonville\, Florida\, 32216
CATEGORIES:North Florida
END:VEVENT
BEGIN:VEVENT
DTSTART;TZID=America/New_York:20250620T110000
DTEND;TZID=America/New_York:20250620T130000
DTSTAMP:20260420T093836
CREATED:20250603T153110Z
LAST-MODIFIED:20250606T173930Z
UID:10003084-1750417200-1750424400@acprosite.com
SUMMARY:Tropic Supply T-19 Daytona Beach: Customer Appreciation Cookout  ﻿& HVAC/R Tech Tips
DESCRIPTION:Join us in celebration of both National HVAC Tech Appreciation Day and World Refrigeration Day on Friday\, June 20\, 2025 from 11:00 a.m. – 1:00 p.m. at any of our 22 resource center locations. All locations will feature a customer appreciation cookout\, and most locations will be hosting live demonstrations of time and money-saving best practices that will elevate the game of your HVAC/R techs! We look forward to seeing you there! \nFREE T-shirt for all attendees! \nRegistration is not required\, and there is NO COST to attend. \n\nTo find your nearest service center visit https://www.tropicsupply.com/resource-center-locator.
URL:https://acprosite.com/event/tropic-supply-t-19-daytona-beach-customer-appreciation-cookout-hvac-r-tech-tips/
LOCATION:Tropic Supply T19\, 475-D Fentress Blvd\, Daytona Beach\, Florida\, 32114
CATEGORIES:East Central Florida
END:VEVENT
BEGIN:VEVENT
DTSTART;TZID=America/New_York:20250620T110000
DTEND;TZID=America/New_York:20250620T130000
DTSTAMP:20260420T093836
CREATED:20250603T153431Z
LAST-MODIFIED:20250606T174023Z
UID:10003085-1750417200-1750424400@acprosite.com
SUMMARY:Tropic Supply T-20 Sunrise: Customer Appreciation Cookout  ﻿& HVAC/R Tech Tips
DESCRIPTION:Join us in celebration of both National HVAC Tech Appreciation Day and World Refrigeration Day on Friday\, June 20\, 2025 from 11:00 a.m. – 1:00 p.m. at any of our 22 resource center locations. All locations will feature a customer appreciation cookout\, and most locations will be hosting live demonstrations of time and money-saving best practices that will elevate the game of your HVAC/R techs! We look forward to seeing you there! \nFREE T-shirt for all attendees! \nRegistration is not required\, and there is NO COST to attend. \n\nTo find your nearest service center visit https://www.tropicsupply.com/resource-center-locator.
URL:https://acprosite.com/event/tropic-supply-t-20-sunrise-customer-appreciation-cookout-hvac-r-tech-tips/
LOCATION:Tropic Supply T20\, 1001 Sawgrass Corporate Pkwy\, Sunrise\, Florida\, 33323
CATEGORIES:Southeast Florida
END:VEVENT
BEGIN:VEVENT
DTSTART;TZID=America/New_York:20250620T110000
DTEND;TZID=America/New_York:20250620T130000
DTSTAMP:20260420T093836
CREATED:20250603T153609Z
LAST-MODIFIED:20250606T174126Z
UID:10003086-1750417200-1750424400@acprosite.com
SUMMARY:Tropic Supply T-21 Tallahassee: Customer Appreciation Cookout  ﻿& HVAC/R Tech Tips
DESCRIPTION:Join us in celebration of both National HVAC Tech Appreciation Day and World Refrigeration Day on Friday\, June 20\, 2025 from 11:00 a.m. – 1:00 p.m. at any of our 22 resource center locations. All locations will feature a customer appreciation cookout\, and most locations will be hosting live demonstrations of time and money-saving best practices that will elevate the game of your HVAC/R techs! We look forward to seeing you there! \nFREE T-shirt for all attendees! \nRegistration is not required\, and there is NO COST to attend. \nTo find your nearest service center visit https://www.tropicsupply.com/resource-center-locator.
URL:https://acprosite.com/event/tropic-supply-t-21-tallahassee-customer-appreciation-cookout-hvac-r-tech-tips/
LOCATION:Tropic Supply T21\, 111-2 Hamilton Park Drive\, Tallahassee\, Florida\, 32304
CATEGORIES:Northwest Florida
END:VEVENT
BEGIN:VEVENT
DTSTART;TZID=America/New_York:20250620T110000
DTEND;TZID=America/New_York:20250620T130000
DTSTAMP:20260420T093836
CREATED:20250603T153821Z
LAST-MODIFIED:20250606T174224Z
UID:10003087-1750417200-1750424400@acprosite.com
SUMMARY:Tropic Supply T-22 Ocala: Customer Appreciation Cookout  ﻿& HVAC/R Tech Tips
DESCRIPTION:Join us in celebration of both National HVAC Tech Appreciation Day and World Refrigeration Day on Friday\, June 20\, 2025 from 11:00 a.m. – 1:00 p.m. at any of our 22 resource center locations. All locations will feature a customer appreciation cookout\, and most locations will be hosting live demonstrations of time and money-saving best practices that will elevate the game of your HVAC/R techs! We look forward to seeing you there! \nFREE T-shirt for all attendees! \nRegistration is not required\, and there is NO COST to attend. \n\nTo find your nearest service center visit https://www.tropicsupply.com/resource-center-locator.
URL:https://acprosite.com/event/tropic-supply-t-22-ocala-customer-appreciation-cookout-hvac-r-tech-tips/
LOCATION:Tropic Supply T22\, 3420 SW 7th Street\, Suite 202\, Ocala\, Florida\, 34474
CATEGORIES:East Central Florida
END:VEVENT
BEGIN:VEVENT
DTSTART;TZID=America/New_York:20250620T110000
DTEND;TZID=America/New_York:20250620T130000
DTSTAMP:20260420T093836
CREATED:20250603T153936Z
LAST-MODIFIED:20250606T174335Z
UID:10003088-1750417200-1750424400@acprosite.com
SUMMARY:Tropic Supply T-23 St. Petersburg: Customer Appreciation Cookout  ﻿& HVAC/R Tech Tips
DESCRIPTION:Join us in celebration of both National HVAC Tech Appreciation Day and World Refrigeration Day on Friday\, June 20\, 2025 from 11:00 a.m. – 1:00 p.m. at any of our 22 resource center locations. All locations will feature a customer appreciation cookout\, and most locations will be hosting live demonstrations of time and money-saving best practices that will elevate the game of your HVAC/R techs! We look forward to seeing you there! \nFREE T-shirt for all attendees! \nRegistration is not required\, and there is NO COST to attend. \n\nTo find your nearest service center visit https://www.tropicsupply.com/resource-center-locator.
URL:https://acprosite.com/event/tropic-supply-t-22-st-petersburg-customer-appreciation-cookout-hvac-r-tech-tips/
LOCATION:Tropic Supply T23\, 12395 Belcher Road\, Suite 320\, Largo\, Florida\, 33773
CATEGORIES:West Central Florida
END:VEVENT
END:VCALENDAR