BEGIN:VCALENDAR
VERSION:2.0
PRODID:-//ACprosite - ECPv6.15.20//NONSGML v1.0//EN
CALSCALE:GREGORIAN
METHOD:PUBLISH
X-ORIGINAL-URL:https://acprosite.com
X-WR-CALDESC:Events for ACprosite
REFRESH-INTERVAL;VALUE=DURATION:PT1H
X-Robots-Tag:noindex
X-PUBLISHED-TTL:PT1H
BEGIN:VTIMEZONE
TZID:America/New_York
BEGIN:DAYLIGHT
TZOFFSETFROM:-0500
TZOFFSETTO:-0400
TZNAME:EDT
DTSTART:20240310T070000
END:DAYLIGHT
BEGIN:STANDARD
TZOFFSETFROM:-0400
TZOFFSETTO:-0500
TZNAME:EST
DTSTART:20241103T060000
END:STANDARD
BEGIN:DAYLIGHT
TZOFFSETFROM:-0500
TZOFFSETTO:-0400
TZNAME:EDT
DTSTART:20250309T070000
END:DAYLIGHT
BEGIN:STANDARD
TZOFFSETFROM:-0400
TZOFFSETTO:-0500
TZNAME:EST
DTSTART:20251102T060000
END:STANDARD
BEGIN:DAYLIGHT
TZOFFSETFROM:-0500
TZOFFSETTO:-0400
TZNAME:EDT
DTSTART:20260308T070000
END:DAYLIGHT
BEGIN:STANDARD
TZOFFSETFROM:-0400
TZOFFSETTO:-0500
TZNAME:EST
DTSTART:20261101T060000
END:STANDARD
END:VTIMEZONE
BEGIN:VEVENT
DTSTART;VALUE=DATE:20251208
DTEND;VALUE=DATE:20251212
DTSTAMP:20260420T035719
CREATED:20250627T160333Z
LAST-MODIFIED:20250930T140717Z
UID:10003127-1765152000-1765497599@acprosite.com
SUMMARY:HARDI Annual Conference 2025
DESCRIPTION:This premier 4-day event for HARDI members unites distributors\, manufacturers\, and vendors committed to accelerating their business growth. Attendees will expand their professional networks and gain valuable industry insights from top experts offering fresh and relevant perspectives. With dedicated tracks focused on Personal & Organizational Development\, External Impacts\, and Business Growth\, it’s essential for entire teams to attend to fully absorb and implement the knowledge across your organization\, driving long-term success. \nOur expertly curated content equips participants with critical tools and strategies to navigate economic challenges\, decode complex sales trends\, and optimize supply chain performance. Navigate empowers you to chart a successful course in today’s dynamic industry landscape. \n\nWe look forward to seeing you this December! \n\nRegistration Opens Early July \n\n\nWholesale members will have a priority window. After the grace period\, registration opens to all other member types. \n\n\n\nDECEMBER 8-11\, 2025 | LAS VEGAS\, NV
URL:https://acprosite.com/event/hardi-annual-conference-2025/
LOCATION:MGM Grand Las Vegas NV\, 3799 S Las Vegas Blvd\, Las Vegas\, NV\, 89109
CATEGORIES:All regions,East Central Florida,News,North Florida,Northwest Florida,Southeast Florida,Southwest Florida,West Central Florida
END:VEVENT
END:VCALENDAR