BEGIN:VCALENDAR
VERSION:2.0
PRODID:-//ACprosite - ECPv6.15.20//NONSGML v1.0//EN
CALSCALE:GREGORIAN
METHOD:PUBLISH
X-ORIGINAL-URL:https://acprosite.com
X-WR-CALDESC:Events for ACprosite
REFRESH-INTERVAL;VALUE=DURATION:PT1H
X-Robots-Tag:noindex
X-PUBLISHED-TTL:PT1H
BEGIN:VTIMEZONE
TZID:America/New_York
BEGIN:DAYLIGHT
TZOFFSETFROM:-0500
TZOFFSETTO:-0400
TZNAME:EDT
DTSTART:20220313T070000
END:DAYLIGHT
BEGIN:STANDARD
TZOFFSETFROM:-0400
TZOFFSETTO:-0500
TZNAME:EST
DTSTART:20221106T060000
END:STANDARD
BEGIN:DAYLIGHT
TZOFFSETFROM:-0500
TZOFFSETTO:-0400
TZNAME:EDT
DTSTART:20230312T070000
END:DAYLIGHT
BEGIN:STANDARD
TZOFFSETFROM:-0400
TZOFFSETTO:-0500
TZNAME:EST
DTSTART:20231105T060000
END:STANDARD
BEGIN:DAYLIGHT
TZOFFSETFROM:-0500
TZOFFSETTO:-0400
TZNAME:EDT
DTSTART:20240310T070000
END:DAYLIGHT
BEGIN:STANDARD
TZOFFSETFROM:-0400
TZOFFSETTO:-0500
TZNAME:EST
DTSTART:20241103T060000
END:STANDARD
END:VTIMEZONE
BEGIN:VEVENT
DTSTART;VALUE=DATE:20231130
DTEND;VALUE=DATE:20231201
DTSTAMP:20260421T013320
CREATED:20231103T154440Z
LAST-MODIFIED:20231103T154440Z
UID:10000847-1701302400-1701388799@acprosite.com
SUMMARY:CE Orlando: 2-Day Tent Sale Thurs 11/30 & Fri 12/1
DESCRIPTION:Closeouts\, Clearance\, Scratch & Dent Blowout \nPlus Food & Refreshments
URL:https://acprosite.com/event/ce-orlando-2-day-tent-sale-thurs-11-30-fri-12-1/2023-11-30/
LOCATION:CE Orlando\, 4306 Shader Rd.\, Ste 400\, Orlando\, Florida\, 32829
CATEGORIES:East Central Florida
END:VEVENT
BEGIN:VEVENT
DTSTART;VALUE=DATE:20231130
DTEND;VALUE=DATE:20231201
DTSTAMP:20260421T013320
CREATED:20231103T154957Z
LAST-MODIFIED:20231103T154957Z
UID:10000849-1701302400-1701388799@acprosite.com
SUMMARY:CE Daytona Beach: 2-Day Tent Sale Thurs 11/30 & Fri 12/1
DESCRIPTION:Closeouts\, Clearance\, Scratch & Dent Blowout \nPlus Food & Refreshments
URL:https://acprosite.com/event/ce-daytona-beach-2-day-tent-sale-thurs-11-30-fri-12-1/2023-11-30/
LOCATION:CE Daytona Beach\, 2399 Mason Avenue\, Daytona Beach\, Florida\, 32114
CATEGORIES:East Central Florida
END:VEVENT
BEGIN:VEVENT
DTSTART;VALUE=DATE:20231130
DTEND;VALUE=DATE:20231201
DTSTAMP:20260421T013320
CREATED:20231103T155117Z
LAST-MODIFIED:20231103T155117Z
UID:10000852-1701302400-1701388799@acprosite.com
SUMMARY:CE Kissimmee: 2-Day Tent Sale Thurs 11/30 & Fri 12/1
DESCRIPTION:Closeouts\, Clearance\, Scratch & Dent Blowout \nPlus Food & Refreshments
URL:https://acprosite.com/event/ce-kissimmee-2-day-tent-sale-thurs-11-30-fri-12-1/2023-11-30/
LOCATION:CE Kissimmee\, 931 Armstrong Blvd.\, Kissimmee\, Florida\, 34741
CATEGORIES:East Central Florida
END:VEVENT
BEGIN:VEVENT
DTSTART;VALUE=DATE:20231130
DTEND;VALUE=DATE:20231201
DTSTAMP:20260421T013320
CREATED:20231103T155236Z
LAST-MODIFIED:20231103T155236Z
UID:10000855-1701302400-1701388799@acprosite.com
SUMMARY:CE Sanford: 2-Day Tent Sale Thurs 11/30 & Fri 12/1
DESCRIPTION:Closeouts\, Clearance\, Scratch & Dent Blowout \nPlus Food & Refreshments
URL:https://acprosite.com/event/ce-sanford-2-day-tent-sale-thurs-11-30-fri-12-1/2023-11-30/
LOCATION:CE Sanford\, 3830 Enterprise Way\, Ste. 1102\, Sanford\, Florida\, 32771
CATEGORIES:East Central Florida
END:VEVENT
BEGIN:VEVENT
DTSTART;VALUE=DATE:20231130
DTEND;VALUE=DATE:20231201
DTSTAMP:20260421T013320
CREATED:20231103T161247Z
LAST-MODIFIED:20231103T161247Z
UID:10000858-1701302400-1701388799@acprosite.com
SUMMARY:CE Melbourne: 2-Day Tent Sale Thurs 11/30 & Fri 12/1
DESCRIPTION:Closeouts\, Clearance\, Scratch & Dent Blowout \nPlus Food & Refreshments
URL:https://acprosite.com/event/ce-melbourne-2-day-tent-sale-thurs-11-30-fri-12-1/2023-11-30/
LOCATION:CE Melbourne\, 4301 Fortune Place\, Melbourne\, Florida\, 32904
CATEGORIES:East Central Florida
END:VEVENT
BEGIN:VEVENT
DTSTART;VALUE=DATE:20231130
DTEND;VALUE=DATE:20231201
DTSTAMP:20260421T013320
CREATED:20231103T163114Z
LAST-MODIFIED:20231103T163114Z
UID:10000861-1701302400-1701388799@acprosite.com
SUMMARY:CE Clermont: 2-Day Tent Sale Thurs 11/30 & Fri 12/1
DESCRIPTION:Closeouts\, Clearance\, Scratch & Dent Blowout \nPlus Food & Refreshments
URL:https://acprosite.com/event/ce-clermont-2-day-tent-sale-thurs-11-30-fri-12-1/2023-11-30/
LOCATION:CE Clermont\, 1227 Commons Court\, Clermont\, Florida\, 34711
CATEGORIES:East Central Florida
END:VEVENT
BEGIN:VEVENT
DTSTART;VALUE=DATE:20231130
DTEND;VALUE=DATE:20231201
DTSTAMP:20260421T013320
CREATED:20231103T165546Z
LAST-MODIFIED:20231103T165546Z
UID:10000921-1701302400-1701388799@acprosite.com
SUMMARY:CE Orlando Vista Reserve: 2-Day Tent Sale Thurs 11/30 & Fri 12/1
DESCRIPTION:Closeouts\, Clearance\, Scratch & Dent Blowout \nPlus Food & Refreshments
URL:https://acprosite.com/event/ce-orlando-vista-reserve-2-day-tent-sale-thurs-11-30-fri-12-1/2023-11-30/
LOCATION:CE Orlando Vista Reserve\, 8050 Vista Reserve Blvd.\, Suite 2200\, Orlando\, Florida\, 32829
CATEGORIES:East Central Florida
END:VEVENT
END:VCALENDAR