BEGIN:VCALENDAR
VERSION:2.0
PRODID:-//ACprosite - ECPv6.15.20//NONSGML v1.0//EN
CALSCALE:GREGORIAN
METHOD:PUBLISH
X-WR-CALNAME:ACprosite
X-ORIGINAL-URL:https://acprosite.com
X-WR-CALDESC:Events for ACprosite
REFRESH-INTERVAL;VALUE=DURATION:PT1H
X-Robots-Tag:noindex
X-PUBLISHED-TTL:PT1H
BEGIN:VTIMEZONE
TZID:America/New_York
BEGIN:DAYLIGHT
TZOFFSETFROM:-0500
TZOFFSETTO:-0400
TZNAME:EDT
DTSTART:20250309T070000
END:DAYLIGHT
BEGIN:STANDARD
TZOFFSETFROM:-0400
TZOFFSETTO:-0500
TZNAME:EST
DTSTART:20251102T060000
END:STANDARD
BEGIN:DAYLIGHT
TZOFFSETFROM:-0500
TZOFFSETTO:-0400
TZNAME:EDT
DTSTART:20260308T070000
END:DAYLIGHT
BEGIN:STANDARD
TZOFFSETFROM:-0400
TZOFFSETTO:-0500
TZNAME:EST
DTSTART:20261101T060000
END:STANDARD
BEGIN:DAYLIGHT
TZOFFSETFROM:-0500
TZOFFSETTO:-0400
TZNAME:EDT
DTSTART:20270314T070000
END:DAYLIGHT
BEGIN:STANDARD
TZOFFSETFROM:-0400
TZOFFSETTO:-0500
TZNAME:EST
DTSTART:20271107T060000
END:STANDARD
END:VTIMEZONE
BEGIN:VEVENT
DTSTART;TZID=America/New_York:20260408T080000
DTEND;TZID=America/New_York:20260408T170000
DTSTAMP:20260420T222153
CREATED:20250826T133524Z
LAST-MODIFIED:20250826T133524Z
UID:10003188-1775635200-1775667600@acprosite.com
SUMMARY:FRACCA Orlando: 1st Annual Golf Tournament
DESCRIPTION:Join FRACCA as we are excited to be playing at Eagle Creek Golf Club. This tournament will benefit the PAC – Political Action Committee for FRACCA. \nClick HERE for more information and to register. \n \n 
URL:https://acprosite.com/event/fracca-orlando-1st-annual-golf-tournament/
LOCATION:Florida
CATEGORIES:East Central Florida
END:VEVENT
BEGIN:VEVENT
DTSTART;TZID=America/New_York:20260408T083000
DTEND;TZID=America/New_York:20260408T123000
DTSTAMP:20260420T222153
CREATED:20260320T144428Z
LAST-MODIFIED:20260320T153605Z
UID:10003413-1775637000-1775651400@acprosite.com
SUMMARY:Baker Distributing Orlando: Gree Technical Training
DESCRIPTION:JOIN US FOR: \n• Gree Flex side discharge unit training\n• Introduction to new products\n• Installation and troubleshooting\n• CE credits will be given \n \n  \n 
URL:https://acprosite.com/event/baker-distributing-orlando-gree-technical-training/
LOCATION:Hilton Garden Inn Orlando\, 6850 Westwood Blvd.\, Orlando\, Florida\, 32821
CATEGORIES:East Central Florida
END:VEVENT
END:VCALENDAR