BEGIN:VCALENDAR
VERSION:2.0
PRODID:-//ACprosite - ECPv6.15.20//NONSGML v1.0//EN
CALSCALE:GREGORIAN
METHOD:PUBLISH
X-WR-CALNAME:ACprosite
X-ORIGINAL-URL:https://acprosite.com
X-WR-CALDESC:Events for ACprosite
REFRESH-INTERVAL;VALUE=DURATION:PT1H
X-Robots-Tag:noindex
X-PUBLISHED-TTL:PT1H
BEGIN:VTIMEZONE
TZID:America/New_York
BEGIN:DAYLIGHT
TZOFFSETFROM:-0500
TZOFFSETTO:-0400
TZNAME:EDT
DTSTART:20250309T070000
END:DAYLIGHT
BEGIN:STANDARD
TZOFFSETFROM:-0400
TZOFFSETTO:-0500
TZNAME:EST
DTSTART:20251102T060000
END:STANDARD
BEGIN:DAYLIGHT
TZOFFSETFROM:-0500
TZOFFSETTO:-0400
TZNAME:EDT
DTSTART:20260308T070000
END:DAYLIGHT
BEGIN:STANDARD
TZOFFSETFROM:-0400
TZOFFSETTO:-0500
TZNAME:EST
DTSTART:20261101T060000
END:STANDARD
BEGIN:DAYLIGHT
TZOFFSETFROM:-0500
TZOFFSETTO:-0400
TZNAME:EDT
DTSTART:20270314T070000
END:DAYLIGHT
BEGIN:STANDARD
TZOFFSETFROM:-0400
TZOFFSETTO:-0500
TZNAME:EST
DTSTART:20271107T060000
END:STANDARD
END:VTIMEZONE
BEGIN:VEVENT
DTSTART;TZID=America/New_York:20260501T080000
DTEND;TZID=America/New_York:20260501T093000
DTSTAMP:20260422T154243
CREATED:20260415T152909Z
LAST-MODIFIED:20260415T160848Z
UID:10003432-1777622400-1777627800@acprosite.com
SUMMARY:Tropic Supply: Regal Rexnord ECM Motors Training Webinar
DESCRIPTION:LEARNING OBJECTIVES: \n\nBetter Installs: Learn Regal ECM motor features\, applications\, and installation best practices.\nBetter Diagnosis & Repairs: Troubleshoot smarter and see how stocking five motors can solve up to 98% of field failures.\nBetter Maintenance & Profitable Upsells: Discover the advantages of the new dual-voltage ECM condenser motor and the added value it offers customers.
URL:https://acprosite.com/event/tropic-supply-regal-rexnord-ecm-motors-training-webinar/
LOCATION:Florida
CATEGORIES:East Central Florida,North Florida,Northwest Florida,Southeast Florida,Southwest Florida,West Central Florida
END:VEVENT
BEGIN:VEVENT
DTSTART;TZID=America/New_York:20260505T080000
DTEND;TZID=America/New_York:20260505T160000
DTSTAMP:20260422T154243
CREATED:20260407T135627Z
LAST-MODIFIED:20260407T135627Z
UID:10003425-1777968000-1777996800@acprosite.com
SUMMARY:Johnstone Supply Jacksonville South: Amana Side Discharge Training
DESCRIPTION:This class will cover products and technology\, installation\, and commissioning for the Side Discharge Family of products. Topics covered include nomenclatures\, unit features\, inverter technology and components\, inverter benefits\, some troubleshooting\, compatibility\, set-up\, charge mode\, start-up\, and the required system test and configurations\, as well on overview of the smart thermostats. \nPlease go to HVAC Learning Campus and create an account https://www.hvaclearningcampus.com. This is the certification training required to sell and install the Amana/Goodman side discharge equipment. It is also the Pre- requisite for the side discharge SERVICE & TROUBLESHOOTING (S&T) class.
URL:https://acprosite.com/event/johnstone-supply-jacksonville-south-amana-side-discharge-training/
LOCATION:Johnstone Jacksonville South\, 11710 Central Pkwy\, Jacksonville\, Florida\, 32224
CATEGORIES:North Florida
END:VEVENT
BEGIN:VEVENT
DTSTART;TZID=America/New_York:20260507T080000
DTEND;TZID=America/New_York:20260507T120000
DTSTAMP:20260422T154243
CREATED:20260421T144208Z
LAST-MODIFIED:20260421T144237Z
UID:10003455-1778140800-1778155200@acprosite.com
SUMMARY:Tropic Supply Demo Day Jacksonville: Achieve Better Installs with CPS Products
DESCRIPTION:LEARNING OBJECTIVES: \nBetter Installs: Learn how the CPS BlackMax VPBM6V 6 CFM Sparkless Vacuum Pump and CPS MT69 Molecular Transformator Sub Cooler help ensure proper vacuum and recovery practices\, remove moisture\, and reduce future callbacks. \n \n 
URL:https://acprosite.com/event/tropic-supply-demo-day-jacksonville-achieve-better-installs-with-cps-products/
LOCATION:Tropic Supply T18\, 6631 Executive Park Ct Ste 101\, Jacksonville\, Florida\, 32216
CATEGORIES:North Florida
END:VEVENT
END:VCALENDAR