BEGIN:VCALENDAR
VERSION:2.0
PRODID:-//ACprosite - ECPv6.15.20//NONSGML v1.0//EN
CALSCALE:GREGORIAN
METHOD:PUBLISH
X-WR-CALNAME:ACprosite
X-ORIGINAL-URL:https://acprosite.com
X-WR-CALDESC:Events for ACprosite
REFRESH-INTERVAL;VALUE=DURATION:PT1H
X-Robots-Tag:noindex
X-PUBLISHED-TTL:PT1H
BEGIN:VTIMEZONE
TZID:America/New_York
BEGIN:DAYLIGHT
TZOFFSETFROM:-0500
TZOFFSETTO:-0400
TZNAME:EDT
DTSTART:20250309T070000
END:DAYLIGHT
BEGIN:STANDARD
TZOFFSETFROM:-0400
TZOFFSETTO:-0500
TZNAME:EST
DTSTART:20251102T060000
END:STANDARD
BEGIN:DAYLIGHT
TZOFFSETFROM:-0500
TZOFFSETTO:-0400
TZNAME:EDT
DTSTART:20260308T070000
END:DAYLIGHT
BEGIN:STANDARD
TZOFFSETFROM:-0400
TZOFFSETTO:-0500
TZNAME:EST
DTSTART:20261101T060000
END:STANDARD
BEGIN:DAYLIGHT
TZOFFSETFROM:-0500
TZOFFSETTO:-0400
TZNAME:EDT
DTSTART:20270314T070000
END:DAYLIGHT
BEGIN:STANDARD
TZOFFSETFROM:-0400
TZOFFSETTO:-0500
TZNAME:EST
DTSTART:20271107T060000
END:STANDARD
END:VTIMEZONE
BEGIN:VEVENT
DTSTART;TZID=America/New_York:20260129T073000
DTEND;TZID=America/New_York:20260129T113000
DTSTAMP:20260423T074510
CREATED:20251217T162359Z
LAST-MODIFIED:20251217T162359Z
UID:10003309-1769671800-1769686200@acprosite.com
SUMMARY:RACCA Tampa: Workshop: Understanding Compressor Failures
DESCRIPTION:This workshop will review the operation and capacity of compressors. Attendees will gain a better understanding of the manufacturing and auditing procedures that go into compressor development and manufacture. The instructor will go into detail on the five mechanical failure types and what causes them for a better understanding of how true electrical failure can be determined and how to prevent future failure after compressor replacement. \nCheck in is at 7:30am \nCoffee\, donuts and pastries provided by Trane Supply \nNATE CEU’s Available \nLimited seating…register today! \nIndustry Expert Instructor:\n• Bob Feathers\, HVAC TAC\, Ft. Myers\, FL\n40 years industry experience including corporate trainer with Copeland. \nHow to Register\nClick here to download the registration form. \nComplete the registration form and email to charris@crgnet.net or call 727-578-1962 or mail form to CRG\, Inc.\, 466 94th Ave N\, St. Petersburg\, FL 33702
URL:https://acprosite.com/event/racca-tampa-workshop-understanding-compressor-failures-2/
LOCATION:Trane Supply Tampa\, 4720 East Adamo Drive\, Tampa\, Florida\, 33605
CATEGORIES:West Central Florida
END:VEVENT
END:VCALENDAR