BEGIN:VCALENDAR
VERSION:2.0
PRODID:-//ACprosite - ECPv6.15.20//NONSGML v1.0//EN
CALSCALE:GREGORIAN
METHOD:PUBLISH
X-ORIGINAL-URL:https://acprosite.com
X-WR-CALDESC:Events for ACprosite
REFRESH-INTERVAL;VALUE=DURATION:PT1H
X-Robots-Tag:noindex
X-PUBLISHED-TTL:PT1H
BEGIN:VTIMEZONE
TZID:America/New_York
BEGIN:DAYLIGHT
TZOFFSETFROM:-0500
TZOFFSETTO:-0400
TZNAME:EDT
DTSTART:20230312T070000
END:DAYLIGHT
BEGIN:STANDARD
TZOFFSETFROM:-0400
TZOFFSETTO:-0500
TZNAME:EST
DTSTART:20231105T060000
END:STANDARD
BEGIN:DAYLIGHT
TZOFFSETFROM:-0500
TZOFFSETTO:-0400
TZNAME:EDT
DTSTART:20240310T070000
END:DAYLIGHT
BEGIN:STANDARD
TZOFFSETFROM:-0400
TZOFFSETTO:-0500
TZNAME:EST
DTSTART:20241103T060000
END:STANDARD
BEGIN:DAYLIGHT
TZOFFSETFROM:-0500
TZOFFSETTO:-0400
TZNAME:EDT
DTSTART:20250309T070000
END:DAYLIGHT
BEGIN:STANDARD
TZOFFSETFROM:-0400
TZOFFSETTO:-0500
TZNAME:EST
DTSTART:20251102T060000
END:STANDARD
END:VTIMEZONE
BEGIN:VEVENT
DTSTART;VALUE=DATE:20240409
DTEND;VALUE=DATE:20240410
DTSTAMP:20260419T124644
CREATED:20240401T125104Z
LAST-MODIFIED:20240401T125104Z
UID:10001524-1712620800-1712707199@acprosite.com
SUMMARY:CE: Morning Jolt! Wesley Chapel
DESCRIPTION:Get your morning Jolt! Enjoy breakfast and let the CE Team share this month’s specials.
URL:https://acprosite.com/event/ce-morning-jolt-wesley-chapel-7/
LOCATION:CE Wesley Chapel\, 30568 State Road 54\, Wesley Chapel\, Florida\, 33543
CATEGORIES:West Central Florida
END:VEVENT
BEGIN:VEVENT
DTSTART;VALUE=DATE:20240409
DTEND;VALUE=DATE:20240410
DTSTAMP:20260419T124644
CREATED:20240401T125143Z
LAST-MODIFIED:20240401T125143Z
UID:10001525-1712620800-1712707199@acprosite.com
SUMMARY:CE: Morning Jolt! Orlando Vista Reserve
DESCRIPTION:Get your morning Jolt! Enjoy breakfast and let the CE Team share this month’s specials.
URL:https://acprosite.com/event/ce-morning-jolt-orlando-vista-reserve-5/
LOCATION:CE Orlando Vista Reserve\, 8050 Vista Reserve Blvd.\, Suite 2200\, Orlando\, Florida\, 32829
CATEGORIES:East Central Florida
END:VEVENT
BEGIN:VEVENT
DTSTART;VALUE=DATE:20240409
DTEND;VALUE=DATE:20240410
DTSTAMP:20260419T124644
CREATED:20240401T125219Z
LAST-MODIFIED:20240401T125219Z
UID:10001526-1712620800-1712707199@acprosite.com
SUMMARY:CE: Morning Jolt! St. Augustine
DESCRIPTION:Get your morning Jolt! Enjoy breakfast and let the CE Team share this month’s specials.
URL:https://acprosite.com/event/ce-morning-jolt-st-augustine-7/
LOCATION:CE St Augustine\, 40 Dobbs Business Circle\, St Augustine\, Florida\, 32086
CATEGORIES:North Florida
END:VEVENT
BEGIN:VEVENT
DTSTART;TZID=America/New_York:20240409T070000
DTEND;TZID=America/New_York:20240409T093000
DTSTAMP:20260419T124644
CREATED:20240408T161222Z
LAST-MODIFIED:20240408T161222Z
UID:10001619-1712646000-1712655000@acprosite.com
SUMMARY:Tropic Supply Ocala: Low GWP Refrigerants: Best Practices for a Smooth Transition
DESCRIPTION:WHEN Tuesday\, April 9\, 2024 \n7:00 am – 8:00 am Light Breakfast / Snacks \n8:00 am – 9:30 am Training Presentation \nWHERE Hilton Ocala 3600 SW 36th Avenue Ocala\, FL 34474 \nATTENDEES WILL LEARN: \n\nA review of regulatory legislation where we have been\, where we are\, where we are going\nProperties of A2L refrigerants\nTechnology Transitions Rule\nWhy R454B?\nChanges to Ruud equipment\nBest practices for installing and servicing equipment containing low GWP refrigerants\n\nClick HERE to register and for more information.
URL:https://acprosite.com/event/tropic-supply-ocala-low-gwp-refrigerants-best-practices-for-a-smooth-transition/
LOCATION:Hilton Ocala\, 3600 SW 36th Avenue\, Ocala\, Florida\, 34474
CATEGORIES:East Central Florida
END:VEVENT
BEGIN:VEVENT
DTSTART;TZID=America/New_York:20240409T080000
DTEND;TZID=America/New_York:20240409T100000
DTSTAMP:20260419T124644
CREATED:20240305T153811Z
LAST-MODIFIED:20240305T153811Z
UID:10001383-1712649600-1712656800@acprosite.com
SUMMARY:Tropic Supply Largo: Regal Rexnord Motor Mastery
DESCRIPTION:ATTENDEES WILL LEARN: \n\nGenteq ECM history\nGenteq Evergreen ECM replacement models\nHow Genteq OEM and Evergreen aftermarket motors utilize PWM in Ruud equipment\nHow to troubleshoot ECM motors\nHow stocking Evergreen motors on your truck provides same-day completion of service calls and makes more money for your company\n\nWHEN: Tuesday\, April 9\, 2024 8:00 am – 10:00 am Light Breakfast/Snacks Provided \nWHERE: T-23 St. Petersburg Resource Center 12395 Belcher Road\, Ste. 320 Largo\, FL. 33773 (727) 373-4003 \nClick HERE to register.
URL:https://acprosite.com/event/tropic-supply-largo-regal-rexnord-motor-mastery/
LOCATION:Largo\, 12395 Belcher Road\, Ste. 320\, Largo\, Florida\, 33773
CATEGORIES:West Central Florida
END:VEVENT
BEGIN:VEVENT
DTSTART;TZID=America/New_York:20240410T080000
DTEND;TZID=America/New_York:20240410T100000
DTSTAMP:20260419T124644
CREATED:20240305T154352Z
LAST-MODIFIED:20240305T154352Z
UID:10001384-1712736000-1712743200@acprosite.com
SUMMARY:Tropic Supply Orlando: Regal Rexnord Motor Mastery
DESCRIPTION:ATTENDEES WILL LEARN: \n\nGenteq ECM history\nGenteq Evergreen ECM replacement models\nHow Genteq OEM and Evergreen aftermarket motors utilize PWM in Ruud equipment\nHow to troubleshoot ECM motors\nHow stocking Evergreen motors on your truck provides same-day completion of service calls and makes more money for your company\n\nWHEN: Wednesday\, April 10\, 2024 8:00 am – 10:00 am Light Breakfast/Snacks Provided \nWHERE: T-17 Orlando Resource Center 4528 36th St. Orlando\, FL 32811 (407) 219-3255 \nClick HERE to register. \n \n 
URL:https://acprosite.com/event/tropic-supply-orlando-regal-rexnord-motor-mastery/
LOCATION:Orlando\, 9800 International Dr\, Orlando\, Florida\, 32819
CATEGORIES:East Central Florida
END:VEVENT
BEGIN:VEVENT
DTSTART;TZID=America/New_York:20240410T080000
DTEND;TZID=America/New_York:20240410T100000
DTSTAMP:20260419T124644
CREATED:20240408T161739Z
LAST-MODIFIED:20240408T161842Z
UID:10001620-1712736000-1712743200@acprosite.com
SUMMARY:Tropic Supply Orlando: Regal Beloit Motor Mastery Training
DESCRIPTION:WHEN Wednesday\, April 10\, 2024 \n8:00 am – 10:00 am Light Breakfast/Snacks Provided \nWHERE T-17 Orlando Resource Center 4528 36th St. Orlando\, FL 32811 (407) 219-3255 \nATTENDEES WILL LEARN: \n\nGenteq ECM history\nGenteq Evergreen ECM replacement models\nHow Genteq OEM and Evergreen aftermarket motors utilize PWM in Ruud equipment\nHow to troubleshoot ECM motors\nHow stocking Evergreen motors on your truck provides same-day completion of service calls and makes more money for your company\n\nAll attendees will be entered into a drawing for a FREE TECINSPECT! This invaluable tool provides simple\, fast\, and accurate diagnostics of variable speed motors. \nClick HERE to register and for more information.
URL:https://acprosite.com/event/tropic-supply-orlando-regal-beloit-motor-mastery-training/
LOCATION:Tropic Supply T17\, 4528 36th St\, Orlando\, Florida\, 32811
CATEGORIES:East Central Florida
END:VEVENT
BEGIN:VEVENT
DTSTART;TZID=America/New_York:20240410T080000
DTEND;TZID=America/New_York:20240410T110000
DTSTAMP:20260419T124644
CREATED:20240325T142247Z
LAST-MODIFIED:20240325T142247Z
UID:10001494-1712736000-1712746800@acprosite.com
SUMMARY:Baker FL Cooling Naples: Counter Day
DESCRIPTION:Gear up for a day of innovation. Witness the latest in tool mastery with an exclusive lineup of brands that are redefining the industry.\nPower Brands on Display: \n\nKlein Tools: Streamlined electrical tools for ultimate precision.\nInficon: Advanced leak detection systems for flawless workmanship.\nLittle Giant: Robust condensate pumps for top-tier HVAC performance.\nDryer Boxes: Space-efficient installations for modern homes.\nKroil: Superior penetrating oils to conquer rust and seize-ups.\n\nEvent Highlights: \n\nInteractive Demos: See tools in action and discover new solutions.\nBrand Experts: Direct access to product knowledge and tips.\nExclusive Offers: Special event-only promotions to expand your toolkit.\n\n \n  \n 
URL:https://acprosite.com/event/baker-fl-cooling-naples-counter-day/
LOCATION:FL Cooling Naples\, 4361 Corporate Square\, Naples\, Florida\, 34104
CATEGORIES:Southwest Florida
END:VEVENT
BEGIN:VEVENT
DTSTART;TZID=America/New_York:20240410T090000
DTEND;TZID=America/New_York:20240410T130000
DTSTAMP:20260419T124644
CREATED:20240206T160404Z
LAST-MODIFIED:20240206T160404Z
UID:10001231-1712739600-1712754000@acprosite.com
SUMMARY:Baker Distributing Ocala: New Refrigerant Training
DESCRIPTION:THIS COURSE WILL COVER: \nHoliday Inn & Suites\nConference Center\n3600 SW 38th Avenue\nOcala\, Florida 34474 \nTo RSVP for this class\,\nvisit www.bakerdist.com/icp-dealer-training \nLunch will be served \nNEW REFRIGERANT\nTRAINING\nWednesday | April 10\, 2024 | 9:00AM – 1:00PM \nRefrigerant History\nWhat’s an HFO?\nRegulations\nA2L/R454 Resources\nNear Field Communication Review\nNew Tempstar Products
URL:https://acprosite.com/event/baker-distributing-ocala-new-refrigerant-training/
LOCATION:Holiday Inn Ocala\, 3600 SW 38th Avenue\, Ocala\, FL\, 34474\, United States
CATEGORIES:East Central Florida
END:VEVENT
BEGIN:VEVENT
DTSTART;TZID=America/New_York:20240411T000000
DTEND;TZID=America/New_York:20240411T133000
DTSTAMP:20260419T124644
CREATED:20240305T155103Z
LAST-MODIFIED:20240305T155103Z
UID:10001385-1712793600-1712842200@acprosite.com
SUMMARY:Tropic Supply SilverBullet Webinar Selling Tools & Strategies for HVAC Profitability
DESCRIPTION:CLASS DESCRIPTION: \nJoin Tod Sutherland from Tropic Supply for an informative webinar about SilverBullet. This webinar will feature: \n\nWhy offer financing?\nUnderstanding your cost of credit\nSelling at the kitchen table\, letting the customer drive the sale\nUsing proposal software to increase your average invoice\nIncrease high efficiency sales with Silver Bullet proposal software\nUsing Silver Bullet to increase your bottom line\n\nWHEN: Thursday\, April 11\, 2024 12:00 pm – 1:30 pm EST Zoom Webinar \nTo register\, Click HERE. \n \n  \n 
URL:https://acprosite.com/event/tropic-supply-silverbullet-webinar-selling-tools-strategies-for-hvac-profitability/
LOCATION:Florida
CATEGORIES:East Central Florida,North Florida,Northwest Florida,Southeast Florida,Southwest Florida,West Central Florida
END:VEVENT
BEGIN:VEVENT
DTSTART;TZID=America/New_York:20240411T080000
DTEND;TZID=America/New_York:20240411T110000
DTSTAMP:20260419T124644
CREATED:20240327T170655Z
LAST-MODIFIED:20240327T170655Z
UID:10001495-1712822400-1712833200@acprosite.com
SUMMARY:Baker FL Cooling Ft. Myers: Counter Day
DESCRIPTION:Gear up for a day of innovation. Witness the latest in tool mastery with an exclusive lineup of brands that are redefining the industry. \nPower Brands on Display: \n\nKlein Tools: Streamlined electrical tools for ultimate precision.\nInficon: Advanced leak detection systems for flawless workmanship.\nLittle Giant: Robust condensate pumps for top-tier HVAC performance.\nDryer Boxes: Space-efficient installations for modern homes.\nKroil: Superior penetrating oils to conquer rust and seize-ups.\n\nEvent Highlights: \n\nInteractive Demos: See tools in action and discover new solutions.\nBrand Experts: Direct access to product knowledge and tips.\nExclusive Offers: Special event-only promotions to expand your toolkit.
URL:https://acprosite.com/event/baker-fl-cooling-ft-myers-counter-day/
LOCATION:Baker Fort Myers\, 6151 Metro Plex Dr\, Ste. 101\, Fort Myers\, Florida\, 33966
CATEGORIES:Southwest Florida
END:VEVENT
BEGIN:VEVENT
DTSTART;TZID=America/New_York:20240411T110000
DTEND;TZID=America/New_York:20240411T130000
DTSTAMP:20260419T124644
CREATED:20240207T172313Z
LAST-MODIFIED:20240207T172313Z
UID:10001236-1712833200-1712840400@acprosite.com
SUMMARY:Johnstone Ware Group Ocala: Open House
DESCRIPTION:Training Opportunity 10-11:30 am\nTake advantage of an outstanding opportunity during each Open House event. You must register in advance online or with your local brand manager to attend. Visit JohnstoneWareGroup.com/OpenHouse to register or get additional information. \nEnjoy a Delicious BBQ Lunch\nFor more than 30 years. Hill’s BBQ & Catering has provided our Open House guests with delicious BBQ feasts. Relax for a bit and enjoy a fantastic meal with friends that you’ll talk about all year long. \nOver 30 Vendor Representatives\nVisit with our many Vendor Reps as they highlight New Products\, perform Demonstrations\, discuss Industry Trends and provided resources. \nTerrific Door Prizes & Give-aways\nWe’ll greet you with a bag of goodies the minute you arrive. Many of our vendors will have samples\, information and useful items. And remember to register to win one of our super door prizes! \nIt’s our way of saying Thank You! We hope to see you there.\nCheck us out at JohnstoneWareGroup.com.\nLunch served 11am – 1pm\n 
URL:https://acprosite.com/event/johnstone-ware-group-ocala-open-house/
LOCATION:Johnstone Ocala\, 2700 SW 3rd Pl\, Ocala\, Florida\, 34471
CATEGORIES:East Central Florida
END:VEVENT
BEGIN:VEVENT
DTSTART;TZID=America/New_York:20240411T113000
DTEND;TZID=America/New_York:20240411T130000
DTSTAMP:20260419T124644
CREATED:20231229T143311Z
LAST-MODIFIED:20231229T143437Z
UID:10001075-1712835000-1712840400@acprosite.com
SUMMARY:RACCA Tampa: Lunch and Learn – Introduction to Air Conditioning
DESCRIPTION:Introduction to Air Conditioning\nDoes your Office Personnel speak Air Conditioning?\nWho Should Attend? \nReceptionists\, Office Administrators\, Dispatchers\, Cost Accounting Clerks\, Entry-Level Helpers\, Warehouse\, Parts Runners & Anyone in your organization that is New to the HVAC Industry! \nA Non-Technical Seminar Designed Exclusively for Support Personnel Employed by HVACR Contractors & Supply Houses. \nThe science of our profession explained in everyday\, easy to understand terms so our support employees understand what we do. Presented by Keane Bismarck. \nThis course will cover topics such as: \nHow Heat Transfers\nHow We Size Systems\nThe Effects of Insulation\nHow the Refrigerant Cycle Works\nWhat are the Main Components\nDifferent Types of Systems \nGet Tickets $19.50 – $24.50 \nClick HERE for tickets. \nRSVP for the Lunch & Learn will be on RACCA’s Website www.racca-florida.org. You will be asked for payment in the form of a credit card. RSVP will be taken up 5:00 PM April 9th. Cancellation Policy: Cancellations are taken up to April 9th by noon. Cancellations after this date & no-shows are charged for the Lunch & Learn.
URL:https://acprosite.com/event/racca-tampa-lunch-and-learn-introduction-to-air-conditioning/
LOCATION:Trane Supply Tampa\, 4720 East Adamo Drive\, Tampa\, Florida\, 33605
CATEGORIES:West Central Florida
END:VEVENT
BEGIN:VEVENT
DTSTART;TZID=America/New_York:20240411T120000
DTEND;TZID=America/New_York:20240411T133000
DTSTAMP:20260419T124644
CREATED:20240408T162251Z
LAST-MODIFIED:20240408T162251Z
UID:10001621-1712836800-1712842200@acprosite.com
SUMMARY:Tropic Supply: SilverBullet Webinar Selling Tools & Strategies for HVAC Profitability Zoom Webinar
DESCRIPTION:CLASS DESCRIPTION: \nWHEN Thursday\, April 11\, 2024 12:00 pm – 1:30 pm EST Zoom Webinar \nJoin Tod Sutherland from Tropic Supply for an informative webinar about SilverBullet. \nThis webinar will feature: \n\nWhy offer financing?\nUnderstanding your cost of credit\nSelling at the kitchen table\, letting the customer drive the sale\nUsing proposal software to increase your average invoice\nIncrease high efficiency sales with Silver Bullet proposal software\nUsing Silver Bullet to increase your bottom line\n\nAttendees will have the opportunity to win one of 3 Ruud-branded Richardson hats for answering quiz questions correctly. \nClick HERE to register and for more information.
URL:https://acprosite.com/event/tropic-supply-silverbullet-webinar-selling-tools-strategies-for-hvac-profitability-zoom-webinar-2/
LOCATION:Florida
CATEGORIES:East Central Florida,North Florida,Northwest Florida,Southeast Florida,Southwest Florida,West Central Florida
END:VEVENT
BEGIN:VEVENT
DTSTART;TZID=America/New_York:20240413T080000
DTEND;TZID=America/New_York:20240413T100000
DTSTAMP:20260419T124644
CREATED:20231229T143811Z
LAST-MODIFIED:20240206T145559Z
UID:10001076-1712995200-1713002400@acprosite.com
SUMMARY:RACCA Tampa: Cars and Coffee
DESCRIPTION:April 13\, 2024 @ 8:00 am – 10:00 am\nFREE \nClick HERE to RSVP.
URL:https://acprosite.com/event/racca-tampa-cars-and-coffee-2/
LOCATION:Trane Supply Tampa\, 4720 East Adamo Drive\, Tampa\, Florida\, 33605
CATEGORIES:West Central Florida
END:VEVENT
BEGIN:VEVENT
DTSTART;TZID=America/New_York:20240416T113000
DTEND;TZID=America/New_York:20240416T130000
DTSTAMP:20260419T124644
CREATED:20231229T144116Z
LAST-MODIFIED:20231229T144116Z
UID:10001077-1713267000-1713272400@acprosite.com
SUMMARY:RACCA Tampa: Executive Lunch and Learn – Screening\, Hiring & Retaining Employees ﻿ & Triple Protection Plan
DESCRIPTION:April 16\, 2024 @ 11:30 am – 1:00 pm\n$19.50 – $24.50 \nClick HERE for tickets. \nFederated Insurance will go over Screening\, Hiring & Retaining Employees & Triple Protection Plan.\nWho Should Attend? \nThis class is intended for Owners\, Managers\, Executives & Associate Members. \nThis Executive Lunch and Learn will cover the following topics: \nScreening\, Hiring\, and Retaining Employees (45 Min.)\nA company’s hiring and employee retention practices communicate a lot about its culture. Many employers agree that bringing qualified applicants into their business is one of their primary challenges\, and today’s competitive employment market can make it even harder to land top talent. This discussion focuses on ways to find quality applicants in your industry\, establish strong and consistent hiring practices\, and reinforces the value of continuous recruiting and employee retention to distinguish you as an “employer of choice.”\nTriple Protection Plan (45 Min.)\nHave you ever lost a promising employee? If you have\, you know the costs related to turnover are high and getting higher as jobs become more specialized. Rewarding key employees and letting them know how important they are to your business could mean the difference between keeping or losing a valued employee. But\, to do that\, you need benefits that work well\, both short- and long-term. During this session\, learn about the triple protection option approach that your peers are using successfully to recruit and train top talent.\nFederated Insurance is one of RACCA Associate Members and will be putting on both the Screening\, Hiring & Retaining Employees & Triple Protection Plan. \nRSVP for the Lunch & Learn will be on RACCA’s Website www.racca-florida.org. You will be asked for payment in the form of a credit card. RSVP will be taken til 5:00 PM April12th. Cancellation Policy: Cancellations are taken up to April 12th by noon. Cancellations after this date & no-shows are charged for the Lunch & Learn.
URL:https://acprosite.com/event/racca-tampa-executive-lunch-and-learn-screening-hiring-retaining-employees-triple-protection-plan/
LOCATION:Trane Supply Tampa\, 4720 East Adamo Drive\, Tampa\, Florida\, 33605
CATEGORIES:West Central Florida
END:VEVENT
BEGIN:VEVENT
DTSTART;TZID=America/New_York:20240418T113000
DTEND;TZID=America/New_York:20240418T130000
DTSTAMP:20260419T124644
CREATED:20231229T144517Z
LAST-MODIFIED:20231229T144517Z
UID:10001078-1713439800-1713445200@acprosite.com
SUMMARY:RACCA Clearwater: Lunch and Learn – Introduction to Surge & Over/Under Voltage
DESCRIPTION:April 18\, 2024 @ 11:30 am – 1:00 pm\n$19.50 – $24.50 \nClick HERE for tickets. \nDoes your Sales Department\, Estimators & Service Techs Understand Surge & Over/Under Protection & their Applications? As an Owner; do you have your staff recommending Surge Protection & Over/Under Protection on every job they go on. Lightning season is coming!!!!\nWho Should Attend? \nOwners\, Estimators\, Salespeople\, Service Managers\, Service Techs\, Installation People\, and Whoever in your Organization that would be involved with recommending Surge & Over/Under Voltage Protection to your customers! \nThis class will go over Surge Protection\, Surge Protection Application\, Types of Surge Protection\, Voltage Monitoring & Understanding Over/Under Voltage. \nThe class will be presented by Fred Kreusch the Vice President of Able Power Products a Manufacturer in Clearwater Florida along with Dan Moody President of Target Sales. \nRSVP for the Lunch & Learn will be on RACCA’s Website www.racca-florida.org. You will be asked for payment in the form of a credit card. RSVP will be taken up 5:00 PM April 16th. Cancellation Policy: Cancellations are taken up to April 16h by noon. Cancellations after this date & no-shows are charged for the Lunch & Learn.
URL:https://acprosite.com/event/racca-clearwater-lunch-and-learn-introduction-to-surge-over-under-voltage/
LOCATION:Clearwater/Victor Distributing\, 11125 49th St. North\, Clearwater\, Florida\, 33762
CATEGORIES:West Central Florida
END:VEVENT
BEGIN:VEVENT
DTSTART;TZID=America/New_York:20240418T120000
DTEND;TZID=America/New_York:20240418T140000
DTSTAMP:20260419T124644
CREATED:20240404T133445Z
LAST-MODIFIED:20240404T133530Z
UID:10001613-1713441600-1713448800@acprosite.com
SUMMARY:Arco Supply\, Inc. Lake Worth: 45th Anniversary Celebration
DESCRIPTION:Join us to celebrate our 45th Anniversary! \nEnjoy a pig roast \nThursday\, April 18th 2024\, 12 – 2 pm \nGreat brands\, great products!
URL:https://acprosite.com/event/arco-supply-inc-lake-worth-45th-anniversary-celebration/
LOCATION:Lake Worth\, 715 Barnett Drive\, Lake Worth\, Florida\, 33461
CATEGORIES:Southeast Florida
END:VEVENT
BEGIN:VEVENT
DTSTART;VALUE=DATE:20240419
DTEND;VALUE=DATE:20240420
DTSTAMP:20260419T124644
CREATED:20240117T145227Z
LAST-MODIFIED:20240117T145227Z
UID:10001206-1713484800-1713571199@acprosite.com
SUMMARY:ASHRAE Orlando: Annual Golf Tournament
DESCRIPTION:For the benefit of ASHRAE RP and Chapter Operations.  7:00 AM at Rio Pinar. \nwww.ASHRAE-CFL.org/golf \nSign up now. Click HERE.
URL:https://acprosite.com/event/ashrae-orlando-annual-golf-tournament/
LOCATION:Orlando\, 9800 International Dr\, Orlando\, Florida\, 32819
CATEGORIES:East Central Florida
END:VEVENT
BEGIN:VEVENT
DTSTART;VALUE=DATE:20240419
DTEND;VALUE=DATE:20240420
DTSTAMP:20260419T124644
CREATED:20240403T135421Z
LAST-MODIFIED:20240403T140219Z
UID:10001529-1713484800-1713571199@acprosite.com
SUMMARY:CE Orlando: Parts & Supplies Social
DESCRIPTION:Meet our Featured Partner! Snacks and refreshments will be served. \nParts & Supplies Social Featured Product Vendor: RGF Environmental Group\, Inc.
URL:https://acprosite.com/event/ce-orlando-parts-supplies-social-10/
LOCATION:CE Orlando\, 4306 Shader Rd.\, Ste 400\, Orlando\, Florida\, 32829
CATEGORIES:East Central Florida
END:VEVENT
BEGIN:VEVENT
DTSTART;VALUE=DATE:20240419
DTEND;VALUE=DATE:20240420
DTSTAMP:20260419T124644
CREATED:20240403T141709Z
LAST-MODIFIED:20240403T141709Z
UID:10001531-1713484800-1713571199@acprosite.com
SUMMARY:CE Daytona Beach: Parts & Supplies Social
DESCRIPTION:Meet our Featured Partner! Snacks and refreshments will be served. \nParts & Supplies Social Featured Product Vendor: RGF Environmental Group\, Inc.
URL:https://acprosite.com/event/ce-daytona-beach-parts-supplies-social-6/
LOCATION:CE Daytona Beach\, 701 Fentress Blvd\, Daytona Beach\, Florida\, 32114
CATEGORIES:East Central Florida
END:VEVENT
BEGIN:VEVENT
DTSTART;VALUE=DATE:20240419
DTEND;VALUE=DATE:20240420
DTSTAMP:20260419T124644
CREATED:20240403T141819Z
LAST-MODIFIED:20240403T141819Z
UID:10001532-1713484800-1713571199@acprosite.com
SUMMARY:CE Kissimmee: Parts & Supplies Social
DESCRIPTION:Meet our Featured Partner! Snacks and refreshments will be served. \nParts & Supplies Social Featured Product Vendor: RGF Environmental Group\, Inc.
URL:https://acprosite.com/event/ce-kissimmee-parts-supplies-social-8/
LOCATION:CE Kissimmee\, 931 Armstrong Blvd.\, Kissimmee\, Florida\, 34741
CATEGORIES:East Central Florida
END:VEVENT
BEGIN:VEVENT
DTSTART;VALUE=DATE:20240419
DTEND;VALUE=DATE:20240420
DTSTAMP:20260419T124644
CREATED:20240403T141907Z
LAST-MODIFIED:20240403T141907Z
UID:10001533-1713484800-1713571199@acprosite.com
SUMMARY:CE Sanford: Parts & Supplies Social
DESCRIPTION:Meet our Featured Partner! Snacks and refreshments will be served. \nParts & Supplies Social Featured Product Vendor: RGF Environmental Group\, Inc.
URL:https://acprosite.com/event/ce-sanford-parts-supplies-social-8/
LOCATION:CE Sanford\, 3830 Enterprise Way\, Ste. 1102\, Sanford\, Florida\, 32771
CATEGORIES:East Central Florida
END:VEVENT
BEGIN:VEVENT
DTSTART;VALUE=DATE:20240419
DTEND;VALUE=DATE:20240420
DTSTAMP:20260419T124644
CREATED:20240403T142101Z
LAST-MODIFIED:20240403T142101Z
UID:10001534-1713484800-1713571199@acprosite.com
SUMMARY:CE Melbourne: Parts & Supplies Social
DESCRIPTION:Meet our Featured Partner! Snacks and refreshments will be served. \nParts & Supplies Social Featured Product Vendor: RGF Environmental Group\, Inc.
URL:https://acprosite.com/event/ce-melbourne-parts-supplies-social-9/
LOCATION:CE Melbourne\, 4301 Fortune Place\, Melbourne\, Florida\, 32904
CATEGORIES:East Central Florida
END:VEVENT
BEGIN:VEVENT
DTSTART;VALUE=DATE:20240419
DTEND;VALUE=DATE:20240420
DTSTAMP:20260419T124644
CREATED:20240403T142139Z
LAST-MODIFIED:20240403T142139Z
UID:10001535-1713484800-1713571199@acprosite.com
SUMMARY:CE Clermont: Parts & Supplies Social
DESCRIPTION:Meet our Featured Partner! Snacks and refreshments will be served. \nParts & Supplies Social Featured Product Vendor: RGF Environmental Group\, Inc.
URL:https://acprosite.com/event/ce-clermont-parts-supplies-social-9/
LOCATION:CE Clermont\, 1227 Commons Court\, Clermont\, Florida\, 34711
CATEGORIES:East Central Florida
END:VEVENT
BEGIN:VEVENT
DTSTART;VALUE=DATE:20240419
DTEND;VALUE=DATE:20240420
DTSTAMP:20260419T124644
CREATED:20240403T142227Z
LAST-MODIFIED:20240403T142227Z
UID:10001536-1713484800-1713571199@acprosite.com
SUMMARY:CE Jacksonville: Parts & Supplies Social
DESCRIPTION:Meet our Featured Partner! Snacks and refreshments will be served. \nParts & Supplies Social Featured Product Vendor: RGF Environmental Group\, Inc.
URL:https://acprosite.com/event/ce-jacksonville-parts-supplies-social-9/
LOCATION:CE Jacksonville\, 8691 Western Way\, Jacksonville\, Florida\, 32256
CATEGORIES:North Florida
END:VEVENT
BEGIN:VEVENT
DTSTART;VALUE=DATE:20240419
DTEND;VALUE=DATE:20240420
DTSTAMP:20260419T124644
CREATED:20240403T142308Z
LAST-MODIFIED:20240403T142308Z
UID:10001537-1713484800-1713571199@acprosite.com
SUMMARY:CE Orange Park: Parts & Supplies Social
DESCRIPTION:Meet our Featured Partner! Snacks and refreshments will be served. \nParts & Supplies Social Featured Product Vendor: RGF Environmental Group\, Inc.
URL:https://acprosite.com/event/ce-orange-park-parts-supplies-social-9/
LOCATION:CE Orange Park\, 6255 Lake Gray Blvd.\, Suite 7\, Orange Park\, Florida\, 32244
CATEGORIES:North Florida
END:VEVENT
BEGIN:VEVENT
DTSTART;VALUE=DATE:20240419
DTEND;VALUE=DATE:20240420
DTSTAMP:20260419T124644
CREATED:20240403T142401Z
LAST-MODIFIED:20240403T142436Z
UID:10001538-1713484800-1713571199@acprosite.com
SUMMARY:CE Tallahassee: Parts & Supplies Social
DESCRIPTION:Meet our Featured Partner! Snacks and refreshments will be served. \nParts & Supplies Social Featured Product Vendor: RGF Environmental Group\, Inc.
URL:https://acprosite.com/event/ce-tallahassee-parts-supplies-social-9/
LOCATION:CE Tallahassee\, 3790 Hartsfield Road\, Tallahassee\, Florida\, 32303
CATEGORIES:Northwest Florida
END:VEVENT
BEGIN:VEVENT
DTSTART;VALUE=DATE:20240419
DTEND;VALUE=DATE:20240420
DTSTAMP:20260419T124644
CREATED:20240403T142521Z
LAST-MODIFIED:20240403T142521Z
UID:10001539-1713484800-1713571199@acprosite.com
SUMMARY:CE Gainesville: Parts & Supplies Social
DESCRIPTION:Meet our Featured Partner! Snacks and refreshments will be served. \nParts & Supplies Social Featured Product Vendor: RGF Environmental Group\, Inc.
URL:https://acprosite.com/event/ce-gainesville-parts-supplies-social-9/
LOCATION:CE Gainesville\, 5401 NW 13th Street\, Suite A\, Gainesville\, Florida\, 32653
CATEGORIES:North Florida
END:VEVENT
BEGIN:VEVENT
DTSTART;VALUE=DATE:20240419
DTEND;VALUE=DATE:20240420
DTSTAMP:20260419T124644
CREATED:20240403T142602Z
LAST-MODIFIED:20240403T142602Z
UID:10001540-1713484800-1713571199@acprosite.com
SUMMARY:CE Ocala: Parts & Supplies Social
DESCRIPTION:Meet our Featured Partner! Snacks and refreshments will be served. \nParts & Supplies Social Featured Product Vendor: RGF Environmental Group\, Inc.
URL:https://acprosite.com/event/ce-ocala-parts-supplies-social-9/
LOCATION:CE Ocala\, 1120 SW 12th Street\, Suite 100\, Ocala\, Florida\, 34471
CATEGORIES:North Florida
END:VEVENT
END:VCALENDAR