BEGIN:VCALENDAR
VERSION:2.0
PRODID:-//ACprosite - ECPv6.15.20//NONSGML v1.0//EN
CALSCALE:GREGORIAN
METHOD:PUBLISH
X-WR-CALNAME:ACprosite
X-ORIGINAL-URL:https://acprosite.com
X-WR-CALDESC:Events for ACprosite
REFRESH-INTERVAL;VALUE=DURATION:PT1H
X-Robots-Tag:noindex
X-PUBLISHED-TTL:PT1H
BEGIN:VTIMEZONE
TZID:America/New_York
BEGIN:DAYLIGHT
TZOFFSETFROM:-0500
TZOFFSETTO:-0400
TZNAME:EDT
DTSTART:20220313T070000
END:DAYLIGHT
BEGIN:STANDARD
TZOFFSETFROM:-0400
TZOFFSETTO:-0500
TZNAME:EST
DTSTART:20221106T060000
END:STANDARD
BEGIN:DAYLIGHT
TZOFFSETFROM:-0500
TZOFFSETTO:-0400
TZNAME:EDT
DTSTART:20230312T070000
END:DAYLIGHT
BEGIN:STANDARD
TZOFFSETFROM:-0400
TZOFFSETTO:-0500
TZNAME:EST
DTSTART:20231105T060000
END:STANDARD
BEGIN:DAYLIGHT
TZOFFSETFROM:-0500
TZOFFSETTO:-0400
TZNAME:EDT
DTSTART:20240310T070000
END:DAYLIGHT
BEGIN:STANDARD
TZOFFSETFROM:-0400
TZOFFSETTO:-0500
TZNAME:EST
DTSTART:20241103T060000
END:STANDARD
END:VTIMEZONE
BEGIN:VEVENT
DTSTART;TZID=America/New_York:20231006T083000
DTEND;TZID=America/New_York:20231006T143000
DTSTAMP:20260422T130057
CREATED:20230825T182948Z
LAST-MODIFIED:20230913T154926Z
UID:10000460-1696581000-1696602600@acprosite.com
SUMMARY:ACCA/CF Oviedo: 5th Annual ACCA/CF Golf Tournament
DESCRIPTION:When: Fri\, October 6\, 8:30am – 2:30pm\nWhere: Twin Rivers Golf Club\, 2100 Ekana Dr\, Oviedo\, FL 32765\, USA (map)\nDescription: Click here to Sign UP by 9/29/23\nClick Here for Notice \nJoin us for our 5th Annual Golf Tournament on 10/6/23! \nGreat Day\, Fun and Interacting with our Sponsors! \nThanks!\nPaula\nmore details» copy to my calendar
URL:https://acprosite.com/event/acca-cf-5th-annual-acca-cf-golf-tournament/
LOCATION:Ovledo\, 2100 Ekana Dr\, Ocledo\, Florida\, 32765
CATEGORIES:East Central Florida
END:VEVENT
BEGIN:VEVENT
DTSTART;TZID=America/New_York:20231005T090000
DTEND;TZID=America/New_York:20231005T120000
DTSTAMP:20260422T130057
CREATED:20230914T153008Z
LAST-MODIFIED:20230914T153008Z
UID:10000596-1696496400-1696507200@acprosite.com
SUMMARY:Ferguson Orlando: Target Sales HVAC Counter Day
DESCRIPTION:Your local Ferguson is now stocking HVAC equipment and supplies. Come by the branch to meet representatives from Target Sales\, who represents Shurtape\, RectorSeal\, Royal Metal Products\, Panasonic and more!
URL:https://acprosite.com/event/ferguson-orlando-target-sales-hvac-counter-day/
LOCATION:Ferguson Orlando\, 3401 WD Judge Drive Suite 150\, Orlando\, Florida\, 32808
CATEGORIES:East Central Florida
END:VEVENT
BEGIN:VEVENT
DTSTART;TZID=America/New_York:20231005T080000
DTEND;TZID=America/New_York:20231005T120000
DTSTAMP:20260422T130057
CREATED:20230914T153540Z
LAST-MODIFIED:20230914T153604Z
UID:10000597-1696492800-1696507200@acprosite.com
SUMMARY:Ferguson Tampa: Endeavor Inverter Class
DESCRIPTION:Please join us from 8:00 a.m. – 12:00 p.m. for a Endeavor Mid and High-Tier Inverter class where you will learn the unique features of these systems including controls that switch from slow speed inverter control to line voltage for 100% capacity of the new rotary compressors. We will cover the setup using the Bluetooth from your phone\, plus you can learn about remote diagnostics. Breakfast will be provided. \nThe class will include:\n• Equipment Overview\, Nomenclature & Installation\n• Outdoor Components\, Controls\, Drives\, Compressors & Start-up\n• Indoor Components\, Air Handlers & Operation\n• Installation Processes\, Wiring\n• Start Up & Commissioning\, Contractor App & EcoNet Setup\n• Sequence of Operation\n• Troubleshooting
URL:https://acprosite.com/event/ferguson-tampa-endeavor-inverter-class/
LOCATION:Ferguson Tampa\, 10639 Crossroads Commerce Blvd\, Tampa\, Florida\, 33610
CATEGORIES:West Central Florida
END:VEVENT
BEGIN:VEVENT
DTSTART;TZID=America/New_York:20231005T073000
DTEND;TZID=America/New_York:20231005T133000
DTSTAMP:20260422T130057
CREATED:20230515T153714Z
LAST-MODIFIED:20230912T145903Z
UID:10000054-1696491000-1696512600@acprosite.com
SUMMARY:MACCA MEETING SARASOTA: BRINGING FRACCA...DIRECT TO THE HVAC CONTRACTORS
DESCRIPTION:  \n\n\n\n\nFRACCA 2023 How is FRACCA Supporting the Contractor?\n\n\n\nMeet with Industry Leaders to keep YOUR Company AHEAD OF THE PACK when it comes to business growth\, workforce training\, and code compliance. Bringing FRACCA…DIRECT to the HVAC CONTRACTORS\nThursday\, October 5\, 2023\n7:30 AM – 1:30 PM\nLocation:  7425 16th St. E Sarasota\, FL 34243\n\n \nSCHEDULE:\n7:30 AM  Registration\n8:00 AM  Welcome\n8:15 AM  Federated (1 CEU WC  0610555 FRACCA Basic Workman’s Comp)\n9:30 AM  Adams & Reese (1 CEU R&L  0613630 Top 5 Employment Issues)\n10:45 AM  Adams & Reese (1 CEU BSP  0613104 Wage & Hour Potential Pitfalls)\n12:00 PM  Lunch + FRACCA\n1:00 PM  Dismiss \nMembers – $125 / Non-Members – $150\n \nMACCA Members $50 OFF If You Bring a Contractor Non-Member \nNon-Members $75 OFF If You Join MACCA Today \n(Non-Members must be paid in advance in order to attend) \n\n\nEvent Sponsorship Available – $300 \nIncludes two attendees\, exposure on website\, opportunity to put materials on tables and opportunity to speak for five minutes.  Limited to one sponsor per event – members only opportunity
URL:https://acprosite.com/event/macca-meeting-bringing-fracca-direct-to-the-hvac-contractors/
LOCATION:North Port\, 5301 Heron Creek Blvd\, North Port\, Florida\, 34287
CATEGORIES:Southwest Florida
END:VEVENT
BEGIN:VEVENT
DTSTART;TZID=America/New_York:20231004T173000
DTEND;TZID=America/New_York:20231004T203000
DTSTAMP:20260422T130057
CREATED:20230606T145045Z
LAST-MODIFIED:20230705T131938Z
UID:10000108-1696440600-1696451400@acprosite.com
SUMMARY:SFACCA - CONTRACTOR CEU Dinner Program (CONDENSATION)
DESCRIPTION:FRACCA and SFACCA are hosting an ALL – DAY CEU Day! Open to all HVAC techs and contractors! \n\n\nBy South Florida Air Conditioning Contractor Association\n\n\n\nRefund Policy\n\nContact the organizer to request a refund.\nEventbrite’s fee is nonrefundable.\n\n\n\n\nAbout this event\n\n\n3 hours\nMobile eTicket\n\n\n\n\n\nFRACCA and SFACCA are hosting an ALL-DAY CEU Day on Wed. October 4\, 2023.\nNATE Training for Technicians 8:30am – 11:30am (Grab & Go Lunch at 12 noon)\nCONTRACTOR CEUs 1:30pm – 4:30pm ( Three sessions offered with 1 CEU per session)\n\n$125 for SFACA Members & $150 for Non-Members. Registration for #`1 – 3 contact paula.huband@fraccaair.com \n\nCONTRACTOR CEU Dinner (1 CEU – Condensation) For more information on the Contractor CEU dinner\, contact director.sfaca@gmail.com\n\n\n\n\n\n  \n\n\n\n\nPrice – $45 – $200 \nGet tickets here
URL:https://acprosite.com/event/sfacca-contractor-ceu-dinner-program-condensation/
LOCATION:SFACCA DOL Oakland Park\, Funky Buddha Brewery 1201 Northeast 38th Street\, Oakland Park\, Florida\, 33334
CATEGORIES:Southeast Florida
END:VEVENT
BEGIN:VEVENT
DTSTART;TZID=America/New_York:20231004T080000
DTEND;TZID=America/New_York:20231004T120000
DTSTAMP:20260422T130057
CREATED:20230914T152648Z
LAST-MODIFIED:20230914T175627Z
UID:10000595-1696406400-1696420800@acprosite.com
SUMMARY:Ferguson Orlando: Endeavor Inverter Class
DESCRIPTION:Please join us from 8:00 a.m. – 12:00 p.m. for a Endeavor Mid and High-Tier Inverter class where you will learn the unique features of these systems including controls that switch from slow speed inverter control to line voltage for 100% capacity of the new rotary compressors. We will cover the setup using the Bluetooth from your phone\, plus you can learn about remote diagnostics. Breakfast will be provided. \nThe class will include:\n• Equipment Overview\, Nomenclature & Installation\n• Outdoor Components\, Controls\, Drives\, Compressors & Start-up\n• Indoor Components\, Air Handlers & Operation\n• Installation Processes\, Wiring\n• Start Up & Commissioning\, Contractor App & EcoNet Setup\n• Sequence of Operation\n• Troubleshooting
URL:https://acprosite.com/event/ferguson-orlando-endeavor-inverter-class/
LOCATION:Ferguson Orlando Judge Dr.\, 3401 WD Judge Dr.\, Ste. 150\, Orlando\, Florida\, 32808
CATEGORIES:East Central Florida
END:VEVENT
BEGIN:VEVENT
DTSTART;TZID=America/New_York:20231004T080000
DTEND;TZID=America/New_York:20231004T110000
DTSTAMP:20260422T130057
CREATED:20230914T152313Z
LAST-MODIFIED:20230914T152313Z
UID:10000594-1696406400-1696417200@acprosite.com
SUMMARY:Ferguson Doral: Fresh-Aire UV & Bosch Counter Day
DESCRIPTION:Please join us at our Doral location on Wednesday\, October 4 from 8:00 a.m. to 11:00 a.m. for a counter day with Bosch and Fresh-Aire UV. \n\nVisit with the Bosch and Fresh-Aire UV representatives\nLearn about new products\nEnjoy refreshments on us!
URL:https://acprosite.com/event/ferguson-doral-fresh-aire-uv-bosch-counter-day/
LOCATION:Ferguson Doral\, 8303 NW 27th St.\, Ste. 21\, Doral\, Florida\, 33122
CATEGORIES:Southeast Florida
END:VEVENT
BEGIN:VEVENT
DTSTART;TZID=America/New_York:20231003T080000
DTEND;TZID=America/New_York:20231003T120000
DTSTAMP:20260422T130058
CREATED:20230914T151947Z
LAST-MODIFIED:20230914T151947Z
UID:10000593-1696320000-1696334400@acprosite.com
SUMMARY:Ferguson Jacksonville: Endeavor Inverter Class
DESCRIPTION:Please join us from 8:00 a.m. – 12:00 p.m. for a Endeavor Mid and High-Tier Inverter class where you will learn the unique features of these systems including controls that switch from slow speed inverter control to line voltage for 100% capacity of the new rotary compressors. We will cover the setup using the Bluetooth from your phone\, plus you can learn about remote diagnostics. Breakfast will be provided. \nThe class will include:\n• Equipment Overview\, Nomenclature & Installation\n• Outdoor Components\, Controls\, Drives\, Compressors & Start-up\n• Indoor Components\, Air Handlers & Operation\n• Installation Processes\, Wiring\n• Start Up & Commissioning\, Contractor App & EcoNet Setup\n• Sequence of Operation\n• Troubleshooting
URL:https://acprosite.com/event/ferguson-jacksonville-endeavor-inverter-class/
LOCATION:Ferguson Jacksonville\, 7380 Philips Hwy.\, Ste. 201\, Jacksonville\, Florida\, 32256
CATEGORIES:North Florida
END:VEVENT
BEGIN:VEVENT
DTSTART;TZID=America/New_York:20231003T070000
DTEND;TZID=America/New_York:20231003T120000
DTSTAMP:20260422T130058
CREATED:20230929T142333Z
LAST-MODIFIED:20230929T142333Z
UID:10000608-1696316400-1696334400@acprosite.com
SUMMARY:Baker Florida Cooling Tampa: Counter Day
DESCRIPTION:Enjoy breakfast and check out new products from Ultravation.\nCompany representatives will be on-site to demo products.
URL:https://acprosite.com/event/baker-florida-cooling-tampa-counter-day/
LOCATION:Baker Tampa Branch 273\, 205 Kelsey Lane Suite C\, Tampa\, Florida\, 33619
CATEGORIES:West Central Florida
END:VEVENT
BEGIN:VEVENT
DTSTART;TZID=America/New_York:20230929T170000
DTEND;TZID=America/New_York:20230929T210000
DTSTAMP:20260422T130058
CREATED:20230713T151215Z
LAST-MODIFIED:20230713T151215Z
UID:10000237-1696006800-1696021200@acprosite.com
SUMMARY:RACCA Clearwater: New Membership Drive & Fall Social Event 2023
DESCRIPTION:Come and get information on being a Member (applications will be available). Socialize with RACCA’s Board Members\, Contractor Members & Associate Members. \n\nWhy Join RACCA?\nDo you consider yourself a professional in your industry?\nAs an individual\, are you frustrated with all of the legal entanglements and regulatory roadblocks that constantly obstruct your business activity?\nAre you constantly undecided on how or where to find continuing education opportunities for yourself and your employees?\nAre you tired of learning about new rules and laws after you have already been cited for violations?\nWould you like to add your voice and concerns to a larger group\, committed to unity and strength in numbers?\nWould you like the cost savings and benefits enjoyed by corporations much larger than your own?\nDo you want to do something about unethical or criminal business practices that tarnish the industry image?\nDo you want to protect your license and competitive base from the illegal erosion of unlicensed practitioners?\nAre you interested in sharing with\, and learning from like-minded professionals?\nDo you really want to be successful and at the same time make a positive contribution to the industry….your livelihood?\n\nIf you answered yes to these questions\, it’s time to get off the fence and join RACCA. \nClick HERE to RSVP – Free
URL:https://acprosite.com/event/racca-clearwater-new-membership-drive-fall-social-event-2023/
LOCATION:Clearwater/Mugs Sports Bar & Grill\, 13563 Icot Boulevard\, Clearwater\, Florida\, 33760
CATEGORIES:West Central Florida
END:VEVENT
BEGIN:VEVENT
DTSTART;VALUE=DATE:20230929
DTEND;VALUE=DATE:20230930
DTSTAMP:20260422T130058
CREATED:20230906T142925Z
LAST-MODIFIED:20230906T142925Z
UID:10000584-1695974400-1696006800@acprosite.com
SUMMARY:CE St. Augustine : 2 Day Tent Sale! September 28th & 29th
DESCRIPTION:Closeouts\, clearance items\, scratch and dent tent blowout! Plus\, food & refreshments!
URL:https://acprosite.com/event/ce-st-augustine-2-day-tent-sale-september-28th-29th/2023-09-29/
LOCATION:CE St Augustine\, 40 Dobbs Business Circle\, St Augustine\, Florida\, 32086
CATEGORIES:North Florida
END:VEVENT
BEGIN:VEVENT
DTSTART;VALUE=DATE:20230929
DTEND;VALUE=DATE:20230930
DTSTAMP:20260422T130058
CREATED:20230906T142722Z
LAST-MODIFIED:20230906T142817Z
UID:10000582-1695974400-1696006800@acprosite.com
SUMMARY:CE Orlando Vista Reserve: 2 Day Tent Sale! September 28th & 29th
DESCRIPTION:Closeouts\, clearance items\, scratch and dent tent blowout! Plus\, food & refreshments!
URL:https://acprosite.com/event/ce-wesley-chapel-2-day-tent-sale-september-28th-29th/2023-09-29/
LOCATION:CE Orlando Vista Reserve\, 8050 Vista Reserve Blvd.\, Suite 2200\, Orlando\, Florida\, 32829
CATEGORIES:East Central Florida
END:VEVENT
BEGIN:VEVENT
DTSTART;VALUE=DATE:20230929
DTEND;VALUE=DATE:20230930
DTSTAMP:20260422T130058
CREATED:20230906T142640Z
LAST-MODIFIED:20230906T142640Z
UID:10000580-1695974400-1696006800@acprosite.com
SUMMARY:CE Medley: 2 Day Tent Sale! September 28th & 29th
DESCRIPTION:Closeouts\, clearance items\, scratch and dent tent blowout! Plus\, food & refreshments!
URL:https://acprosite.com/event/ce-medley-2-day-tent-sale-september-28th-29th/2023-09-29/
LOCATION:CE Medley\, 10025 NW 116th Way\, Suite 7\, Medley\, Florida\, 33178
CATEGORIES:Southeast Florida
END:VEVENT
BEGIN:VEVENT
DTSTART;VALUE=DATE:20230929
DTEND;VALUE=DATE:20230930
DTSTAMP:20260422T130058
CREATED:20230906T142546Z
LAST-MODIFIED:20230906T142546Z
UID:10000578-1695974400-1696006800@acprosite.com
SUMMARY:CE Lakeland: 2 Day Tent Sale! September 28th & 29th
DESCRIPTION:Closeouts\, clearance items\, scratch and dent tent blowout! Plus\, food & refreshments!
URL:https://acprosite.com/event/ce-lakeland-2-day-tent-sale-september-28th-29th/2023-09-29/
LOCATION:CE Lakeland\, 3515 Reynolds Road\, Suite 1\, Lakeland\, Florida\, 33803
CATEGORIES:West Central Florida
END:VEVENT
BEGIN:VEVENT
DTSTART;VALUE=DATE:20230929
DTEND;VALUE=DATE:20230930
DTSTAMP:20260422T130058
CREATED:20230906T142459Z
LAST-MODIFIED:20230906T142459Z
UID:10000576-1695974400-1696006800@acprosite.com
SUMMARY:CE Fort Myers: 2 Day Tent Sale! September 28th & 29th
DESCRIPTION:Closeouts\, clearance items\, scratch and dent tent blowout! Plus\, food & refreshments!
URL:https://acprosite.com/event/ce-fort-myers-2-day-tent-sale-september-28th-29th/2023-09-29/
LOCATION:CE Fort Myers\, 6451 Metro Plex Dr.\, Suite 110\, Fort Myers\, Florida\, 33966
CATEGORIES:Southwest Florida
END:VEVENT
BEGIN:VEVENT
DTSTART;VALUE=DATE:20230929
DTEND;VALUE=DATE:20230930
DTSTAMP:20260422T130058
CREATED:20230906T142412Z
LAST-MODIFIED:20230906T142412Z
UID:10000574-1695974400-1696006800@acprosite.com
SUMMARY:CE Naples: 2 Day Tent Sale! September 28th & 29th
DESCRIPTION:Closeouts\, clearance items\, scratch and dent tent blowout! Plus\, food & refreshments!
URL:https://acprosite.com/event/ce-naples-2-day-tent-sale-september-28th-29th/2023-09-29/
LOCATION:CE Naples\, 129 Commerical Blvd.\, Naples\, Florida\, 34104
CATEGORIES:Southwest Florida
END:VEVENT
BEGIN:VEVENT
DTSTART;VALUE=DATE:20230929
DTEND;VALUE=DATE:20230930
DTSTAMP:20260422T130058
CREATED:20230906T142335Z
LAST-MODIFIED:20230906T142335Z
UID:10000572-1695974400-1696006800@acprosite.com
SUMMARY:CE Sarasota: 2 Day Tent Sale! September 28th & 29th
DESCRIPTION:Closeouts\, clearance items\, scratch and dent tent blowout! Plus\, food & refreshments!
URL:https://acprosite.com/event/ce-sarasota-2-day-tent-sale-september-28th-29th/2023-09-29/
LOCATION:CE Sarasota\, 6412 Parkland Drive\, Sarasota\, Florida\, 34243
CATEGORIES:Southwest Florida
END:VEVENT
BEGIN:VEVENT
DTSTART;VALUE=DATE:20230929
DTEND;VALUE=DATE:20230930
DTSTAMP:20260422T130058
CREATED:20230906T142258Z
LAST-MODIFIED:20230906T142258Z
UID:10000570-1695974400-1696006800@acprosite.com
SUMMARY:CE New Port Richey: 2 Day Tent Sale! September 28th & 29th
DESCRIPTION:Closeouts\, clearance items\, scratch and dent tent blowout! Plus\, food & refreshments!
URL:https://acprosite.com/event/ce-new-port-richey-2-day-tent-sale-september-28th-29th/2023-09-29/
LOCATION:CE New Port Richey\, 5201 Gulf Drive\, New Port Richey\, Florida\, 34652
CATEGORIES:West Central Florida
END:VEVENT
BEGIN:VEVENT
DTSTART;VALUE=DATE:20230929
DTEND;VALUE=DATE:20230930
DTSTAMP:20260422T130058
CREATED:20230906T142024Z
LAST-MODIFIED:20230906T142112Z
UID:10000568-1695974400-1696006800@acprosite.com
SUMMARY:CE Tampa: 2 Day Tent Sale! September 28th & 29th
DESCRIPTION:Closeouts\, clearance items\, scratch and dent tent blowout! Plus\, food & refreshments!
URL:https://acprosite.com/event/ce-largo-2-day-tent-sale-september-28th-29th/2023-09-29/
LOCATION:CE Tampa\, 1802 Grant Street\, Tampa\, Florida\, 33605
CATEGORIES:West Central Florida
END:VEVENT
BEGIN:VEVENT
DTSTART;VALUE=DATE:20230929
DTEND;VALUE=DATE:20230930
DTSTAMP:20260422T130058
CREATED:20230906T141953Z
LAST-MODIFIED:20230906T141953Z
UID:10000566-1695974400-1696006800@acprosite.com
SUMMARY:CE Port St. Lucie: 2 Day Tent Sale! September 28th & 29th
DESCRIPTION:Closeouts\, clearance items\, scratch and dent tent blowout! Plus\, food & refreshments!
URL:https://acprosite.com/event/ce-port-st-lucie-2-day-tent-sale-september-28th-29th/2023-09-29/
LOCATION:CE Port St. Lucie\, 663 NW Enterprise Drive\, Port St. Lucie\, Florida\, 34986
CATEGORIES:Southeast Florida
END:VEVENT
BEGIN:VEVENT
DTSTART;VALUE=DATE:20230929
DTEND;VALUE=DATE:20230930
DTSTAMP:20260422T130058
CREATED:20230906T141921Z
LAST-MODIFIED:20230906T141921Z
UID:10000564-1695974400-1696006800@acprosite.com
SUMMARY:CE Pembroke Park: 2 Day Tent Sale! September 28th & 29th
DESCRIPTION:Closeouts\, clearance items\, scratch and dent tent blowout! Plus\, food & refreshments!
URL:https://acprosite.com/event/ce-pembroke-park-2-day-tent-sale-september-28th-29th/2023-09-29/
LOCATION:CE Pembroke\, 2675 SW 34th Ave.\, Pembroke Park\, Florida
CATEGORIES:Southeast Florida
END:VEVENT
BEGIN:VEVENT
DTSTART;VALUE=DATE:20230929
DTEND;VALUE=DATE:20230930
DTSTAMP:20260422T130058
CREATED:20230906T141850Z
LAST-MODIFIED:20230906T141850Z
UID:10000562-1695974400-1696006800@acprosite.com
SUMMARY:CE Miami: 2 Day Tent Sale! September 28th & 29th
DESCRIPTION:Closeouts\, clearance items\, scratch and dent tent blowout! Plus\, food & refreshments!
URL:https://acprosite.com/event/ce-miami-2-day-tent-sale-september-28th-29th/2023-09-29/
LOCATION:CE Miami\, 15975 SW 117th Ave.\, Miami\, Florida\, 33177
CATEGORIES:Southeast Florida
END:VEVENT
BEGIN:VEVENT
DTSTART;VALUE=DATE:20230929
DTEND;VALUE=DATE:20230930
DTSTAMP:20260422T130058
CREATED:20230906T141801Z
LAST-MODIFIED:20230906T141801Z
UID:10000560-1695974400-1696006800@acprosite.com
SUMMARY:CE Pompano Beach: 2 Day Tent Sale! September 28th & 29th
DESCRIPTION:Closeouts\, clearance items\, scratch and dent tent blowout! Plus\, food & refreshments!
URL:https://acprosite.com/event/ce-pompano-beach-2-day-tent-sale-september-28th-29th/2023-09-29/
LOCATION:CE Pompano\, 1260 NE 48th Street\, Pompano Beach\, Florida\, 33064
CATEGORIES:Southeast Florida
END:VEVENT
BEGIN:VEVENT
DTSTART;VALUE=DATE:20230929
DTEND;VALUE=DATE:20230930
DTSTAMP:20260422T130058
CREATED:20230906T141707Z
LAST-MODIFIED:20230906T141707Z
UID:10000558-1695974400-1696006800@acprosite.com
SUMMARY:CE West Palm Beach: 2 Day Tent Sale! September 28th & 29th
DESCRIPTION:Closeouts\, clearance items\, scratch and dent tent blowout! Plus\, food & refreshments!
URL:https://acprosite.com/event/ce-west-palm-beach-2-day-tent-sale-september-28th-29th/2023-09-29/
LOCATION:CE West Palm Beach\, 1835 Old Okeechobee Road\, West Palm Beach\, Florida\, 33409
CATEGORIES:Southeast Florida
END:VEVENT
BEGIN:VEVENT
DTSTART;VALUE=DATE:20230929
DTEND;VALUE=DATE:20230930
DTSTAMP:20260422T130058
CREATED:20230906T141616Z
LAST-MODIFIED:20230906T141616Z
UID:10000556-1695974400-1696006800@acprosite.com
SUMMARY:CE Ocala: 2 Day Tent Sale! September 28th & 29th
DESCRIPTION:Closeouts\, clearance items\, scratch and dent tent blowout! Plus\, food & refreshments!
URL:https://acprosite.com/event/ce-ocala-2-day-tent-sale-september-28th-29th/2023-09-29/
LOCATION:CE Ocala\, 1120 SW 12th Street\, Suite 100\, Ocala\, Florida\, 34471
CATEGORIES:East Central Florida
END:VEVENT
BEGIN:VEVENT
DTSTART;VALUE=DATE:20230929
DTEND;VALUE=DATE:20230930
DTSTAMP:20260422T130058
CREATED:20230906T141532Z
LAST-MODIFIED:20230906T141532Z
UID:10000554-1695974400-1696006800@acprosite.com
SUMMARY:CE Gainesville: 2 Day Tent Sale! September 28th & 29th
DESCRIPTION:Closeouts\, clearance items\, scratch and dent tent blowout! Plus\, food & refreshments!
URL:https://acprosite.com/event/ce-gainesville-2-day-tent-sale-september-28th-29th/2023-09-29/
LOCATION:CE Gainesville\, 5401 NW 13th Street\, Suite A\, Gainesville\, Florida\, 32653
CATEGORIES:North Florida
END:VEVENT
BEGIN:VEVENT
DTSTART;VALUE=DATE:20230929
DTEND;VALUE=DATE:20230930
DTSTAMP:20260422T130058
CREATED:20230906T141219Z
LAST-MODIFIED:20230906T141219Z
UID:10000552-1695974400-1696006800@acprosite.com
SUMMARY:CE Tallahassee: 2 Day Tent Sale! September 28th & 29th
DESCRIPTION:Closeouts\, clearance items\, scratch and dent tent blowout! Plus\, food & refreshments!
URL:https://acprosite.com/event/ce-tallahassee-2-day-tent-sale-september-28th-29th/2023-09-29/
LOCATION:CE Tallahassee\, 3790 Hartsfield Road\, Tallahassee\, Florida\, 32303
CATEGORIES:Northwest Florida
END:VEVENT
BEGIN:VEVENT
DTSTART;VALUE=DATE:20230929
DTEND;VALUE=DATE:20230930
DTSTAMP:20260422T130058
CREATED:20230906T140956Z
LAST-MODIFIED:20230906T140956Z
UID:10000550-1695974400-1696006800@acprosite.com
SUMMARY:CE Orange Park: 2 Day Tent Sale! September 28th & 29th
DESCRIPTION:Closeouts\, clearance items\, scratch and dent tent blowout! Plus\, food & refreshments!
URL:https://acprosite.com/event/ce-orange-park-2-day-tent-sale-september-28th-29th/2023-09-29/
LOCATION:CE Orange Park\, 6255 Lake Gray Blvd.\, Suite 7\, Orange Park\, Florida\, 32244
CATEGORIES:East Central Florida
END:VEVENT
BEGIN:VEVENT
DTSTART;VALUE=DATE:20230929
DTEND;VALUE=DATE:20230930
DTSTAMP:20260422T130058
CREATED:20230906T140918Z
LAST-MODIFIED:20230906T140918Z
UID:10000548-1695974400-1696006800@acprosite.com
SUMMARY:CE Jacksonville: 2 Day Tent Sale! September 28th & 29th
DESCRIPTION:Closeouts\, clearance items\, scratch and dent tent blowout! Plus\, food & refreshments!
URL:https://acprosite.com/event/ce-jacksonville-2-day-tent-sale-september-28th-29th/2023-09-29/
LOCATION:CE Jacksonville\, 8691 Western Way\, Jacksonville\, Florida\, 32256
CATEGORIES:North Florida
END:VEVENT
BEGIN:VEVENT
DTSTART;VALUE=DATE:20230929
DTEND;VALUE=DATE:20230930
DTSTAMP:20260422T130058
CREATED:20230906T140745Z
LAST-MODIFIED:20230906T140745Z
UID:10000546-1695974400-1696006800@acprosite.com
SUMMARY:CE Clermont: 2 Day Tent Sale! September 28th & 29th
DESCRIPTION:Closeouts\, clearance items\, scratch and dent tent blowout! Plus\, food & refreshments!
URL:https://acprosite.com/event/ce-clermont-2-day-tent-sale-september-28th-29th/2023-09-29/
LOCATION:CE Clermont\, 1227 Commons Court\, Clermont\, Florida\, 34711
CATEGORIES:East Central Florida
END:VEVENT
END:VCALENDAR