BEGIN:VCALENDAR
VERSION:2.0
PRODID:-//ACprosite - ECPv6.15.20//NONSGML v1.0//EN
CALSCALE:GREGORIAN
METHOD:PUBLISH
X-WR-CALNAME:ACprosite
X-ORIGINAL-URL:https://acprosite.com
X-WR-CALDESC:Events for ACprosite
REFRESH-INTERVAL;VALUE=DURATION:PT1H
X-Robots-Tag:noindex
X-PUBLISHED-TTL:PT1H
BEGIN:VTIMEZONE
TZID:America/New_York
BEGIN:DAYLIGHT
TZOFFSETFROM:-0500
TZOFFSETTO:-0400
TZNAME:EDT
DTSTART:20220313T070000
END:DAYLIGHT
BEGIN:STANDARD
TZOFFSETFROM:-0400
TZOFFSETTO:-0500
TZNAME:EST
DTSTART:20221106T060000
END:STANDARD
BEGIN:DAYLIGHT
TZOFFSETFROM:-0500
TZOFFSETTO:-0400
TZNAME:EDT
DTSTART:20230312T070000
END:DAYLIGHT
BEGIN:STANDARD
TZOFFSETFROM:-0400
TZOFFSETTO:-0500
TZNAME:EST
DTSTART:20231105T060000
END:STANDARD
BEGIN:DAYLIGHT
TZOFFSETFROM:-0500
TZOFFSETTO:-0400
TZNAME:EDT
DTSTART:20240310T070000
END:DAYLIGHT
BEGIN:STANDARD
TZOFFSETFROM:-0400
TZOFFSETTO:-0500
TZNAME:EST
DTSTART:20241103T060000
END:STANDARD
END:VTIMEZONE
BEGIN:VEVENT
DTSTART;TZID=America/New_York:20231114T080000
DTEND;TZID=America/New_York:20231114T130000
DTSTAMP:20260419T115124
CREATED:20230802T134600Z
LAST-MODIFIED:20230802T134600Z
UID:10000322-1699948800-1699966800@acprosite.com
SUMMARY:Baker Distributing Ft. Myers Manitowoc/KoolAire 2023 Level II Service Seminar
DESCRIPTION:You are invited to our service school hosted by Baker Distributing Company and facilitated by\nRegional Service Manager\, Manitowoc\, Inc.\nThe subjects covered will be electrical and refrigeration diagnostics as well as sequence of operations for the Indigo NXT\, Neo and KOOLAIRE machines.\nCourse qualifies for NATE credits as well as CEU for licensed contractors.\nATTENDANCE IS MANDATORY FOR YOU TO COMPLETE WARRANTY WORK ON MANITOWOC MACHINES.\nBreakfast served at 7 am\nContact Lorna Allen\, lallen@bakerdist.com 239.229.1910.\nCost : $85.
URL:https://acprosite.com/event/baker-distributing-ft-myers-manitowoc-koolaire-2023-level-ii-service-seminar/2023-11-14/
LOCATION:Ft. Myers\, 9931 Interstate Commerce Dr.\, Ft. Myers\, Florida\, 33919
CATEGORIES:Southwest Florida
END:VEVENT
BEGIN:VEVENT
DTSTART;TZID=America/New_York:20231111T070000
DTEND;TZID=America/New_York:20231111T130000
DTSTAMP:20260419T115124
CREATED:20231106T172612Z
LAST-MODIFIED:20231106T172612Z
UID:10000927-1699686000-1699707600@acprosite.com
SUMMARY:RACCA Odessa: 2023 Annual Fall Golf Tournament
DESCRIPTION:Tickets\n\n Golf Tournament – Team of Four $580.00\nGolf Tournament – Individual Ticket $165.00\nClick HERE for tickets.\n\n\n\n  \nGet out and enjoy a Day of Golf with RACCA and fellow Members of the Industry! \nTournament Schedule:\n\nSaturday 11/11/2023\, 8 AM Shotgun Start\nRegistration Starts at 7am at The Eagles Golf Club (The Lakes Course)\, 16101 Nine Eagles Dr\, Odessa\, FL 33556\n\nPricing\n\nIndividuals: $145 Early Bird Pricing\nIndividuals: $165 after 10/27/23\nTeams of Four: $580\n$5 Mulligans (2 per player)\nRaffle Tickets 2 for $5.00 or 5 for $10.00 or 12 for $20.00\n(RACCA’s Bonus Buy) 2 Mulligans & 6 Raffle Tickets for $20.00\n\nSponsorships Available\nClick here to view all available sponsorships. \n\nTournament: $1500\nLunch: $750\nBreakfast: $500\nBeverage: $400\nCart: $300\nPutting: $250\nClosest to Pin: $250\nLong Drive: $250\nTrophy: $400\nSnacks: $125\nHole: $100
URL:https://acprosite.com/event/racca-odessa-2023-annual-fall-golf-tournament/
LOCATION:Florida
CATEGORIES:West Central Florida
END:VEVENT
BEGIN:VEVENT
DTSTART;TZID=America/New_York:20231111T070000
DTEND;TZID=America/New_York:20231111T090000
DTSTAMP:20260419T115124
CREATED:20230713T143200Z
LAST-MODIFIED:20230713T143200Z
UID:10000232-1699686000-1699693200@acprosite.com
SUMMARY:RACCA Clearwater: Cars and Coffee
DESCRIPTION:RSVP Now   Free
URL:https://acprosite.com/event/racca-clearwater-cars-and-coffee-3/
LOCATION:Clearwater/Victor Distributing\, 11125 49th St. North\, Clearwater\, Florida\, 33762
CATEGORIES:West Central Florida
END:VEVENT
BEGIN:VEVENT
DTSTART;TZID=America/New_York:20231110T100000
DTEND;TZID=America/New_York:20231110T140000
DTSTAMP:20260419T115124
CREATED:20231109T115142Z
LAST-MODIFIED:20231109T115227Z
UID:10000931-1699610400-1699624800@acprosite.com
SUMMARY:Baker Distributing W Tampa Open House
DESCRIPTION:Pick up a Veterans Lives Matter shirt and raffle tickets to support the Global War on Terrorism Memorial Foundation.\nOur loyal suppliers will be donating products & all proceeds will go to the Global War on Terrorism Foundation.
URL:https://acprosite.com/event/baker-distributing-w-tampa-open-house/
LOCATION:Baker Tampa West\, 8110 Anderson Rd.\, Tampa\, FL\, 33634
CATEGORIES:West Central Florida
END:VEVENT
BEGIN:VEVENT
DTSTART;TZID=America/New_York:20231110T070000
DTEND;TZID=America/New_York:20231110T140000
DTSTAMP:20260419T115124
CREATED:20231019T170345Z
LAST-MODIFIED:20231019T170345Z
UID:10000780-1699599600-1699624800@acprosite.com
SUMMARY:Gorman Sarasota: Open House
DESCRIPTION:Gorman Company invites you to join us on November 10th for our HVAC Grand Opening and Milwaukee Day. Come enjoy the food and meet some cool vendors. \n\nCome in and enjoy:\nJB’s free oil changes for vacuum pumps\n10% off all Milwaukee items\nExclusive in store pricing on R410A (jugs and pallets)\nOther give aways
URL:https://acprosite.com/event/gorman-sarasota-open-house/
LOCATION:Sarasota\, 2217 72nd Ave East\, Sarasota\, Florida\, 34243
CATEGORIES:Southwest Florida
END:VEVENT
BEGIN:VEVENT
DTSTART;TZID=America/New_York:20231109T080000
DTEND;TZID=America/New_York:20231109T130000
DTSTAMP:20260419T115124
CREATED:20231010T172312Z
LAST-MODIFIED:20231010T172312Z
UID:10000767-1699516800-1699534800@acprosite.com
SUMMARY:Johnstone Ware Group Sanford: Ecobee Event
DESCRIPTION:Click HERE for more information.
URL:https://acprosite.com/event/johnstone-ware-group-sanford-ecobee-event/
LOCATION:Johnstone Sanford\, 4200 St. Johns Pkwy\, Sanford\, Florida\, 32771
CATEGORIES:East Central Florida
END:VEVENT
BEGIN:VEVENT
DTSTART;TZID=America/New_York:20231109T073000
DTEND;TZID=America/New_York:20231109T110000
DTSTAMP:20260419T115124
CREATED:20231012T164226Z
LAST-MODIFIED:20231012T173508Z
UID:10000770-1699515000-1699527600@acprosite.com
SUMMARY:SWACCA Ft. Myers: Understanding Compressor Failure Workshop
DESCRIPTION:Location: Trane West Florida\n10411 Meridian Center Parkway\, Ste. 130\nFt. Myers\, FL 33913 \n7:30am-11:00am\n3 NATE CEUs \nBreakfast sponsored by Trane West Florida \nThe workshop will review the operation and capacity of air conditioning compressors.\nAttendees will gain a better understanding of the manufacturing and auditing procedures\nused in the manufacturing and development of compressors. \nTopics covered: \n\nThe five mechanical failure types and the causes\nUnderstanding how true electrical failure is determined\nPreventative measures to stop compressor failure after replacement\n\nIndustry Expert Instructor:  Bob Feathers\, HVAC TAC\, Ft. Myers\, FL \nClick to download registration form HERE
URL:https://acprosite.com/event/swacca-understanding-compressor-failure-workshop/
LOCATION:Trane Ft. Myers\, 10411 Meridian Center Parkway\, Ste. 130\, Fort Myers\, Florida\, 33913
CATEGORIES:Southwest Florida
END:VEVENT
BEGIN:VEVENT
DTSTART;VALUE=DATE:20231109
DTEND;VALUE=DATE:20231110
DTSTAMP:20260419T115124
CREATED:20230828T141435Z
LAST-MODIFIED:20230913T135659Z
UID:10000461-1699488000-1699574399@acprosite.com
SUMMARY:ACCA/CF Maitland: Breakfast\, Apprenticeship Recognition
DESCRIPTION:Speaker: Scott Weidl\, Senior Director\,\nOrange Technical College – West Campus \nTime: TBD \nBreakfast & Luncheons to be held at the Maitland Civic Center \nMaitland Civic Center\, 641 Maitland Ave S\, Maitland\, FL 32751 \nClick HERE for more events or information.
URL:https://acprosite.com/event/acca-cf-breakfast-apprenticeship-recognition/
LOCATION:Maitland\, 641 Maitland Avenue S.\, Maitland\, Florida\, 32751
CATEGORIES:East Central Florida
END:VEVENT
BEGIN:VEVENT
DTSTART;TZID=America/New_York:20231108T080000
DTEND;TZID=America/New_York:20231108T120000
DTSTAMP:20260419T115124
CREATED:20231010T172020Z
LAST-MODIFIED:20231010T172020Z
UID:10000766-1699430400-1699444800@acprosite.com
SUMMARY:Johnstone Ware Group Melbourne: Google Nest Pro Counter Day
DESCRIPTION:Click HERE for more information.
URL:https://acprosite.com/event/johnstone-ware-group-melbourne-google-nest-pro-counter-day/
LOCATION:Johnstone Melbourne\, 610 Atlantis Road\, Melbourne\, Florida\, 32904
CATEGORIES:East Central Florida
END:VEVENT
BEGIN:VEVENT
DTSTART;TZID=America/New_York:20231108T070000
DTEND;TZID=America/New_York:20231108T120000
DTSTAMP:20260419T115124
CREATED:20230807T151429Z
LAST-MODIFIED:20230807T151429Z
UID:10000330-1699426800-1699444800@acprosite.com
SUMMARY:WHVACR 20th Annual Conference: “Go Bold”
DESCRIPTION:Don’t miss the Women in HVACR 20th Annual Conference! We are a national organization of women throughout the HVACR industry. \nThis event offers exceptional opportunities to grow your network and gain knowledge about the industry. \nWho attends? Field technicians. Contractors. Distributors. Suppliers. Service providers. Manufacturers. Educators. Anyone and everyone in the HVACR industry! \nVenue:\nHyatt Regency Jacksonville Riverfront\n225 E. Coastline Dr\nJacksonville\, FL 32202\nPh: 904.588.1234\nVenue website: https://www.hyatt.com/en-US/hotel/florida/hyatt-regency-jacksonville-riverfront/jaxrj?src=corp_lclb_gmb_seo_jaxrj \nEvent website: https://www.womeninhvacr.org/gobold
URL:https://acprosite.com/event/whvacr-20th-annual-conference-go-bold/2023-11-08/
LOCATION:Jacksonville\, 225 E. Coastline Dr\, Jacksonville\, Florida\, 32202
CATEGORIES:North Florida
END:VEVENT
BEGIN:VEVENT
DTSTART;TZID=America/New_York:20231107T080000
DTEND;TZID=America/New_York:20231107T110000
DTSTAMP:20260419T115124
CREATED:20231010T170959Z
LAST-MODIFIED:20231010T170959Z
UID:10000765-1699344000-1699354800@acprosite.com
SUMMARY:Johnstone Ware Group: Lee and Associates Counter Day
DESCRIPTION:Click HERE for more information.
URL:https://acprosite.com/event/johnstone-ware-group-lee-and-associates-counter-day/
LOCATION:Johnstone Ocala\, 2700 SW 3rd Pl\, Ocala\, Florida\, 34471
CATEGORIES:East Central Florida
END:VEVENT
BEGIN:VEVENT
DTSTART;TZID=America/New_York:20231107T080000
DTEND;TZID=America/New_York:20231107T080500
DTSTAMP:20260419T115124
CREATED:20231010T170503Z
LAST-MODIFIED:20231010T170503Z
UID:10000764-1699344000-1699344300@acprosite.com
SUMMARY:Johnstone Ware Tallahassee: Ecobee Event
DESCRIPTION:For more information on event click HERE
URL:https://acprosite.com/event/johnstone-ware-tallahassee-ecobee-event/
LOCATION:Johnstone Tallahassee\, 2929 Hartsfield Rd.\, Tallahassee\, Florida\, 32303
CATEGORIES:Northwest Florida
END:VEVENT
BEGIN:VEVENT
DTSTART;TZID=America/New_York:20231107T060000
DTEND;TZID=America/New_York:20231107T210000
DTSTAMP:20260419T115124
CREATED:20230807T151429Z
LAST-MODIFIED:20230807T151429Z
UID:10000329-1699336800-1699390800@acprosite.com
SUMMARY:WHVACR 20th Annual Conference: “Go Bold”
DESCRIPTION:Don’t miss the Women in HVACR 20th Annual Conference! We are a national organization of women throughout the HVACR industry. \nThis event offers exceptional opportunities to grow your network and gain knowledge about the industry. \nWho attends? Field technicians. Contractors. Distributors. Suppliers. Service providers. Manufacturers. Educators. Anyone and everyone in the HVACR industry! \nVenue:\nHyatt Regency Jacksonville Riverfront\n225 E. Coastline Dr\nJacksonville\, FL 32202\nPh: 904.588.1234\nVenue website: https://www.hyatt.com/en-US/hotel/florida/hyatt-regency-jacksonville-riverfront/jaxrj?src=corp_lclb_gmb_seo_jaxrj \nEvent website: https://www.womeninhvacr.org/gobold
URL:https://acprosite.com/event/whvacr-20th-annual-conference-go-bold/2023-11-07/
LOCATION:Jacksonville\, 225 E. Coastline Dr\, Jacksonville\, Florida\, 32202
CATEGORIES:North Florida
END:VEVENT
BEGIN:VEVENT
DTSTART;VALUE=DATE:20231107
DTEND;VALUE=DATE:20231108
DTSTAMP:20260419T115124
CREATED:20231101T165336Z
LAST-MODIFIED:20231101T165336Z
UID:10000815-1699315200-1699401599@acprosite.com
SUMMARY:CE: Morning Jolt! St. Augustine
DESCRIPTION:Come get your morning JOLT! Enjoy breakfast with the CE team!
URL:https://acprosite.com/event/ce-morning-jolt-st-augustine-4/
LOCATION:CE St Augustine\, 40 Dobbs Business Circle\, St Augustine\, Florida\, 32086
CATEGORIES:North Florida
END:VEVENT
BEGIN:VEVENT
DTSTART;VALUE=DATE:20231107
DTEND;VALUE=DATE:20231108
DTSTAMP:20260419T115124
CREATED:20231101T165258Z
LAST-MODIFIED:20231101T165258Z
UID:10000814-1699315200-1699401599@acprosite.com
SUMMARY:CE: Morning Jolt! Orlando Vista Reserve
DESCRIPTION:Come get your morning JOLT! Enjoy breakfast with the CE team!
URL:https://acprosite.com/event/ce-morning-jolt-orlando-vista-reserve-2/
LOCATION:CE Orlando Vista Reserve\, 8050 Vista Reserve Blvd.\, Suite 2200\, Orlando\, Florida\, 32829
CATEGORIES:East Central Florida
END:VEVENT
BEGIN:VEVENT
DTSTART;VALUE=DATE:20231107
DTEND;VALUE=DATE:20231108
DTSTAMP:20260419T115124
CREATED:20231101T165210Z
LAST-MODIFIED:20231101T165210Z
UID:10000813-1699315200-1699401599@acprosite.com
SUMMARY:CE: Morning Jolt! Wesley Chapel
DESCRIPTION:Come get your morning JOLT! Enjoy breakfast with the CE team!
URL:https://acprosite.com/event/ce-morning-jolt-wesley-chapel-4/
LOCATION:CE Wesley Chapel\, 30568 State Road 54\, Wesley Chapel\, Florida\, 33543
CATEGORIES:West Central Florida
END:VEVENT
BEGIN:VEVENT
DTSTART;VALUE=DATE:20231107
DTEND;VALUE=DATE:20231108
DTSTAMP:20260419T115124
CREATED:20231101T165131Z
LAST-MODIFIED:20231101T165131Z
UID:10000812-1699315200-1699401599@acprosite.com
SUMMARY:CE: Morning Jolt! Medley
DESCRIPTION:Come get your morning JOLT! Enjoy breakfast with the CE team!
URL:https://acprosite.com/event/ce-morning-jolt-medley-4/
LOCATION:CE Medley\, 10025 NW 116th Way\, Suite 7\, Medley\, Florida\, 33178
CATEGORIES:Southeast Florida
END:VEVENT
BEGIN:VEVENT
DTSTART;VALUE=DATE:20231107
DTEND;VALUE=DATE:20231108
DTSTAMP:20260419T115124
CREATED:20231101T165055Z
LAST-MODIFIED:20231101T165055Z
UID:10000811-1699315200-1699401599@acprosite.com
SUMMARY:CE: Morning Jolt! Lakeland
DESCRIPTION:Come get your morning JOLT! Enjoy breakfast with the CE team!
URL:https://acprosite.com/event/ce-morning-jolt-lakeland-4/
LOCATION:CE Lakeland\, 3515 Reynolds Road\, Suite 1\, Lakeland\, Florida\, 33803
CATEGORIES:West Central Florida
END:VEVENT
BEGIN:VEVENT
DTSTART;VALUE=DATE:20231107
DTEND;VALUE=DATE:20231108
DTSTAMP:20260419T115124
CREATED:20231101T165004Z
LAST-MODIFIED:20231101T165004Z
UID:10000810-1699315200-1699401599@acprosite.com
SUMMARY:CE: Morning Jolt! Fort Myers
DESCRIPTION:Come get your morning JOLT! Enjoy breakfast with the CE team!
URL:https://acprosite.com/event/ce-morning-jolt-fort-myers-5/
LOCATION:CE Fort Myers\, 6451 Metro Plex Dr.\, Suite 110\, Fort Myers\, Florida\, 33966
CATEGORIES:Southwest Florida
END:VEVENT
BEGIN:VEVENT
DTSTART;VALUE=DATE:20231107
DTEND;VALUE=DATE:20231108
DTSTAMP:20260419T115124
CREATED:20231101T164910Z
LAST-MODIFIED:20231101T164910Z
UID:10000809-1699315200-1699401599@acprosite.com
SUMMARY:CE: Morning Jolt! Naples
DESCRIPTION:Come get your morning JOLT! Enjoy breakfast with the CE team!
URL:https://acprosite.com/event/ce-morning-jolt-naples-4/
LOCATION:CE Naples\, 129 Commerical Blvd.\, Naples\, Florida\, 34104
CATEGORIES:Southwest Florida
END:VEVENT
BEGIN:VEVENT
DTSTART;VALUE=DATE:20231107
DTEND;VALUE=DATE:20231108
DTSTAMP:20260419T115124
CREATED:20231101T164805Z
LAST-MODIFIED:20231101T164805Z
UID:10000808-1699315200-1699401599@acprosite.com
SUMMARY:CE: Morning Jolt! Sarasota
DESCRIPTION:Come get your morning JOLT! Enjoy breakfast with the CE team!
URL:https://acprosite.com/event/ce-morning-jolt-sarasota-4/
LOCATION:CE Sarasota\, 6412 Parkland Drive\, Sarasota\, Florida\, 34243
CATEGORIES:Southwest Florida
END:VEVENT
BEGIN:VEVENT
DTSTART;VALUE=DATE:20231107
DTEND;VALUE=DATE:20231108
DTSTAMP:20260419T115124
CREATED:20231101T164650Z
LAST-MODIFIED:20231101T164650Z
UID:10000807-1699315200-1699401599@acprosite.com
SUMMARY:CE: Morning Jolt! New Port Richey
DESCRIPTION:Come get your morning JOLT! Enjoy breakfast with the CE team!
URL:https://acprosite.com/event/ce-morning-jolt-new-port-richey-4/
LOCATION:CE New Port Richey\, 5201 Gulf Drive\, New Port Richey\, Florida\, 34652
CATEGORIES:West Central Florida
END:VEVENT
BEGIN:VEVENT
DTSTART;VALUE=DATE:20231107
DTEND;VALUE=DATE:20231108
DTSTAMP:20260419T115124
CREATED:20231101T164557Z
LAST-MODIFIED:20231101T164557Z
UID:10000806-1699315200-1699401599@acprosite.com
SUMMARY:CE: Morning Jolt! Tampa
DESCRIPTION:Come get your morning JOLT! Enjoy breakfast with the CE team!
URL:https://acprosite.com/event/ce-morning-jolt-tampa-4/
LOCATION:CE Tampa\, 1802 Grant Street\, Tampa\, Florida\, 33605
CATEGORIES:West Central Florida
END:VEVENT
BEGIN:VEVENT
DTSTART;VALUE=DATE:20231107
DTEND;VALUE=DATE:20231108
DTSTAMP:20260419T115124
CREATED:20231101T164510Z
LAST-MODIFIED:20231101T164510Z
UID:10000805-1699315200-1699401599@acprosite.com
SUMMARY:CE: Morning Jolt! Largo
DESCRIPTION:Come get your morning JOLT! Enjoy breakfast with the CE team!
URL:https://acprosite.com/event/ce-morning-jolt-largo-4/
LOCATION:CE Largo\, 7370 124th Ave. North\, Largo\, Florida\, 33773
CATEGORIES:West Central Florida
END:VEVENT
BEGIN:VEVENT
DTSTART;VALUE=DATE:20231107
DTEND;VALUE=DATE:20231108
DTSTAMP:20260419T115124
CREATED:20231101T164407Z
LAST-MODIFIED:20231101T164407Z
UID:10000804-1699315200-1699401599@acprosite.com
SUMMARY:CE: Morning Jolt! Port St. Lucie
DESCRIPTION:Come get your morning JOLT! Enjoy breakfast with the CE team!
URL:https://acprosite.com/event/ce-morning-jolt-port-st-lucie-4/
LOCATION:CE Port St. Lucie\, 663 NW Enterprise Drive\, Port St. Lucie\, Florida\, 34986
CATEGORIES:Southeast Florida
END:VEVENT
BEGIN:VEVENT
DTSTART;VALUE=DATE:20231107
DTEND;VALUE=DATE:20231108
DTSTAMP:20260419T115124
CREATED:20231101T164323Z
LAST-MODIFIED:20231101T164323Z
UID:10000803-1699315200-1699401599@acprosite.com
SUMMARY:CE: Morning Jolt! Pembroke Park
DESCRIPTION:Come get your morning JOLT! Enjoy breakfast with the CE team!
URL:https://acprosite.com/event/ce-morning-jolt-pembroke-park-4/
LOCATION:CE Pembroke\, 2675 SW 34th Ave.\, Pembroke Park\, Florida
CATEGORIES:Southeast Florida
END:VEVENT
BEGIN:VEVENT
DTSTART;VALUE=DATE:20231107
DTEND;VALUE=DATE:20231108
DTSTAMP:20260419T115124
CREATED:20231101T162223Z
LAST-MODIFIED:20231101T162223Z
UID:10000802-1699315200-1699401599@acprosite.com
SUMMARY:CE: Morning Jolt! Miami
DESCRIPTION:Come get your morning JOLT! Enjoy breakfast with the CE team!
URL:https://acprosite.com/event/ce-morning-jolt-miami-4/
LOCATION:CE Miami\, 15975 SW 117th Ave.\, Miami\, Florida\, 33177
CATEGORIES:Southeast Florida
END:VEVENT
BEGIN:VEVENT
DTSTART;VALUE=DATE:20231107
DTEND;VALUE=DATE:20231108
DTSTAMP:20260419T115124
CREATED:20231101T162117Z
LAST-MODIFIED:20231101T162117Z
UID:10000801-1699315200-1699401599@acprosite.com
SUMMARY:CE: Morning Jolt! Pompano Beach
DESCRIPTION:Come get your morning JOLT! Enjoy breakfast with the CE team!
URL:https://acprosite.com/event/ce-morning-jolt-pompano-beach-4/
LOCATION:CE Pompano\, 1260 NE 48th Street\, Pompano Beach\, Florida\, 33064
CATEGORIES:Southeast Florida
END:VEVENT
BEGIN:VEVENT
DTSTART;VALUE=DATE:20231107
DTEND;VALUE=DATE:20231108
DTSTAMP:20260419T115124
CREATED:20231101T162041Z
LAST-MODIFIED:20231101T162041Z
UID:10000800-1699315200-1699401599@acprosite.com
SUMMARY:CE: Morning Jolt! West Palm Beach
DESCRIPTION:Come get your morning JOLT! Enjoy breakfast with the CE team!
URL:https://acprosite.com/event/ce-morning-jolt-west-palm-beach-4/
LOCATION:CE West Palm Beach\, 1835 Old Okeechobee Road\, West Palm Beach\, Florida\, 33409
CATEGORIES:Southeast Florida
END:VEVENT
BEGIN:VEVENT
DTSTART;VALUE=DATE:20231107
DTEND;VALUE=DATE:20231108
DTSTAMP:20260419T115124
CREATED:20231101T161952Z
LAST-MODIFIED:20231101T161952Z
UID:10000799-1699315200-1699401599@acprosite.com
SUMMARY:CE: Morning Jolt! Ocala
DESCRIPTION:Come get your morning JOLT! Enjoy breakfast with the CE team!
URL:https://acprosite.com/event/ce-morning-jolt-ocala-4/
LOCATION:CE Ocala\, 1120 SW 12th Street\, Suite 100\, Ocala\, Florida\, 34471
CATEGORIES:North Florida
END:VEVENT
END:VCALENDAR