BEGIN:VCALENDAR
VERSION:2.0
PRODID:-//ACprosite - ECPv6.15.20//NONSGML v1.0//EN
CALSCALE:GREGORIAN
METHOD:PUBLISH
X-WR-CALNAME:ACprosite
X-ORIGINAL-URL:https://acprosite.com
X-WR-CALDESC:Events for ACprosite
REFRESH-INTERVAL;VALUE=DURATION:PT1H
X-Robots-Tag:noindex
X-PUBLISHED-TTL:PT1H
BEGIN:VTIMEZONE
TZID:America/New_York
BEGIN:DAYLIGHT
TZOFFSETFROM:-0500
TZOFFSETTO:-0400
TZNAME:EDT
DTSTART:20240310T070000
END:DAYLIGHT
BEGIN:STANDARD
TZOFFSETFROM:-0400
TZOFFSETTO:-0500
TZNAME:EST
DTSTART:20241103T060000
END:STANDARD
BEGIN:DAYLIGHT
TZOFFSETFROM:-0500
TZOFFSETTO:-0400
TZNAME:EDT
DTSTART:20250309T070000
END:DAYLIGHT
BEGIN:STANDARD
TZOFFSETFROM:-0400
TZOFFSETTO:-0500
TZNAME:EST
DTSTART:20251102T060000
END:STANDARD
BEGIN:DAYLIGHT
TZOFFSETFROM:-0500
TZOFFSETTO:-0400
TZNAME:EDT
DTSTART:20260308T070000
END:DAYLIGHT
BEGIN:STANDARD
TZOFFSETFROM:-0400
TZOFFSETTO:-0500
TZNAME:EST
DTSTART:20261101T060000
END:STANDARD
END:VTIMEZONE
BEGIN:VEVENT
DTSTART;TZID=America/New_York:20250501T080000
DTEND;TZID=America/New_York:20250501T170000
DTSTAMP:20260422T225602
CREATED:20250501T135221Z
LAST-MODIFIED:20250501T135221Z
UID:10003037-1746086400-1746118800@acprosite.com
SUMMARY:SFACCA Ft. Lauderdale: Inspector Night
DESCRIPTION:The South Florida Air Conditioning Contractor’s Association welcomes city and county inspectors for a panel discussion on new codes\, pressing issues and Q & A \nThis is POPULAR event and SELLS OUT QUICKLY! \nVendor tables available! \nClick HERE for tickets.
URL:https://acprosite.com/event/sfacca-ft-lauderdale-inspector-night/
LOCATION:Funky Buddha Brewery\, 1201 Northeast 38th Street\, Fort Lauderdale\, Florida\, 33334
CATEGORIES:Southeast Florida
END:VEVENT
BEGIN:VEVENT
DTSTART;TZID=America/New_York:20250501T080000
DTEND;TZID=America/New_York:20250501T100000
DTSTAMP:20260422T225602
CREATED:20250428T160230Z
LAST-MODIFIED:20250428T160230Z
UID:10003029-1746086400-1746093600@acprosite.com
SUMMARY:Baker Distributing Tallahassee: New Refrigerant Training
DESCRIPTION:THIS COURSE WILL COVER: \n\nIntroduction to A2L in Refrigerant Changes\nMitigation Details\nLeak Detection\nNext Generation Equipment\nA2L changes on new BOHN equipment\n\n 
URL:https://acprosite.com/event/baker-distributing-tallahassee-new-refrigerant-training/
LOCATION:Baker Tallahassee\, 132-2 Hamilton Park Dr.\, Tallahassee\, Florida\, 32304
CATEGORIES:Northwest Florida
END:VEVENT
BEGIN:VEVENT
DTSTART;VALUE=DATE:20250501
DTEND;VALUE=DATE:20250502
DTSTAMP:20260422T225602
CREATED:20250422T142800Z
LAST-MODIFIED:20250422T142811Z
UID:10003003-1746057600-1746143999@acprosite.com
SUMMARY:Johnstone Supply Jacksonville: Open House
DESCRIPTION:Training – Delicious BBQ – Over 30 Representatives – Terrific Door Prizes & Give-aways \nEach event will feature a specialized training class from 10:00 to 11:30 AM\, providing valuable insights and updates for attendees. \nTrue to tradition\, Hill’s Bar-B-Que will be on hand to cater delicious lunches from 11:00 AM to 1:00 PM.
URL:https://acprosite.com/event/johnstone-supply-jacksonville-open-house/
LOCATION:Johnstone Supply Jacksonville Downtown\, 500 Park Street\, Jacksonville\, Florida\, 32204
CATEGORIES:North Florida
END:VEVENT
BEGIN:VEVENT
DTSTART;TZID=America/New_York:20250430T080000
DTEND;TZID=America/New_York:20250430T100000
DTSTAMP:20260422T225602
CREATED:20250428T175618Z
LAST-MODIFIED:20250428T175618Z
UID:10003032-1746000000-1746007200@acprosite.com
SUMMARY:Baker Distributing Vero Beach: Counter Day
DESCRIPTION:Join us for an exciting Counter Day featuring Klein Tools! \nA company representative will be on-site to demo new products and answer questions. \n 
URL:https://acprosite.com/event/baker-distributing-vero-beach-counter-day-2/
LOCATION:Baker Vero Beach\, 898 9th Place\, Vero Beach\, Florida\, 32960
CATEGORIES:East Central Florida
END:VEVENT
BEGIN:VEVENT
DTSTART;TZID=America/New_York:20250430T080000
DTEND;TZID=America/New_York:20250430T100000
DTSTAMP:20260422T225602
CREATED:20250422T135645Z
LAST-MODIFIED:20250422T135645Z
UID:10002999-1746000000-1746007200@acprosite.com
SUMMARY:Baker Distributing Pensacola: New Refrigerant Training
DESCRIPTION:THIS COURSE WILL COVER: \n\nIntroduction to A2L in Refrigerant Changes\nMitigation Details\nLeak Detection\nNext Generation Equipment\nA2L changes on new BOHN equipment
URL:https://acprosite.com/event/baker-distributing-pensacola-new-refrigerant-training-3/
LOCATION:Baker Pensacola\, 4308 North Palafox Street\, Pensacola\, Florida\, 32505
CATEGORIES:Northwest Florida
END:VEVENT
BEGIN:VEVENT
DTSTART;TZID=America/New_York:20250429T110000
DTEND;TZID=America/New_York:20250429T140000
DTSTAMP:20260422T225602
CREATED:20250428T155822Z
LAST-MODIFIED:20250428T155840Z
UID:10003028-1745924400-1745935200@acprosite.com
SUMMARY:Baker Distributing Sebring: Vendor Day
DESCRIPTION:Join us for an exciting Vendor Day at Baker Distributing Sebring! \nDiscover top product lines from Rectorseal and Fieldpiece. This is a fantastic opportunity to explore our premium offerings and grab some free samples. See you there!
URL:https://acprosite.com/event/baker-distributing-sebring-vendor-day/
LOCATION:Baker Sebring\, 1100 Industrial Way\, Sebring\, Florida\, 33870
CATEGORIES:Southwest Florida
END:VEVENT
BEGIN:VEVENT
DTSTART;TZID=America/New_York:20250429T080000
DTEND;TZID=America/New_York:20250429T120000
DTSTAMP:20260422T225602
CREATED:20250410T151621Z
LAST-MODIFIED:20250410T151621Z
UID:10002998-1745913600-1745928000@acprosite.com
SUMMARY:Baker Distributing Merritt Island: Counter Day
DESCRIPTION:Join us for an exciting ICP Counter Day with TK Shelton at Baker Distributing in Merritt Island!\nICP representative TK Shelton will present the latest R454 product updates and answer your questions. Don’t miss this chance for expert insights! See you there!
URL:https://acprosite.com/event/baker-distributing-merritt-island-counter-day-2/
LOCATION:Baker Merritt Island\, 143 N. Tropical Trail\, Merritt Island\, Florida\, 32953
CATEGORIES:East Central Florida
END:VEVENT
BEGIN:VEVENT
DTSTART;TZID=America/New_York:20250429T080000
DTEND;TZID=America/New_York:20250429T100000
DTSTAMP:20260422T225602
CREATED:20250428T155339Z
LAST-MODIFIED:20250428T155339Z
UID:10003027-1745913600-1745920800@acprosite.com
SUMMARY:Baker Distributing Panama City: New Refrigerant Training
DESCRIPTION:THIS COURSE WILL COVER: \n\nIntroduction to A2L in Refrigerant Changes\nMitigation Details\nLeak Detection\nNext Generation Equipment\nA2L changes on new BOHN equipment
URL:https://acprosite.com/event/baker-distributing-panama-city-new-refrigerant-training-2/
LOCATION:Hilton Garden Inn Panama City\, 1101 US HWY 231\, Panama City\, Florida\, 32405
CATEGORIES:Northwest Florida
END:VEVENT
BEGIN:VEVENT
DTSTART;TZID=America/New_York:20250428T083000
DTEND;TZID=America/New_York:20250428T113000
DTSTAMP:20260422T225602
CREATED:20250423T141420Z
LAST-MODIFIED:20250423T141420Z
UID:10003007-1745829000-1745839800@acprosite.com
SUMMARY:Tropic Supply Sunrise: Nu-Calgon Demo Day
DESCRIPTION:Learn About Time and Money-Saving Products \nSave time and money by learning about products that improve air quality\, reduce callbacks\, and boost customer satisfaction! \nBreakfast will be provided. \n \n  \n 
URL:https://acprosite.com/event/tropic-supply-sunrise-nu-calgon-demo-day/
LOCATION:Tropic Supply T20\, 1001 Sawgrass Corporate Pkwy\, Sunrise\, Florida\, 33323
CATEGORIES:Southeast Florida
END:VEVENT
BEGIN:VEVENT
DTSTART;TZID=America/New_York:20250426T090000
DTEND;TZID=America/New_York:20250426T140000
DTSTAMP:20260422T225602
CREATED:20250409T171731Z
LAST-MODIFIED:20250409T171731Z
UID:10002993-1745658000-1745676000@acprosite.com
SUMMARY:SWACCA Nokomis: Sporting Clays Challenge
DESCRIPTION:SCHEDULE OF EVENTS\n9 a.m. – 10 a.m.      Registration \n9 a.m. – 10 a.m.      Practice Range Open / Warm Up \n9:45 a.m.                 Safety Briefing\n10:00 a.m.               Start\n12:30 p.m.               Lunch\n12:45 p.m.               Raffles Drawings and Awards  \nSOLD OUT – Single player –  Regular $225 \nIncludes tournament fees\, golf cart\, team ammo\, lunch buffet ticket\, one raffle ticket and an awards celebration \nSOLD OUT – Foursome – Regular $650\nIncludes tournament fees\, golf cart\, team ammo\, four tickets for lunch buffet\, four raffle tickets and an awards celebration \nPre- Tournament Warm- Up $30\nIncludes 10 rounds of ammo and 10 targets.  \n\nGun Raffle Tickets – 1 for $25 | 5 for $100 \nMulligans – $5/each (limit 2 – gun shells)\nWarm-Up Shots – 5 shots for $10 \nSmall Raffle Tickets – 1 for $5 / 5 for $20 \n50/50 Tickets 5 for $5 | 11 for $10\n\nRaffle tickets can be purchased in person on the day of the event. Gun raffle tickets are priced at $25 each or 5 for $100. Online ticket sales Opening Soon! \nYOU DO NOT HAVE TO BE PRESENT TO WIN!! \nTEAMS SOLD OUT! \nSPONSORSHIPS STILL AVAILABLE\, PLEASE EMAIL admin@sw-acca.org !! \n \n 
URL:https://acprosite.com/event/swacca-nokomis-sporting-clays-challenge/
LOCATION:Sarasota Trap Skeet & Clays/Knights Trail Park\, 3445 Rustic Road\, Nokomis\, Florida\, 34275
CATEGORIES:Southwest Florida
END:VEVENT
BEGIN:VEVENT
DTSTART;TZID=America/New_York:20250426T090000
DTEND;TZID=America/New_York:20250426T140000
DTSTAMP:20260422T225602
CREATED:20250314T162915Z
LAST-MODIFIED:20250314T162915Z
UID:10002964-1745658000-1745676000@acprosite.com
SUMMARY:SWACCA Nokomis: Annual Clay Shoot Gun Raffle Fundraiser
DESCRIPTION:You DO NOT have to be present to win. If your ticket is selected we will select the gun of your choice.  If that gun is no longer available\, we will make a selection for you unless otherwise noted on registration information. \nMust be 21 years old and pass a background check. \n*Transfer fee applies to out of state winners \nIF UNABLE TO ATTEND\, GUN RAFFLE TICKETS WILL NEED TO BE PAID ONLINE PRIOR TO DRAWING. RAFFLE TICKETS WILL BE AVAILABLE FOR IN-PERSON PURCHASE DAY OF THE SHOOT.  \n@Sarasota Trap Skeet & Sporting Clays\nKnights Trail Park 3445 Rustic Rd\, Nokomis  \n========================================================    \nHere is your chance to WIN one of these Great Guns! 
URL:https://acprosite.com/event/swacca-nokomis-annual-clay-shoot-gun-raffle-fundraiser/
LOCATION:Sarasota Trap Skeet & Clays/Knights Trail Park\, 3445 Rustic Road\, Nokomis\, Florida\, 34275
CATEGORIES:Southwest Florida
END:VEVENT
BEGIN:VEVENT
DTSTART;TZID=America/New_York:20250425T083000
DTEND;TZID=America/New_York:20250425T113000
DTSTAMP:20260422T225602
CREATED:20250423T140221Z
LAST-MODIFIED:20250423T140221Z
UID:10003006-1745569800-1745580600@acprosite.com
SUMMARY:Tropic Supply North-Miami: Nu-Calgon Demo Day
DESCRIPTION:Learn About Time and Money-Saving Products \nSave time and money by learning about products that improve air quality\, reduce callbacks\, and boost customer satisfaction! \nBreakfast will be provided. \n 
URL:https://acprosite.com/event/tropic-supply-north-miami-nu-calgon-demo-day/
LOCATION:Tropic T1\, 151 NE 179th Street\, Miami\, Florida\, 33162
CATEGORIES:Southeast Florida
END:VEVENT
BEGIN:VEVENT
DTSTART;TZID=America/New_York:20250425T073000
DTEND;TZID=America/New_York:20250425T113000
DTSTAMP:20260422T225602
CREATED:20250314T151447Z
LAST-MODIFIED:20250314T151447Z
UID:10002955-1745566200-1745580600@acprosite.com
SUMMARY:Johnstone Supply Brandon: RGF Counter Days
DESCRIPTION:· DISCUSS BEST PRACTICES · NEW PRODUCTS · SAMPLES · DEMONSTRATIONS · AND MORE!
URL:https://acprosite.com/event/johnstone-supply-brandon-rgf-counter-days/
LOCATION:Johnstone Supply Brandon\, 203 Kelsey Lane\, Suite A\, Tampa\, Florida\, 33619
CATEGORIES:West Central Florida
END:VEVENT
BEGIN:VEVENT
DTSTART;TZID=America/New_York:20250424T170000
DTEND;TZID=America/New_York:20250424T190000
DTSTAMP:20260422T225602
CREATED:20250314T153632Z
LAST-MODIFIED:20250314T153632Z
UID:10002959-1745514000-1745521200@acprosite.com
SUMMARY:RACCA Tampa: 2025 Social & Membership Drive
DESCRIPTION:2025 Social & Membership Drive – Hatchet Throwing at Stumpy’s Hatchet House\n\nApril 24 @ 5:00 pm – 7:00 pm\nClick HERE for tickets.\n\n\n\nExperience The Throwdown with RACCA at Stumpy’s Hatchet House! \nJoin us for our 2025 Social & Membership Drive on April 24\, 2025 from 5:00pm-7:00pm! Socialize with RACCA’s Board Members\, Contractor Members & Associate Members at this exciting event. \nRACCA’s Membership Committee will be providing you with your first drink while Federated Insurance will be providing Publix’s Party Platters through out the Event. \nNote: RACCA will provide you with one Drink Ticket. There will be a Cash Bar available for additional drinks. \nAll members of the Tampa Bay HVAC Industry are welcome to join us! \nApplications will be available to become a Contractor Member or Associate Member.
URL:https://acprosite.com/event/racca-tampa-2025-social-membership-drive/
LOCATION:Stumpy’s Hatchet House\, 13353 West Hillsborough Ave.\, Tampa\, Florida\, 33635
CATEGORIES:West Central Florida
END:VEVENT
BEGIN:VEVENT
DTSTART;TZID=America/New_York:20250424T083000
DTEND;TZID=America/New_York:20250424T113000
DTSTAMP:20260422T225602
CREATED:20250423T135205Z
LAST-MODIFIED:20250423T135223Z
UID:10003005-1745483400-1745494200@acprosite.com
SUMMARY:Tropic Supply Mid-Miami: Nu-Calgon Demo Day
DESCRIPTION:Learn About Time and Money-Saving Products \nSave time and money by learning about products that improve air quality\, reduce callbacks\, and boost customer satisfaction! \nBreakfast will be provided.
URL:https://acprosite.com/event/tropic-supply-mid-miami-nu-calgon-demo-day/
LOCATION:Tropic Supply T7\, 3770 NW 21st St\, Miami\, Florida\, 33142
CATEGORIES:Southeast Florida
END:VEVENT
BEGIN:VEVENT
DTSTART;VALUE=DATE:20250424
DTEND;VALUE=DATE:20250425
DTSTAMP:20260422T225602
CREATED:20250422T142700Z
LAST-MODIFIED:20250422T142700Z
UID:10003002-1745452800-1745539199@acprosite.com
SUMMARY:Johnstone Supply Daytona: Open House
DESCRIPTION:Training – Delicious BBQ – Over 30 Representatives – Terrific Door Prizes & Give-aways \nEach event will feature a specialized training class from 10:00 to 11:30 AM\, providing valuable insights and updates for attendees. \nTrue to tradition\, Hill’s Bar-B-Que will be on hand to cater delicious lunches from 11:00 AM to 1:00 PM.
URL:https://acprosite.com/event/johnstone-supply-daytona-open-house/
LOCATION:Johnstone Supply Daytona\, 1871 Mason Ave\, Daytona\, Florida\, 32117
CATEGORIES:East Central Florida
END:VEVENT
BEGIN:VEVENT
DTSTART;TZID=America/New_York:20250423T083000
DTEND;TZID=America/New_York:20250423T113000
DTSTAMP:20260422T225602
CREATED:20250423T133319Z
LAST-MODIFIED:20250423T133319Z
UID:10003004-1745397000-1745407800@acprosite.com
SUMMARY:Tropic Supply South Miami: Nu-Calgon Demo Day
DESCRIPTION:Learn About Time and Money-Saving Products \nSave time and money by learning about products that improve air quality\, reduce callbacks\, and boost customer satisfaction! \nBreakfast will be provided.
URL:https://acprosite.com/event/tropic-supply-south-miami-nu-calgon-demo-day/
LOCATION:Tropic Supply T3\, 10776A SW 190 St\, Miami\, Florida\, 33157\, United States
CATEGORIES:Southeast Florida
END:VEVENT
BEGIN:VEVENT
DTSTART;VALUE=DATE:20250423
DTEND;VALUE=DATE:20250424
DTSTAMP:20260422T225602
CREATED:20250422T142550Z
LAST-MODIFIED:20250422T142550Z
UID:10003001-1745366400-1745452799@acprosite.com
SUMMARY:Johnstone Supply Brandon: Open House
DESCRIPTION:Training – Delicious BBQ – Over 30 Representatives – Terrific Door Prizes & Give-aways \nEach event will feature a specialized training class from 10:00 to 11:30 AM\, providing valuable insights and updates for attendees. \nTrue to tradition\, Hill’s Bar-B-Que will be on hand to cater delicious lunches from 11:00 AM to 1:00 PM.
URL:https://acprosite.com/event/johnstone-supply-brandon-open-house/
LOCATION:Johnstone Supply Tampa\, 203 Kelsey Ln # A\, Tampa\, FL\, 33619
CATEGORIES:West Central Florida
END:VEVENT
BEGIN:VEVENT
DTSTART;VALUE=DATE:20250422
DTEND;VALUE=DATE:20250423
DTSTAMP:20260422T225602
CREATED:20250422T142310Z
LAST-MODIFIED:20250422T142310Z
UID:10003000-1745280000-1745366399@acprosite.com
SUMMARY:Johnstone Supply Deerfield Beach: Open House
DESCRIPTION:Training – Delicious BBQ – Over 30 Representatives – Terrific Door Prizes & Give-aways \nEach event will feature a specialized training class from 10:00 to 11:30 AM\, providing valuable insights and updates for attendees. \nTrue to tradition\, Hill’s Bar-B-Que will be on hand to cater delicious lunches from 11:00 AM to 1:00 PM.
URL:https://acprosite.com/event/johnstone-supply-deerfield-beach-open-house/
LOCATION:Johnstone Deerfield Beach\, 550 SW 12th Avenue Ste. 550\, Deerfield Beach\, Florida\, 33442
CATEGORIES:Southeast Florida
END:VEVENT
BEGIN:VEVENT
DTSTART;TZID=America/New_York:20250418T080000
DTEND;TZID=America/New_York:20250418T120000
DTSTAMP:20260422T225602
CREATED:20250410T150545Z
LAST-MODIFIED:20250410T152139Z
UID:10002996-1744963200-1744977600@acprosite.com
SUMMARY:Baker Distributing Orange City: Counter Day
DESCRIPTION:Join us for an exclusive ICP Counter Day at Baker Distributing in Orange  City! \nICP experts will provide an in-depth overview of the new R454B systems and address all the latest updates. Take advantage of our interactive Q&A session to get your questions answered by industry professionals. This event is a great opportunity to stay ahead of industry changes\, enhance your knowledge\, and network with peers.
URL:https://acprosite.com/event/baker-distributing-orange-city-counter-day-3/
LOCATION:Baker Orange City\, 690 E Rhode Island Ave.\, Orange City\, Florida\, 32763
CATEGORIES:East Central Florida
END:VEVENT
BEGIN:VEVENT
DTSTART;TZID=America/New_York:20250418T073000
DTEND;TZID=America/New_York:20250418T143000
DTSTAMP:20260422T225602
CREATED:20250320T163451Z
LAST-MODIFIED:20250320T163451Z
UID:10002971-1744961400-1744986600@acprosite.com
SUMMARY:Tropic Supply Naples: FloXtreme Demo Day
DESCRIPTION:Reduce Callbacks and Improve Customer Satisfaction with Floxtreme 24/7 Automatic A/C Drainline Cleaner \nWHAT YOU WILL LEARN:  \n\nHow FloXtreme will prevent system downtime by keeping A/C drain lines clear of clogs forever \nHow to install the 24/7 automatic drain cleaning system quickly and easily without the need for power or drilling \nHow to increase profitability by adding this product to every sale \n\n \n  \n 
URL:https://acprosite.com/event/tropic-supply-naples-floxtreme-demo-day/
LOCATION:Tropic Supply T10\, 4325 Domestic Ave\, Naples\, Florida\, 34104
CATEGORIES:Southwest Florida
END:VEVENT
BEGIN:VEVENT
DTSTART;TZID=America/New_York:20250417T083000
DTEND;TZID=America/New_York:20250417T120000
DTSTAMP:20260422T225602
CREATED:20250409T170727Z
LAST-MODIFIED:20250409T170727Z
UID:10002992-1744878600-1744891200@acprosite.com
SUMMARY:SFACCA Ft. Lauderdale: Breakfast & Training Front Return Teardown and ADP Product Showcase
DESCRIPTION:Our goal is to highlight the front return air handler and demonstrate how easily the blower wheel can be reached. Additionally\, we’d like to cover the new features in detail\, ensuring a comprehensive understanding of the enhancements. We’ll also take the opportunity to discuss both the ducted and shorty units\, providing a well-rounded overview of the product lineup. \nClick HERE for tickets.
URL:https://acprosite.com/event/sfacca-ft-lauderdale-breakfast-training-front-return-teardown-and-adp-product-showcase/
LOCATION:Ft. Lauderdale\, 5610 Northwest 12th Avenue #suite 206\, Ft. Lauderdale\, Florida\, 33309
CATEGORIES:Southeast Florida
END:VEVENT
BEGIN:VEVENT
DTSTART;TZID=America/New_York:20250417T080000
DTEND;TZID=America/New_York:20250417T160000
DTSTAMP:20260422T225602
CREATED:20250410T145856Z
LAST-MODIFIED:20250410T150714Z
UID:10002995-1744876800-1744905600@acprosite.com
SUMMARY:Baker Orlando: Manitowoc Training **SPANISH**
DESCRIPTION:Está invitado a nuestra escuela de servicio organizadapor Baker Distributing Company y facilitada por el Gerente Regional de Servicio de Manitowoc\, Inc. \nLos temas cubiertos incluirán diagnósticos eléctricos y de refrigeración\, así como la secuencia de operaciones para las máquinas Indigo NXT\, Neo y KOOLAIRE. \nCosto: $75 INCLUYE MANUALES TÉCNICOS\, TODO EL MATERIAL DEL CURSO Y ALMUERZ \nCONTACTO: Cesar Perez | cperez@bakerdist.com | (407 ) 649-6090 \n \n 
URL:https://acprosite.com/event/baker-orlando-manitowoc-training-spanish/
LOCATION:Hilton Garden Inn Orlando\, 6850 Westwood Blvd.\, Orlando\, Florida\, 32821
CATEGORIES:East Central Florida
END:VEVENT
BEGIN:VEVENT
DTSTART;TZID=America/New_York:20250417T080000
DTEND;TZID=America/New_York:20250417T110000
DTSTAMP:20260422T225602
CREATED:20250325T185124Z
LAST-MODIFIED:20250325T185124Z
UID:10002978-1744876800-1744887600@acprosite.com
SUMMARY:Baker Distributing Orange City: Counter Day
DESCRIPTION:Join us for Counter Day with Resideo at Baker Branch 348! \nDiscover the new FocusPro Thermostats through live demonstrations and enjoy delicious Chic-Fil-A breakfast sandwiches. Connect with our rep from Resideo\, Ademco and Honeywell. Don’t miss this informative and engaging event!
URL:https://acprosite.com/event/baker-distributing-orange-city-counter-day-2/
LOCATION:Baker Orange City\, 690 E Rhode Island Ave.\, Orange City\, Florida\, 32763
CATEGORIES:East Central Florida
END:VEVENT
BEGIN:VEVENT
DTSTART;TZID=America/New_York:20250417T073000
DTEND;TZID=America/New_York:20250417T143000
DTSTAMP:20260422T225602
CREATED:20250320T162445Z
LAST-MODIFIED:20250320T162445Z
UID:10002970-1744875000-1744900200@acprosite.com
SUMMARY:Tropic Supply Fort Myers: FloXtreme Demo Day
DESCRIPTION:Reduce Callbacks and Improve Customer Satisfaction with Floxtreme 24/7 Automatic A/C Drainline Cleaner \nWHAT YOU WILL LEARN:  \n\nHow FloXtreme will prevent system downtime by keeping A/C drain lines clear of clogs forever \nHow to install the 24/7 automatic drain cleaning system quickly and easily without the need for power or drilling \nHow to increase profitability by adding this product to every sale \n\n  \n \n 
URL:https://acprosite.com/event/tropic-supply-fort-myers-floxtreme-demo-day/
LOCATION:Tropic Supply T8\, 6450 Arc Way\, Ft. Myers\, Florida\, 33912
CATEGORIES:Southwest Florida
END:VEVENT
BEGIN:VEVENT
DTSTART;TZID=America/New_York:20250417T073000
DTEND;TZID=America/New_York:20250417T113000
DTSTAMP:20260422T225602
CREATED:20250314T151144Z
LAST-MODIFIED:20250314T151322Z
UID:10002954-1744875000-1744889400@acprosite.com
SUMMARY:Johnstone Supply Port Richey: RGF Counter Days
DESCRIPTION:· DISCUSS BEST PRACTICES · NEW PRODUCTS · SAMPLES · DEMONSTRATIONS · AND MORE!
URL:https://acprosite.com/event/johnstone-supply-port-richey-rgf-counter-days/
LOCATION:Johnstone Port Richey\, 6041 Siesta Ln STE 9\, Port Richey\, Florida\, 34668
CATEGORIES:West Central Florida
END:VEVENT
BEGIN:VEVENT
DTSTART;TZID=America/New_York:20250416T110000
DTEND;TZID=America/New_York:20250416T140000
DTSTAMP:20260422T225602
CREATED:20250320T155259Z
LAST-MODIFIED:20250320T155259Z
UID:10002969-1744801200-1744812000@acprosite.com
SUMMARY:Tropic Supply Cape Coral: FloXtreme Demo Day
DESCRIPTION:Reduce Callbacks and Improve Customer Satisfaction with Floxtreme 24/7 Automatic A/C Drainline Cleaner \nWHAT YOU WILL LEARN:  \n\nHow FloXtreme will prevent system downtime by keeping A/C drain lines clear of clogs forever \nHow to install the 24/7 automatic drain cleaning system quickly and easily without the need for power or drilling \nHow to increase profitability by adding this product to every sale \n\n 
URL:https://acprosite.com/event/tropic-supply-cape-coral-floxtreme-demo-day/
LOCATION:Tropic Supply T11\, 785 NE 19th Pl\, Cape Coral\, Florida\, 33909
CATEGORIES:Southwest Florida
END:VEVENT
BEGIN:VEVENT
DTSTART;TZID=America/New_York:20250416T083000
DTEND;TZID=America/New_York:20250416T120000
DTSTAMP:20260422T225602
CREATED:20250409T170438Z
LAST-MODIFIED:20250409T170438Z
UID:10002991-1744792200-1744804800@acprosite.com
SUMMARY:SFACCA Miami: Breakfast & Training Front Return Teardown and ADP Product Showcase
DESCRIPTION:Our goal is to highlight the front return air handler and demonstrate how easily the blower wheel can be reached. Additionally\, we’d like to cover the new features in detail\, ensuring a comprehensive understanding of the enhancements. We’ll also take the opportunity to discuss both the ducted and shorty units\, providing a well-rounded overview of the product lineup. \nClick HERE for tickets.
URL:https://acprosite.com/event/sfacca-miami-breakfast-training-front-return-teardown-and-adp-product-showcase/
LOCATION:Miami\, 8290 Northwest 25th Street\, Miami\, Florida\, 33122
CATEGORIES:Southeast Florida
END:VEVENT
BEGIN:VEVENT
DTSTART;TZID=America/New_York:20250416T080000
DTEND;TZID=America/New_York:20250416T120000
DTSTAMP:20260422T225602
CREATED:20250403T135449Z
LAST-MODIFIED:20250403T140637Z
UID:10002989-1744790400-1744804800@acprosite.com
SUMMARY:Baker Distributing Orlando: Counter Day
DESCRIPTION:Join us for ICP and Navac Counter Day at Baker/Florida Cooling Supply in Orlando! \nExplore the latest R454 products\, offering top-notch efficiency and eco-friendly benefits. Check out the innovative Navac tool line\, designed to boost precision and productivity. Network with industry experts and stay ahead in HVAC technology. Don’t miss this informative event! \n \n  \n 
URL:https://acprosite.com/event/baker-distributing-orlando-counter-day-2/
LOCATION:Baker Orlando\, 2000 Diversified Way\, Orlando\, Florida\, 32804
CATEGORIES:East Central Florida
END:VEVENT
BEGIN:VEVENT
DTSTART;TZID=America/New_York:20250415T143000
DTEND;TZID=America/New_York:20250415T160000
DTSTAMP:20260422T225602
CREATED:20250320T174342Z
LAST-MODIFIED:20250320T174342Z
UID:10002976-1744727400-1744732800@acprosite.com
SUMMARY:Tropic Supply Cape Coral: Leak Detection
DESCRIPTION:What you will learn: \n\nUnderstanding refrigerant leak detection principles.\nSteps for effective pre-test preparation.\nIdentification and use of essential tools for leak detection.\nProper usage of an electronic leak detector.\nHow to perform a soap bubble test for detecting leaks.\nHow to conduct a post-repair leak check and system recharge.\nHow to execute a nitrogen leak test for thorough system assessment.\n\nNote: Reminder call 1-day before the training. See you at training! \nClick HERE to register.
URL:https://acprosite.com/event/tropic-supply-cape-coral-leak-detection/
LOCATION:Tropic Supply T11\, 785 NE 19th Pl\, Cape Coral\, Florida\, 33909
CATEGORIES:Southwest Florida
END:VEVENT
END:VCALENDAR