BEGIN:VCALENDAR
VERSION:2.0
PRODID:-//ACprosite - ECPv6.15.20//NONSGML v1.0//EN
CALSCALE:GREGORIAN
METHOD:PUBLISH
X-WR-CALNAME:ACprosite
X-ORIGINAL-URL:https://acprosite.com
X-WR-CALDESC:Events for ACprosite
REFRESH-INTERVAL;VALUE=DURATION:PT1H
X-Robots-Tag:noindex
X-PUBLISHED-TTL:PT1H
BEGIN:VTIMEZONE
TZID:America/New_York
BEGIN:DAYLIGHT
TZOFFSETFROM:-0500
TZOFFSETTO:-0400
TZNAME:EDT
DTSTART:20250309T070000
END:DAYLIGHT
BEGIN:STANDARD
TZOFFSETFROM:-0400
TZOFFSETTO:-0500
TZNAME:EST
DTSTART:20251102T060000
END:STANDARD
BEGIN:DAYLIGHT
TZOFFSETFROM:-0500
TZOFFSETTO:-0400
TZNAME:EDT
DTSTART:20260308T070000
END:DAYLIGHT
BEGIN:STANDARD
TZOFFSETFROM:-0400
TZOFFSETTO:-0500
TZNAME:EST
DTSTART:20261101T060000
END:STANDARD
BEGIN:DAYLIGHT
TZOFFSETFROM:-0500
TZOFFSETTO:-0400
TZNAME:EDT
DTSTART:20270314T070000
END:DAYLIGHT
BEGIN:STANDARD
TZOFFSETFROM:-0400
TZOFFSETTO:-0500
TZNAME:EST
DTSTART:20271107T060000
END:STANDARD
END:VTIMEZONE
BEGIN:VEVENT
DTSTART;VALUE=DATE:20260131
DTEND;VALUE=DATE:20260205
DTSTAMP:20260419T175851
CREATED:20250630T160627Z
LAST-MODIFIED:20250930T140652Z
UID:10003128-1769817600-1770249599@acprosite.com
SUMMARY:2026 ASHRAE Winter Conference
DESCRIPTION:ASHRAE’s conferences are growing faster than ever as it leads the way in technology for decarbonization\, sustainability\, and occupant safety. Unlock unparalleled exposure and connect with industry leaders at the 2026 ASHRAE Winter Conference\, Jan. 31 – Feb. 4\, 2026 at Caesar’s Palace in Las Vegas. As a sponsor\, your brand will be front and center throughout the event. \nClick HERE for more information.
URL:https://acprosite.com/event/2026-ashrae-winter-conference/
LOCATION:Caesar’s Palace in Las Vegas\, 3570 S Las Vegas Blvd\, Paradise\, NV\, 89109
CATEGORIES:All regions,East Central Florida,News,North Florida,Northwest Florida,Southeast Florida,Southwest Florida,West Central Florida
END:VEVENT
BEGIN:VEVENT
DTSTART;TZID=America/New_York:20260202T100000
DTEND;TZID=America/New_York:20260204T180000
DTSTAMP:20260419T175851
CREATED:20250425T130032Z
LAST-MODIFIED:20250930T140631Z
UID:10003025-1770026400-1770228000@acprosite.com
SUMMARY:AHR Expo 2026
DESCRIPTION:The 2026 AHR Expo\, the premier event for the global HVACR industry\, will be held in Las Vegas at the Las Vegas Convention Center from Feb. 2-4. AHR Expo provides a platform for manufacturers\, suppliers\, and professionals to showcase the latest innovations in heating\, ventilation\, air conditioning\, and refrigeration.  \n\n\nKey Details for 2026 AHR Expo:\n\n\n\n\n\nDates: February 2-4\, 2026. \n\n\n\n\n\n\n\n\nLocation: Las Vegas Convention Center\, Las Vegas\, NV. \n\n\n\n\n\n\n\n\nShow Times: Monday\, Feb 2: 10am-6pm; Tuesday\, Feb 3: 10am-6pm; Wednesday\, Feb 4: 10am-4pm. \n\n\n\n\n\n\n\n\nFocus: The event features product exhibitions\, educational seminars\, and networking opportunities for industry professionals. \n\nClick HERE for more information.
URL:https://acprosite.com/event/ahr-expo-2026/
LOCATION:Las Vegas Convention Center\, 3150 Paradise Rd\, Las Vegas\, NV\, 89109
CATEGORIES:All regions,East Central Florida,North Florida,Northwest Florida,Southeast Florida,Southwest Florida,West Central Florida
END:VEVENT
BEGIN:VEVENT
DTSTART;TZID=America/New_York:20260204T180000
DTEND;TZID=America/New_York:20260204T210000
DTSTAMP:20260419T175851
CREATED:20251230T143755Z
LAST-MODIFIED:20251230T143755Z
UID:10003313-1770228000-1770238800@acprosite.com
SUMMARY:MACCA University Park: HVAC GOATS: Greatest of All Trades
DESCRIPTION:Join us for a high-energy HVAC Masterclass featuring industry pros who have been there\, built it\, and lived it. This owner-led panel discussion delivers real-world insights\, practical advice\, and honest conversations about what it takes to succeed in today’s HVAC industry.
URL:https://acprosite.com/event/macca-university-park-hvac-goats-greatest-of-all-trades/
LOCATION:Courtyard by Marriott Sarasota at UTC\, 8305 Tourist Center Dr\, University Park\, Florida\, 34201
CATEGORIES:Southwest Florida
END:VEVENT
BEGIN:VEVENT
DTSTART;TZID=America/New_York:20260207T080000
DTEND;TZID=America/New_York:20260207T140000
DTSTAMP:20260419T175851
CREATED:20251217T163546Z
LAST-MODIFIED:20251217T163546Z
UID:10003311-1770451200-1770472800@acprosite.com
SUMMARY:MACCA Nokomis: 14th Annual Sporting Clays Challenge
DESCRIPTION:Event Overview\nThis is a family-friendly event for all skill levels. Bring your own gun or use one provided by the range. \nRegistration & Pricing\nFoursome Team – $450\nIncludes tournament fees\, golf cart\, team ammo\, and four BBQ lunch tickets.\nDiscount: $400 each for 4+ teams! \nRaffles\nGun raffle tickets: $25 each or 5 for $100\nTickets available day of event. Online sales opening soon!\nYou do NOT have to be present to win! \nClick HERE to register.
URL:https://acprosite.com/event/macca-nokomis-14th-annual-sporting-clays-challenge/
LOCATION:Sarasota Trap Skeet & Clays/Knights Trail Park\, 3445 Rustic Road\, Nokomis\, Florida\, 34275
CATEGORIES:Southwest Florida
END:VEVENT
BEGIN:VEVENT
DTSTART;TZID=America/New_York:20260207T090000
DTEND;TZID=America/New_York:20260207T140000
DTSTAMP:20260419T175851
CREATED:20260203T162033Z
LAST-MODIFIED:20260203T162033Z
UID:10003327-1770454800-1770472800@acprosite.com
SUMMARY:MACCA Nokomis: Annual Shoot: Gun Raffle Fundraiser
DESCRIPTION:You DO NOT have to be present to win. If your ticket is selected\, we will select the gun of your choice. If that gun is no longer available\, a selection will be made for you unless otherwise noted on your registration. \n\nImportant:\nIf unable to attend\, gun raffle tickets must be paid online prior to the drawing. Raffle tickets will also be available for in-person purchase on the day of the shoot.\n\n\nEvent Location\nSarasota Trap\, Skeet & Sporting Clays\nKnights Trail Park\n3445 Rustic Rd\, Nokomis\n\nHere’s your chance to WIN one of these great guns!
URL:https://acprosite.com/event/macca-nokomis-annual-shoot-gun-raffle-fundraiser/
LOCATION:Florida
END:VEVENT
BEGIN:VEVENT
DTSTART;TZID=America/New_York:20260209T120000
DTEND;TZID=America/New_York:20260209T130000
DTSTAMP:20260419T175851
CREATED:20260205T172327Z
LAST-MODIFIED:20260205T172705Z
UID:10003331-1770638400-1770642000@acprosite.com
SUMMARY:Refricenter West Miami: Pizza Day
DESCRIPTION:We’re celebrating National Pizza Day with our customers! Stop by\, and enjoy some pizza on us while you shop. \n \n  \n  \n 
URL:https://acprosite.com/event/refricenter-west-miami-pizza-day/
LOCATION:Refricenter West\, 7360 NW 58 Street\, Miami\, Florida\, 33166
CATEGORIES:Southeast Florida
END:VEVENT
BEGIN:VEVENT
DTSTART;TZID=America/New_York:20260209T120000
DTEND;TZID=America/New_York:20260209T130000
DTSTAMP:20260419T175851
CREATED:20260205T173049Z
LAST-MODIFIED:20260205T173049Z
UID:10003332-1770638400-1770642000@acprosite.com
SUMMARY:Refricenter Hialeah Miami: Pizza Day
DESCRIPTION:We’re celebrating National Pizza Day with our customers! Stop by\, and enjoy some pizza on us while you shop. \n \n  \n  \n 
URL:https://acprosite.com/event/refricenter-hialeah-miami-pizza-day/
LOCATION:Refricenter Hialeah\, 3599 NW 54th Street\, Miami\, Florida\, 33142
CATEGORIES:Southeast Florida
END:VEVENT
BEGIN:VEVENT
DTSTART;TZID=America/New_York:20260209T120000
DTEND;TZID=America/New_York:20260209T130000
DTSTAMP:20260419T175851
CREATED:20260205T173358Z
LAST-MODIFIED:20260205T173358Z
UID:10003333-1770638400-1770642000@acprosite.com
SUMMARY:Refricenter South Miami: Pizza Day
DESCRIPTION:We’re celebrating National Pizza Day with our customers! Stop by\, and enjoy some pizza on us while you shop. \n \n  \n  \n 
URL:https://acprosite.com/event/refricenter-south-miami-pizza-day/
LOCATION:Refricenter South\, 8884 SW 129th Street\, Miami\, Florida\, 33176
CATEGORIES:Southeast Florida
END:VEVENT
BEGIN:VEVENT
DTSTART;TZID=America/New_York:20260209T120000
DTEND;TZID=America/New_York:20260209T130000
DTSTAMP:20260419T175851
CREATED:20260205T173637Z
LAST-MODIFIED:20260205T173637Z
UID:10003334-1770638400-1770642000@acprosite.com
SUMMARY:Refricenter North Pembroke Park: Pizza Day
DESCRIPTION:We’re celebrating National Pizza Day with our customers! Stop by\, and enjoy some pizza on us while you shop. \n \n  \n  \n 
URL:https://acprosite.com/event/refricenter-north-pembroke-park-pizza-day/
LOCATION:Refricenter North\, 3520 SW 20th Street\, Pembroke Park\, Florida\, 33023
CATEGORIES:Southeast Florida
END:VEVENT
BEGIN:VEVENT
DTSTART;TZID=America/New_York:20260209T120000
DTEND;TZID=America/New_York:20260209T130000
DTSTAMP:20260419T175851
CREATED:20260205T173826Z
LAST-MODIFIED:20260205T173826Z
UID:10003335-1770638400-1770642000@acprosite.com
SUMMARY:Refricenter Tamiami: Pizza Day
DESCRIPTION:We’re celebrating National Pizza Day with our customers! Stop by\, and enjoy some pizza on us while you shop. \n \n  \n  \n 
URL:https://acprosite.com/event/refricenter-tamiami-pizza-day/
LOCATION:Refricenter Tamiami\, 13500 SW 131st Street\, Miami\, Florida\, 33186
CATEGORIES:Southeast Florida
END:VEVENT
BEGIN:VEVENT
DTSTART;TZID=America/New_York:20260209T120000
DTEND;TZID=America/New_York:20260209T130000
DTSTAMP:20260419T175851
CREATED:20260205T174207Z
LAST-MODIFIED:20260205T174207Z
UID:10003336-1770638400-1770642000@acprosite.com
SUMMARY:Refri-Air Appliance: Pizza Day
DESCRIPTION:We’re celebrating National Pizza Day with our customers! Stop by\, and enjoy some pizza on us while you shop. \n \n  \n  \n 
URL:https://acprosite.com/event/refri-air-appliance-pizza-day/
LOCATION:Refri-Air Appliance\, 7145 SW 8th Street\, Miami\, Florida\, 33144
CATEGORIES:Southeast Florida
END:VEVENT
BEGIN:VEVENT
DTSTART;TZID=America/New_York:20260209T120000
DTEND;TZID=America/New_York:20260209T130000
DTSTAMP:20260419T175851
CREATED:20260205T174351Z
LAST-MODIFIED:20260205T174351Z
UID:10003337-1770638400-1770642000@acprosite.com
SUMMARY:Refricenter Broward: Pizza Day
DESCRIPTION:We’re celebrating National Pizza Day with our customers! Stop by\, and enjoy some pizza on us while you shop. \n \n  \n  \n 
URL:https://acprosite.com/event/refricenter-broward-pizza-day/
LOCATION:Refricenter Broward\, 2601-A Gateway Drive\, Pompano Beach\, Florida\, 33069
CATEGORIES:Southeast Florida
END:VEVENT
BEGIN:VEVENT
DTSTART;TZID=America/New_York:20260209T120000
DTEND;TZID=America/New_York:20260209T130000
DTSTAMP:20260419T175851
CREATED:20260205T174542Z
LAST-MODIFIED:20260205T174542Z
UID:10003338-1770638400-1770642000@acprosite.com
SUMMARY:Refricenter West Palm Beach: Pizza Day
DESCRIPTION:We’re celebrating National Pizza Day with our customers! Stop by\, and enjoy some pizza on us while you shop. \n \n  \n  \n 
URL:https://acprosite.com/event/refricenter-west-palm-beach-pizza-day/
LOCATION:Refricenter West Palm Beach\, 1685 Florida Mango Road North\, West Palm Beach\, Florida\, 33409
CATEGORIES:Southeast Florida
END:VEVENT
BEGIN:VEVENT
DTSTART;TZID=America/New_York:20260209T120000
DTEND;TZID=America/New_York:20260209T130000
DTSTAMP:20260419T175851
CREATED:20260205T174746Z
LAST-MODIFIED:20260205T174746Z
UID:10003339-1770638400-1770642000@acprosite.com
SUMMARY:Refricenter Port St. Lucie: Pizza Day
DESCRIPTION:We’re celebrating National Pizza Day with our customers! Stop by\, and enjoy some pizza on us while you shop. \n \n  \n  \n 
URL:https://acprosite.com/event/refricenter-port-st-lucie-pizza-day/
LOCATION:Refricenter Port St. Lucie\, 460 NW Enterprise Dr. Ste 101\, Port St. Lucie\, Florida\, 34986
CATEGORIES:Southeast Florida
END:VEVENT
BEGIN:VEVENT
DTSTART;TZID=America/New_York:20260209T120000
DTEND;TZID=America/New_York:20260209T130000
DTSTAMP:20260419T175851
CREATED:20260205T175110Z
LAST-MODIFIED:20260205T175110Z
UID:10003340-1770638400-1770642000@acprosite.com
SUMMARY:Refricenter Orlando: Pizza Day
DESCRIPTION:We’re celebrating National Pizza Day with our customers! Stop by\, and enjoy some pizza on us while you shop. \n \n  \n  \n 
URL:https://acprosite.com/event/refricenter-orlando-pizza-day/
LOCATION:Refricenter Orlando\, 2705 Eunice Avenue\, Orlando\, Florida\, 32808
CATEGORIES:East Central Florida
END:VEVENT
BEGIN:VEVENT
DTSTART;TZID=America/New_York:20260211T170000
DTEND;TZID=America/New_York:20260211T200000
DTSTAMP:20260419T175851
CREATED:20251230T144644Z
LAST-MODIFIED:20251230T144644Z
UID:10003314-1770829200-1770840000@acprosite.com
SUMMARY:MACCA Sarasota: EPA Exam - Universal: Type I\, Type II\, Type III
DESCRIPTION:EPA Section 608 Certification Exam \nClick HERE for more info.
URL:https://acprosite.com/event/macca-sarasota-epa-exam-universal-type-i-type-ii-type-iii/
LOCATION:Aqua Plumbing and Air Sarasota\, 8283 Vico Court\, Sarasota\, Florida\, 34240
CATEGORIES:Southwest Florida
END:VEVENT
BEGIN:VEVENT
DTSTART;TZID=America/New_York:20260218T083000
DTEND;TZID=America/New_York:20260219T153000
DTSTAMP:20260419T175851
CREATED:20260107T144158Z
LAST-MODIFIED:20260107T144158Z
UID:10003318-1771403400-1771515000@acprosite.com
SUMMARY:RACCA St. Petersburg: Workshop: Performing A/C Load Calculations
DESCRIPTION:8 NATE CEUs and 8 Licensed Contractor CEUs \nManual J/S/D Workshop CILB Provider # 694\, Course 0010173 and # 0010174 \nThis two–day workshop provides comprehensive training on how to perform Manual J Load calculations\, how to select equipment as per Manual S and Ductwork Design as per Manual D. Included is how to perform a field study and a discussion about the Florida Energy Code and its effect on load calculations. \nClick HERE to register.
URL:https://acprosite.com/event/racca-st-petersburg-workshop-performing-a-c-load-calculations/
LOCATION:Trane Supply Tampa\, 4720 East Adamo Drive\, Tampa\, Florida\, 33605
CATEGORIES:West Central Florida
END:VEVENT
BEGIN:VEVENT
DTSTART;TZID=America/New_York:20260223T080000
DTEND;TZID=America/New_York:20260223T110000
DTSTAMP:20260419T175851
CREATED:20260126T140055Z
LAST-MODIFIED:20260222T011352Z
UID:10003322-1771833600-1771844400@acprosite.com
SUMMARY:Baker Distributing/FL Cooling Jacksonville: Counter Day
DESCRIPTION:Join us for an exclusive Counter Day at Baker Distributing in Jacksonville!  \nStop by our Jacksonville location for an exclusive Counter Day event!  Enjoy free donuts\, network with fellow contractors\, and discover the  latest products from Mueller Streamline and Appion\, including Mueller  ACR press fittings. Our industry experts will be on hand to showcase  innovations and answer your questions. It’s the perfect opportunity to  learn about new technologies and expand your toolkit—completely free!  Don’t miss out!
URL:https://acprosite.com/event/baker-distributing-fl-cooling-jacksonville-counter-day/
LOCATION:Baker Jacksonville-Edison\, 2121 Edison Ave.\, Jacksonville\, Florida\, 32204
CATEGORIES:North Florida
END:VEVENT
BEGIN:VEVENT
DTSTART;TZID=America/New_York:20260225T080000
DTEND;TZID=America/New_York:20260225T110000
DTSTAMP:20260419T175851
CREATED:20260205T155033Z
LAST-MODIFIED:20260222T011158Z
UID:10003330-1772006400-1772017200@acprosite.com
SUMMARY:Baker Distributing Jacksonville: Counter Day
DESCRIPTION:Join us for an exclusive Counter Day at Baker Distributing in Jacksonville! \nStop by our Jacksonville location for an exclusive Counter Day event! \nEnjoy free donuts\, network with fellow contractors\, and discover the latest products from Mueller Streamline and Appion\, including Mueller ACR press fittings. Our industry experts will be on hand to showcase innovations and answer your questions. It’s the perfect opportunity to learn about new technologies and expand your toolkit—completely free! \nPlus\, we will have a Fill the Baker Basket promotion for this event only where the customer will receive 10% off what is in the basket! \nDon’t miss out!
URL:https://acprosite.com/event/baker-distributing-jacksonville-counter-day-4/
LOCATION:Baker Distributing Jacksonville -Airport\, 1750 Airport Rd\, Ste\, 104\, Jacksonville\, Florida\, 32218
CATEGORIES:North Florida
END:VEVENT
BEGIN:VEVENT
DTSTART;TZID=America/New_York:20260226T080000
DTEND;TZID=America/New_York:20260226T120000
DTSTAMP:20260419T175851
CREATED:20251217T162705Z
LAST-MODIFIED:20251217T162705Z
UID:10003310-1772092800-1772107200@acprosite.com
SUMMARY:RACCA Tampa: Workshop: Scroll and Semi-Hermetic Compressors
DESCRIPTION:Session 1: Scroll Compressors and Application \nThis session of the workshop will review the history and development of Scroll design and show how the compressor pumps refrigerant and why it is protected by design. There will be a discussion on the different methods for variable capacity achieved and the benefits from these new applications. \nSession 2: Semi-Hermetic Compressors-Operation and Applications \nCovered in this session will be the operation and applications of semi-hermetic compressors and when they are used. Discussed will be the benefits of working on a serviceable type of application. Reviewed will be the operation of demand cooling\, compressor unloading and why they may be needed. Additional review of oil management\, oil pump operation\, and how lubrication is achieved. \nCheck in is at 7:30am \nCoffee\, donuts and pastries provided by Trane Supply \nNATE CEU’s Available \nLimited seating…register today! \nIndustry Expert Instructor:\n• Bob Feathers\, HVAC TAC\, Ft. Myers\, FL\n40 years industry experience including corporate trainer with Copeland. \nHow to Register\nClick here to download the registration form. \nComplete the registration form and email to charris@crgnet.net or call 727-578-1962 or mail form to CRG\, Inc.\, 466 94th Ave N\, St. Petersburg\, FL 33702
URL:https://acprosite.com/event/racca-tampa-workshop-scroll-and-semi-hermetic-compressors/
LOCATION:Trane Supply Tampa\, 4720 East Adamo Drive\, Tampa\, Florida\, 33605
CATEGORIES:West Central Florida
END:VEVENT
BEGIN:VEVENT
DTSTART;TZID=America/New_York:20260227T080000
DTEND;TZID=America/New_York:20260227T110000
DTSTAMP:20260419T175851
CREATED:20260126T140740Z
LAST-MODIFIED:20260126T140740Z
UID:10003323-1772179200-1772190000@acprosite.com
SUMMARY:Baker Distributing/FL Cooling Jacksonville: Counter Day
DESCRIPTION:Join us for an exclusive Counter Day at Baker Distributing in Jacksonville!  \nStop by our Jacksonville location for an exclusive Counter Day event!  Enjoy free donuts\, network with fellow contractors\, and discover the  latest products from Mueller Streamline and Appion\, including Mueller  ACR press fittings. Our industry experts will be on hand to showcase  innovations and answer your questions. It’s the perfect opportunity to  learn about new technologies and expand your toolkit—completely free!  Don’t miss out! \n 
URL:https://acprosite.com/event/baker-distributing-fl-cooling-jacksonville-counter-day-2/
LOCATION:Baker Dist Breakers Drive Jacksonville\, 14610 Breakers Drive\, Jacksonville\, Florida\, 32258
CATEGORIES:North Florida
END:VEVENT
END:VCALENDAR