BEGIN:VCALENDAR
VERSION:2.0
PRODID:-//ACprosite - ECPv6.15.20//NONSGML v1.0//EN
CALSCALE:GREGORIAN
METHOD:PUBLISH
X-WR-CALNAME:ACprosite
X-ORIGINAL-URL:https://acprosite.com
X-WR-CALDESC:Events for ACprosite
REFRESH-INTERVAL;VALUE=DURATION:PT1H
X-Robots-Tag:noindex
X-PUBLISHED-TTL:PT1H
BEGIN:VTIMEZONE
TZID:America/New_York
BEGIN:DAYLIGHT
TZOFFSETFROM:-0500
TZOFFSETTO:-0400
TZNAME:EDT
DTSTART:20250309T070000
END:DAYLIGHT
BEGIN:STANDARD
TZOFFSETFROM:-0400
TZOFFSETTO:-0500
TZNAME:EST
DTSTART:20251102T060000
END:STANDARD
BEGIN:DAYLIGHT
TZOFFSETFROM:-0500
TZOFFSETTO:-0400
TZNAME:EDT
DTSTART:20260308T070000
END:DAYLIGHT
BEGIN:STANDARD
TZOFFSETFROM:-0400
TZOFFSETTO:-0500
TZNAME:EST
DTSTART:20261101T060000
END:STANDARD
BEGIN:DAYLIGHT
TZOFFSETFROM:-0500
TZOFFSETTO:-0400
TZNAME:EDT
DTSTART:20270314T070000
END:DAYLIGHT
BEGIN:STANDARD
TZOFFSETFROM:-0400
TZOFFSETTO:-0500
TZNAME:EST
DTSTART:20271107T060000
END:STANDARD
END:VTIMEZONE
BEGIN:VEVENT
DTSTART;TZID=America/New_York:20260526T080000
DTEND;TZID=America/New_York:20260526T100000
DTSTAMP:20260425T213906
CREATED:20260423T145956Z
LAST-MODIFIED:20260423T150201Z
UID:10003472-1779782400-1779789600@acprosite.com
SUMMARY:Tropic Supply Fort Pierce: Demo Day with Allied Air
DESCRIPTION:LEARNING OBJECTIVE: \nProfitable Upsells: Allied’s SystemShield™ Labor Concession program offers contractors the ability to protect homeowners from unexpected\, expensive labor costs associated with warranty repairs. These highly affordable 2\, 5 and 10 year plans are an easy upsell that offer bottom-line results\, homeowner peace-of-mind and contractor differentiation in the marketplace. Learn the dollars and cents behind this must-have add-on!
URL:https://acprosite.com/event/tropic-supply-fort-pierce-demo-day-with-allied-air/
LOCATION:Tropic Supply T6\, 903 South Market Ave\, Ft. Pierce\, Florida\, 34982
CATEGORIES:Southeast Florida
END:VEVENT
BEGIN:VEVENT
DTSTART;TZID=America/New_York:20260526T170000
DTEND;TZID=America/New_York:20260526T183000
DTSTAMP:20260425T213906
CREATED:20260423T152342Z
LAST-MODIFIED:20260423T152455Z
UID:10003473-1779814800-1779820200@acprosite.com
SUMMARY:Tropic Supply West Palm Beach: Dine & Learn with Allied Air
DESCRIPTION:LEARNING OBJECTIVE: \nProfitable Upsells: Allied’s SystemShield™ Labor Concession program offers contractors the ability to protect homeowners from unexpected\, expensive labor costs associated with warranty repairs. These highly affordable 2\, 5 and 10 year plans are an easy upsell that offer bottom-line results\, homeowner peace-of-mind and contractor differentiation in the marketplace. Learn the dollars and cents behind this must-have add-on!
URL:https://acprosite.com/event/tropic-supply-west-palm-beach-dine-learn-with-allied-air/
LOCATION:Tropic Supply T5\, 1880 Old Okeechobee Rd\, West Palm Beach\, Florida\, 33409\, United States
CATEGORIES:Southeast Florida
END:VEVENT
BEGIN:VEVENT
DTSTART;TZID=America/New_York:20260527T110000
DTEND;TZID=America/New_York:20260527T130000
DTSTAMP:20260425T213906
CREATED:20260423T153514Z
LAST-MODIFIED:20260423T153514Z
UID:10003474-1779879600-1779886800@acprosite.com
SUMMARY:Tropic Supply N. Ft. Lauderdale: Lunch & Learn with Allied Air
DESCRIPTION:LEARNING OBJECTIVE: \nProfitable Upsells: Allied’s SystemShield™ Labor Concession program offers contractors the ability to protect homeowners from unexpected\, expensive labor costs associated with warranty repairs. These highly affordable 2\, 5 and 10 year plans are an easy upsell that offer bottom-line results\, homeowner peace-of-mind and contractor differentiation in the marketplace. Learn the dollars and cents behind this must-have add-on! \n \n 
URL:https://acprosite.com/event/tropic-supply-n-ft-lauderdale-lunch-learn-with-allied-air/
LOCATION:Tropic Supply T2\, 4321 NE 12th Terrace\, Oakland Park\, Florida\, 33334
CATEGORIES:Southeast Florida
END:VEVENT
BEGIN:VEVENT
DTSTART;TZID=America/New_York:20260528T110000
DTEND;TZID=America/New_York:20260528T130000
DTSTAMP:20260425T213906
CREATED:20260423T154001Z
LAST-MODIFIED:20260423T154001Z
UID:10003475-1779966000-1779973200@acprosite.com
SUMMARY:Tropic Supply N. Miami: Lunch & Learn with Allied Air
DESCRIPTION:LEARNING OBJECTIVE: \nProfitable Upsells: Allied’s SystemShield™ Labor Concession program offers contractors the ability to protect homeowners from unexpected\, expensive labor costs associated with warranty repairs. These highly affordable 2\, 5 and 10 year plans are an easy upsell that offer bottom-line results\, homeowner peace-of-mind and contractor differentiation in the marketplace. Learn the dollars and cents behind this must-have add-on! \n \n  \n 
URL:https://acprosite.com/event/tropic-supply-n-miami-lunch-learn-with-allied-air/
LOCATION:Tropic T1\, 151 NE 179th Street\, Miami\, Florida\, 33162
CATEGORIES:Southeast Florida
END:VEVENT
END:VCALENDAR