BEGIN:VCALENDAR
VERSION:2.0
PRODID:-//ACprosite - ECPv6.15.20//NONSGML v1.0//EN
CALSCALE:GREGORIAN
METHOD:PUBLISH
X-WR-CALNAME:ACprosite
X-ORIGINAL-URL:https://acprosite.com
X-WR-CALDESC:Events for ACprosite
REFRESH-INTERVAL;VALUE=DURATION:PT1H
X-Robots-Tag:noindex
X-PUBLISHED-TTL:PT1H
BEGIN:VTIMEZONE
TZID:America/New_York
BEGIN:DAYLIGHT
TZOFFSETFROM:-0500
TZOFFSETTO:-0400
TZNAME:EDT
DTSTART:20240310T070000
END:DAYLIGHT
BEGIN:STANDARD
TZOFFSETFROM:-0400
TZOFFSETTO:-0500
TZNAME:EST
DTSTART:20241103T060000
END:STANDARD
BEGIN:DAYLIGHT
TZOFFSETFROM:-0500
TZOFFSETTO:-0400
TZNAME:EDT
DTSTART:20250309T070000
END:DAYLIGHT
BEGIN:STANDARD
TZOFFSETFROM:-0400
TZOFFSETTO:-0500
TZNAME:EST
DTSTART:20251102T060000
END:STANDARD
BEGIN:DAYLIGHT
TZOFFSETFROM:-0500
TZOFFSETTO:-0400
TZNAME:EDT
DTSTART:20260308T070000
END:DAYLIGHT
BEGIN:STANDARD
TZOFFSETFROM:-0400
TZOFFSETTO:-0500
TZNAME:EST
DTSTART:20261101T060000
END:STANDARD
END:VTIMEZONE
BEGIN:VEVENT
DTSTART;TZID=America/New_York:20250604T110000
DTEND;TZID=America/New_York:20250604T140000
DTSTAMP:20260422T092329
CREATED:20250529T150921Z
LAST-MODIFIED:20250529T150921Z
UID:10003061-1749034800-1749045600@acprosite.com
SUMMARY:Baker Distributing Sarasota: Vendor Days
DESCRIPTION:Join us for an exciting Vendor Day at Baker Distributing Sarasota! \nDiscover top product lines including Venstar\, Klein Tools\, RGF\, and ICM Controls . Join us for an informative counter day\, free hotdogs\, cheeseburgers\, chips and drinks!
URL:https://acprosite.com/event/baker-distributing-sarasota-vendor-days/
LOCATION:Baker Sarasota\, 7810 25th Ct E #112\, Sarasota\, Florida\, 34243
CATEGORIES:Southwest Florida
END:VEVENT
BEGIN:VEVENT
DTSTART;TZID=America/New_York:20250605T110000
DTEND;TZID=America/New_York:20250605T140000
DTSTAMP:20260422T092329
CREATED:20250529T145332Z
LAST-MODIFIED:20250529T145332Z
UID:10003060-1749121200-1749132000@acprosite.com
SUMMARY:Baker Distributing Naples: Vendor Days
DESCRIPTION:Join us for an exciting Vendor Day at Baker Distributing Naples! \nPlease join us for a vendor day with our valued partners Venstar\, Klein Tools\, RGF\, and ICM Controls! \nVisit our branch for product promotions and information.
URL:https://acprosite.com/event/baker-distributing-naples-vendor-days/
LOCATION:Baker Naples\, 4361 CORPORATE SQUARE BLVD\, Naples\, Florida\, 34104
CATEGORIES:Southwest Florida
END:VEVENT
BEGIN:VEVENT
DTSTART;TZID=America/New_York:20250618T100000
DTEND;TZID=America/New_York:20250618T120000
DTSTAMP:20260422T092329
CREATED:20250529T142821Z
LAST-MODIFIED:20250529T145727Z
UID:10003059-1750240800-1750248000@acprosite.com
SUMMARY:Baker FL Cooling Sebring: Lunch & Learn
DESCRIPTION:Join us at Baker Distributing in Sebring for an exclusive Lunch & Learn event! \nTake advantage of this opportunity to learn about the latest innovations in HVAC technology\, featuring in-depth presentations on Gree mini split and Flexx units. Enjoy a delicious meal of flat-top grill cheesesteaks while networking with industry professionals and gaining valuable insights from our expert team. Don’t miss out on this informative and engaging event!
URL:https://acprosite.com/event/baker-fl-cooling-sebring-lunch-learn/
LOCATION:Baker FL Cooling Sebring\, 1100 Industrial Way E\, Sebring\, Florida\, 33870
CATEGORIES:Southwest Florida
END:VEVENT
END:VCALENDAR