BEGIN:VCALENDAR
VERSION:2.0
PRODID:-//ACprosite - ECPv6.15.20//NONSGML v1.0//EN
CALSCALE:GREGORIAN
METHOD:PUBLISH
X-WR-CALNAME:ACprosite
X-ORIGINAL-URL:https://acprosite.com
X-WR-CALDESC:Events for ACprosite
REFRESH-INTERVAL;VALUE=DURATION:PT1H
X-Robots-Tag:noindex
X-PUBLISHED-TTL:PT1H
BEGIN:VTIMEZONE
TZID:America/New_York
BEGIN:DAYLIGHT
TZOFFSETFROM:-0500
TZOFFSETTO:-0400
TZNAME:EDT
DTSTART:20250309T070000
END:DAYLIGHT
BEGIN:STANDARD
TZOFFSETFROM:-0400
TZOFFSETTO:-0500
TZNAME:EST
DTSTART:20251102T060000
END:STANDARD
BEGIN:DAYLIGHT
TZOFFSETFROM:-0500
TZOFFSETTO:-0400
TZNAME:EDT
DTSTART:20260308T070000
END:DAYLIGHT
BEGIN:STANDARD
TZOFFSETFROM:-0400
TZOFFSETTO:-0500
TZNAME:EST
DTSTART:20261101T060000
END:STANDARD
BEGIN:DAYLIGHT
TZOFFSETFROM:-0500
TZOFFSETTO:-0400
TZNAME:EDT
DTSTART:20270314T070000
END:DAYLIGHT
BEGIN:STANDARD
TZOFFSETFROM:-0400
TZOFFSETTO:-0500
TZNAME:EST
DTSTART:20271107T060000
END:STANDARD
END:VTIMEZONE
BEGIN:VEVENT
DTSTART;TZID=America/New_York:20260309T110000
DTEND;TZID=America/New_York:20260309T140000
DTSTAMP:20260420T161158
CREATED:20260213T172151Z
LAST-MODIFIED:20260213T172237Z
UID:10003342-1773054000-1773064800@acprosite.com
SUMMARY:Baker Distributing Tampa: Vendor Day
DESCRIPTION:Join us for a fantastic Vendor Day Event at Tampa! \nJoin us for an exciting multi-vendor showcase featuring demos and displays from industry leaders including Manitowoc\, Klein\, Navac\, Inficon\, Venstar\, Dustfree\, Aerus\, and many others! \nThis is a great opportunity to connect with multiple vendors\, explore the latest products and innovations\, and discover solutions that can benefit your business. \nWe look forward to seeing you there!
URL:https://acprosite.com/event/baker-distributing-tampa-vendor-day/
LOCATION:Baker Distributing Tampa Branch 322\, 8110 Anderson Rd. Suite 106\, Tampa\, Florida\, 33634
CATEGORIES:West Central Florida
END:VEVENT
BEGIN:VEVENT
DTSTART;TZID=America/New_York:20260310T110000
DTEND;TZID=America/New_York:20260310T140000
DTSTAMP:20260420T161158
CREATED:20260213T173055Z
LAST-MODIFIED:20260213T173124Z
UID:10003343-1773140400-1773151200@acprosite.com
SUMMARY:Baker/FL Cooling Tampa: Vendor Day
DESCRIPTION:Join us for a fantastic Vendor Day Event at Tampa! \nJoin us for an exciting multi-vendor showcase featuring demos and displays from industry leaders including Manitowoc\, Klein\, Navac\, Inficon\, Venstar\, Dustfree\, Aerus\, and many others! \nThis is a great opportunity to connect with multiple vendors\, explore the latest products and innovations\, and discover solutions that can benefit your business. \nWe look forward to seeing you there! \n \n 
URL:https://acprosite.com/event/baker-fl-cooling-tampa-vendor-day/
LOCATION:Baker FCS Tampa\, 6003 Anderson Rd\, Tampa\, Florida\, 33634
CATEGORIES:West Central Florida
END:VEVENT
BEGIN:VEVENT
DTSTART;TZID=America/New_York:20260311T110000
DTEND;TZID=America/New_York:20260311T140000
DTSTAMP:20260420T161158
CREATED:20260213T173659Z
LAST-MODIFIED:20260213T173659Z
UID:10003344-1773226800-1773237600@acprosite.com
SUMMARY:Baker/FL Cooling Tampa: Vendor Day
DESCRIPTION:Join us for a fantastic Vendor Day Event at Tampa! \nJoin us for an exciting multi-vendor showcase featuring demos and displays from industry leaders including Manitowoc\, Klein\, Navac\, Inficon\, Venstar\, Dustfree\, Aerus\, and many others! \nThis is a great opportunity to connect with multiple vendors\, explore the latest products and innovations\, and discover solutions that can benefit your business. \nWe look forward to seeing you there! \n \n  \n 
URL:https://acprosite.com/event/baker-fl-cooling-tampa-vendor-day-2/
LOCATION:Baker FL Cooling Tampa\, 205-c Kelsey Lane\, Tampa\, Florida\, 33619
CATEGORIES:West Central Florida
END:VEVENT
BEGIN:VEVENT
DTSTART;TZID=America/New_York:20260312T110000
DTEND;TZID=America/New_York:20260312T140000
DTSTAMP:20260420T161158
CREATED:20260213T180401Z
LAST-MODIFIED:20260213T180401Z
UID:10003346-1773313200-1773324000@acprosite.com
SUMMARY:Baker Distributing Plant City: Vendor Day
DESCRIPTION:Join us for a fantastic Vendor Day Event at Tampa! \nJoin us for an exciting multi-vendor showcase featuring demos and displays from industry leaders including Manitowoc\, Klein\, Navac\, Inficon\, Venstar\, Dustfree\, Aerus\, and many others! \nThis is a great opportunity to connect with multiple vendors\, explore the latest products and innovations\, and discover solutions that can benefit your business. \nWe look forward to seeing you there! \n \n  \n  \n 
URL:https://acprosite.com/event/baker-distributing-plant-city-vendor-day/
LOCATION:Baker Plant City\, 1621 S County Line Rd.\, Plant City\, Florida\, 33566
CATEGORIES:West Central Florida
END:VEVENT
BEGIN:VEVENT
DTSTART;TZID=America/New_York:20260313T110000
DTEND;TZID=America/New_York:20260313T140000
DTSTAMP:20260420T161158
CREATED:20260213T174146Z
LAST-MODIFIED:20260213T174146Z
UID:10003345-1773399600-1773410400@acprosite.com
SUMMARY:Baker/FL Cooling Lakeland: Vendor Day
DESCRIPTION:Join us for a fantastic Vendor Day Event at Tampa! \nJoin us for an exciting multi-vendor showcase featuring demos and displays from industry leaders including Manitowoc\, Klein\, Navac\, Inficon\, Venstar\, Dustfree\, Aerus\, and many others! \nThis is a great opportunity to connect with multiple vendors\, explore the latest products and innovations\, and discover solutions that can benefit your business. \nWe look forward to seeing you there! \n \n  \n  \n 
URL:https://acprosite.com/event/baker-fl-cooling-lakeland-vendor-day/
LOCATION:Baker FL Cooling Lakeland\, 2525 McJunkin Rd.\, Lakeland\, Florida\, 33803
CATEGORIES:West Central Florida
END:VEVENT
BEGIN:VEVENT
DTSTART;TZID=America/New_York:20260323T110000
DTEND;TZID=America/New_York:20260323T140000
DTSTAMP:20260420T161158
CREATED:20260213T181434Z
LAST-MODIFIED:20260213T182832Z
UID:10003348-1774263600-1774274400@acprosite.com
SUMMARY:Baker/FL Cooling Tampa: Vendor Day
DESCRIPTION:Join us for a fantastic Vendor Day Event at Tampa! \nJoin us for an exciting multi-vendor showcase featuring demos and displays from industry leaders including Manitowoc\, Klein\, Navac\, Inficon\, Venstar\, Dustfree\, Aerus\, and many others! \nThis is a great opportunity to connect with multiple vendors\, explore the latest products and innovations\, and discover solutions that can benefit your business. \nWe look forward to seeing you there! \n \n  \n 
URL:https://acprosite.com/event/baker-fl-cooling-tampa-vendor-day-4/
LOCATION:Baker Distributing Tampa Branch 322\, 8110 Anderson Rd. Suite 106\, Tampa\, Florida\, 33634
CATEGORIES:West Central Florida
END:VEVENT
BEGIN:VEVENT
DTSTART;TZID=America/New_York:20260324T110000
DTEND;TZID=America/New_York:20260324T140000
DTSTAMP:20260420T161158
CREATED:20260213T180726Z
LAST-MODIFIED:20260213T180825Z
UID:10003347-1774350000-1774360800@acprosite.com
SUMMARY:Baker/FL Cooling Tampa: Vendor Day
DESCRIPTION:Join us for a fantastic Vendor Day Event at Tampa! \nJoin us for an exciting multi-vendor showcase featuring demos and displays from industry leaders including Manitowoc\, Klein\, Navac\, Inficon\, Venstar\, Dustfree\, Aerus\, and many others! \nThis is a great opportunity to connect with multiple vendors\, explore the latest products and innovations\, and discover solutions that can benefit your business. \nWe look forward to seeing you there! \n \n  \n  \n 
URL:https://acprosite.com/event/baker-fl-cooling-tampa-vendor-day-3/
LOCATION:Baker FCS Tampa\, 6003 Anderson Rd\, Tampa\, Florida\, 33634
CATEGORIES:West Central Florida
END:VEVENT
BEGIN:VEVENT
DTSTART;TZID=America/New_York:20260325T110000
DTEND;TZID=America/New_York:20260325T140000
DTSTAMP:20260420T161158
CREATED:20260213T181842Z
LAST-MODIFIED:20260213T181842Z
UID:10003349-1774436400-1774447200@acprosite.com
SUMMARY:Baker/FL Cooling Tampa: Vendor Day
DESCRIPTION:Join us for a fantastic Vendor Day Event at Tampa! \nJoin us for an exciting multi-vendor showcase featuring demos and displays from industry leaders including Manitowoc\, Klein\, Navac\, Inficon\, Venstar\, Dustfree\, Aerus\, and many others! \nThis is a great opportunity to connect with multiple vendors\, explore the latest products and innovations\, and discover solutions that can benefit your business. \nWe look forward to seeing you there! \n \n  \n  \n 
URL:https://acprosite.com/event/baker-fl-cooling-tampa-vendor-day-5/
LOCATION:Baker FL Cooling Tampa\, 205-c Kelsey Lane\, Tampa\, Florida\, 33619
CATEGORIES:West Central Florida
END:VEVENT
BEGIN:VEVENT
DTSTART;TZID=America/New_York:20260326T110000
DTEND;TZID=America/New_York:20260326T140000
DTSTAMP:20260420T161158
CREATED:20260213T182110Z
LAST-MODIFIED:20260213T182110Z
UID:10003350-1774522800-1774533600@acprosite.com
SUMMARY:Baker Distributing Plant City: Vendor Day
DESCRIPTION:Join us for a fantastic Vendor Day Event at Tampa! \nJoin us for an exciting multi-vendor showcase featuring demos and displays from industry leaders including Manitowoc\, Klein\, Navac\, Inficon\, Venstar\, Dustfree\, Aerus\, and many others! \nThis is a great opportunity to connect with multiple vendors\, explore the latest products and innovations\, and discover solutions that can benefit your business. \nWe look forward to seeing you there! \n  \n \n  \n 
URL:https://acprosite.com/event/baker-distributing-plant-city-vendor-day-2/
LOCATION:Baker Plant City\, 1621 S County Line Rd.\, Plant City\, Florida\, 33566
CATEGORIES:West Central Florida
END:VEVENT
BEGIN:VEVENT
DTSTART;TZID=America/New_York:20260327T110000
DTEND;TZID=America/New_York:20260327T140000
DTSTAMP:20260420T161158
CREATED:20260213T182359Z
LAST-MODIFIED:20260213T182359Z
UID:10003351-1774609200-1774620000@acprosite.com
SUMMARY:Baker/FL Cooling Lakeland: Vendor Day
DESCRIPTION:Join us for a fantastic Vendor Day Event at Tampa! \nJoin us for an exciting multi-vendor showcase featuring demos and displays from industry leaders including Manitowoc\, Klein\, Navac\, Inficon\, Venstar\, Dustfree\, Aerus\, and many others! \nThis is a great opportunity to connect with multiple vendors\, explore the latest products and innovations\, and discover solutions that can benefit your business. \nWe look forward to seeing you there! \n \n  \n  \n  \n 
URL:https://acprosite.com/event/baker-fl-cooling-lakeland-vendor-day-2/
LOCATION:Baker FL Cooling Lakeland\, 2525 McJunkin Rd.\, Lakeland\, Florida\, 33803
CATEGORIES:West Central Florida
END:VEVENT
BEGIN:VEVENT
DTSTART;TZID=America/New_York:20260331T110000
DTEND;TZID=America/New_York:20260331T140000
DTSTAMP:20260420T161158
CREATED:20260305T143240Z
LAST-MODIFIED:20260305T143240Z
UID:10003375-1774954800-1774965600@acprosite.com
SUMMARY:Baker Distributing Fort Myers: Lunch & Learn
DESCRIPTION:Air Scrubber Indoor Air Quality- Lunch & Learn \nYou’re invited to an exclusive Lunch & Learn event at Baker Distributing in Fort Myers featuring NASA-proven technology for air and surface cleaning- Aerus Air Scrubber! Learn how this powerful innovation increases sales and delivers multiple health benefits. Regional Sales Director Dennis Hardesty will present and answer your questions. Plus\, complimentary subs and wings—no fee to attend! Mark your calendar and join us!
URL:https://acprosite.com/event/baker-distributing-fort-myers-lunch-learn/
LOCATION:Baker Fort Myers\, 6151 Metro Plex Dr\, Ste. 101\, Fort Myers\, Florida\, 33966
CATEGORIES:Southwest Florida
END:VEVENT
END:VCALENDAR