BEGIN:VCALENDAR
VERSION:2.0
PRODID:-//ACprosite - ECPv6.15.20//NONSGML v1.0//EN
CALSCALE:GREGORIAN
METHOD:PUBLISH
X-ORIGINAL-URL:https://acprosite.com
X-WR-CALDESC:Events for ACprosite
REFRESH-INTERVAL;VALUE=DURATION:PT1H
X-Robots-Tag:noindex
X-PUBLISHED-TTL:PT1H
BEGIN:VTIMEZONE
TZID:America/New_York
BEGIN:DAYLIGHT
TZOFFSETFROM:-0500
TZOFFSETTO:-0400
TZNAME:EDT
DTSTART:20250309T070000
END:DAYLIGHT
BEGIN:STANDARD
TZOFFSETFROM:-0400
TZOFFSETTO:-0500
TZNAME:EST
DTSTART:20251102T060000
END:STANDARD
BEGIN:DAYLIGHT
TZOFFSETFROM:-0500
TZOFFSETTO:-0400
TZNAME:EDT
DTSTART:20260308T070000
END:DAYLIGHT
BEGIN:STANDARD
TZOFFSETFROM:-0400
TZOFFSETTO:-0500
TZNAME:EST
DTSTART:20261101T060000
END:STANDARD
BEGIN:DAYLIGHT
TZOFFSETFROM:-0500
TZOFFSETTO:-0400
TZNAME:EDT
DTSTART:20270314T070000
END:DAYLIGHT
BEGIN:STANDARD
TZOFFSETFROM:-0400
TZOFFSETTO:-0500
TZNAME:EST
DTSTART:20271107T060000
END:STANDARD
END:VTIMEZONE
BEGIN:VEVENT
DTSTART;TZID=America/New_York:20260515T080000
DTEND;TZID=America/New_York:20260515T120000
DTSTAMP:20260425T151751
CREATED:20260422T163011Z
LAST-MODIFIED:20260422T163011Z
UID:10003463-1778832000-1778846400@acprosite.com
SUMMARY:Tropic Supply Demo Day Delray Beach: Achieve Better Installs with CPS Products
DESCRIPTION:LEARNING OBJECTIVES: \nBetter Installs: Learn how the CPS BlackMax VPBM6V 6 CFM Sparkless Vacuum Pump and CPS MT69 Molecular Transformator Sub Cooler help ensure proper vacuum and recovery practices\, remove moisture\, and reduce future callbacks. \n \n  \n  \n 
URL:https://acprosite.com/event/tropic-supply-demo-day-delray-beach-achieve-better-installs-with-cps-products/
LOCATION:Tropic Supply T9\, 1203 Poinsettia Dr\, Del Ray Beach\, Florida\, 33444
CATEGORIES:Southeast Florida
END:VEVENT
BEGIN:VEVENT
DTSTART;TZID=America/New_York:20260520T080000
DTEND;TZID=America/New_York:20260520T120000
DTSTAMP:20260425T151751
CREATED:20260422T163606Z
LAST-MODIFIED:20260422T163606Z
UID:10003464-1779264000-1779278400@acprosite.com
SUMMARY:Tropic Supply Demo Day West Palm Beach: Achieve Better Installs with CPS Products
DESCRIPTION:LEARNING OBJECTIVES: \nBetter Installs: Learn how the CPS BlackMax VPBM6V 6 CFM Sparkless Vacuum Pump and CPS MT69 Molecular Transformator Sub Cooler help ensure proper vacuum and recovery practices\, remove moisture\, and reduce future callbacks. \n \n  \n  \n 
URL:https://acprosite.com/event/tropic-supply-demo-day-west-palm-beach-achieve-better-installs-with-cps-products/
LOCATION:Tropic Supply T5\, 1880 Old Okeechobee Rd\, West Palm Beach\, Florida\, 33409\, United States
CATEGORIES:Southeast Florida
END:VEVENT
BEGIN:VEVENT
DTSTART;TZID=America/New_York:20260521T080000
DTEND;TZID=America/New_York:20260521T120000
DTSTAMP:20260425T151751
CREATED:20260422T164003Z
LAST-MODIFIED:20260422T164003Z
UID:10003465-1779350400-1779364800@acprosite.com
SUMMARY:Tropic Supply Demo Day Fort Pierce: Achieve Better Installs with CPS Products
DESCRIPTION:LEARNING OBJECTIVES: \nBetter Installs: Learn how the CPS BlackMax VPBM6V 6 CFM Sparkless Vacuum Pump and CPS MT69 Molecular Transformator Sub Cooler help ensure proper vacuum and recovery practices\, remove moisture\, and reduce future callbacks. \n \n  \n  \n 
URL:https://acprosite.com/event/tropic-supply-demo-day-fort-pierce-achieve-better-installs-with-cps-products/
LOCATION:Tropic Supply T6\, 903 South Market Ave\, Ft. Pierce\, Florida\, 34982
CATEGORIES:Southeast Florida
END:VEVENT
BEGIN:VEVENT
DTSTART;TZID=America/New_York:20260526T080000
DTEND;TZID=America/New_York:20260526T120000
DTSTAMP:20260425T151751
CREATED:20260422T171433Z
LAST-MODIFIED:20260422T171433Z
UID:10003466-1779782400-1779796800@acprosite.com
SUMMARY:Tropic Supply Demo Day Tampa East: Achieve Better Installs with CPS Products
DESCRIPTION:LEARNING OBJECTIVES: \nBetter Installs: Learn how the CPS BlackMax VPBM6V 6 CFM Sparkless Vacuum Pump and CPS MT69 Molecular Transformator Sub Cooler help ensure proper vacuum and recovery practices\, remove moisture\, and reduce future callbacks. \n \n  \n  \n  \n 
URL:https://acprosite.com/event/tropic-supply-demo-day-tampa-east-achieve-better-installs-with-cps-products/
LOCATION:Tropic Supply T15\, 5120 East Adamo Dr Suite A\, Tampa\, Florida\, 33619
CATEGORIES:West Central Florida
END:VEVENT
BEGIN:VEVENT
DTSTART;TZID=America/New_York:20260526T080000
DTEND;TZID=America/New_York:20260526T120000
DTSTAMP:20260425T151751
CREATED:20260422T171748Z
LAST-MODIFIED:20260422T171748Z
UID:10003467-1779782400-1779796800@acprosite.com
SUMMARY:Tropic Supply Demo Day Sarasota: Achieve Better Installs with CPS Products
DESCRIPTION:LEARNING OBJECTIVES: \nBetter Installs: Learn how the CPS BlackMax VPBM6V 6 CFM Sparkless Vacuum Pump and CPS MT69 Molecular Transformator Sub Cooler help ensure proper vacuum and recovery practices\, remove moisture\, and reduce future callbacks. \n \n  \n  \n  \n 
URL:https://acprosite.com/event/tropic-supply-demo-day-sarasota-achieve-better-installs-with-cps-products/
LOCATION:Tropic Supply T14\, 7533 Claxstrauss Dr\, Sarasota\, Florida\, 34240
CATEGORIES:Southwest Florida
END:VEVENT
BEGIN:VEVENT
DTSTART;TZID=America/New_York:20260527T080000
DTEND;TZID=America/New_York:20260527T120000
DTSTAMP:20260425T151751
CREATED:20260422T172644Z
LAST-MODIFIED:20260422T172644Z
UID:10003469-1779868800-1779883200@acprosite.com
SUMMARY:Tropic Supply Demo Day Port Charlotte: Achieve Better Installs with CPS Products
DESCRIPTION:LEARNING OBJECTIVES: \nBetter Installs: Learn how the CPS BlackMax VPBM6V 6 CFM Sparkless Vacuum Pump and CPS MT69 Molecular Transformator Sub Cooler help ensure proper vacuum and recovery practices\, remove moisture\, and reduce future callbacks. \n \n  \n  \n  \n 
URL:https://acprosite.com/event/tropic-supply-demo-day-port-charlotte-achieve-better-installs-with-cps-products/
LOCATION:Tropic Supply T12\, 20100 Veterans Blvd # 1\, Port Charlotte\, Florida\, 33954
CATEGORIES:Southwest Florida
END:VEVENT
BEGIN:VEVENT
DTSTART;TZID=America/New_York:20260527T110000
DTEND;TZID=America/New_York:20260527T150000
DTSTAMP:20260425T151751
CREATED:20260422T172145Z
LAST-MODIFIED:20260422T172145Z
UID:10003468-1779879600-1779894000@acprosite.com
SUMMARY:Tropic Supply Demo Day Cape Coral: Achieve Better Installs with CPS Products
DESCRIPTION:LEARNING OBJECTIVES: \nBetter Installs: Learn how the CPS BlackMax VPBM6V 6 CFM Sparkless Vacuum Pump and CPS MT69 Molecular Transformator Sub Cooler help ensure proper vacuum and recovery practices\, remove moisture\, and reduce future callbacks. \n \n  \n  \n  \n 
URL:https://acprosite.com/event/tropic-supply-demo-day-cape-coral-achieve-better-installs-with-cps-products/
LOCATION:Tropic Supply T11\, 785 NE 19th Pl\, Cape Coral\, Florida\, 33909
CATEGORIES:Southwest Florida
END:VEVENT
BEGIN:VEVENT
DTSTART;TZID=America/New_York:20260528T110000
DTEND;TZID=America/New_York:20260528T150000
DTSTAMP:20260425T151751
CREATED:20260422T173005Z
LAST-MODIFIED:20260422T173055Z
UID:10003470-1779966000-1779980400@acprosite.com
SUMMARY:Tropic Supply Demo Day Ocala: Achieve Better Installs with CPS Products
DESCRIPTION:LEARNING OBJECTIVES: \nBetter Installs: Learn how the CPS BlackMax VPBM6V 6 CFM Sparkless Vacuum Pump and CPS MT69 Molecular Transformator Sub Cooler help ensure proper vacuum and recovery practices\, remove moisture\, and reduce future callbacks. \n \n  \n  \n  \n 
URL:https://acprosite.com/event/tropic-supply-demo-day-ocala-achieve-better-installs-with-cps-products/
LOCATION:Tropic Supply T22\, 3420 SW 7th Street\, Suite 202\, Ocala\, Florida\, 34474
CATEGORIES:East Central Florida
END:VEVENT
BEGIN:VEVENT
DTSTART;TZID=America/New_York:20260528T110000
DTEND;TZID=America/New_York:20260528T150000
DTSTAMP:20260425T151751
CREATED:20260422T173312Z
LAST-MODIFIED:20260422T173312Z
UID:10003471-1779966000-1779980400@acprosite.com
SUMMARY:Tropic Supply Demo Day Orlando: Achieve Better Installs with CPS Products
DESCRIPTION:LEARNING OBJECTIVES: \nBetter Installs: Learn how the CPS BlackMax VPBM6V 6 CFM Sparkless Vacuum Pump and CPS MT69 Molecular Transformator Sub Cooler help ensure proper vacuum and recovery practices\, remove moisture\, and reduce future callbacks. \n \n  \n  \n  \n 
URL:https://acprosite.com/event/tropic-supply-demo-day-orlando-achieve-better-installs-with-cps-products/
LOCATION:Tropic Supply T17\, 4528 36th St\, Orlando\, Florida\, 32811
CATEGORIES:East Central Florida
END:VEVENT
END:VCALENDAR