BEGIN:VCALENDAR
VERSION:2.0
PRODID:-//ACprosite - ECPv6.15.20//NONSGML v1.0//EN
CALSCALE:GREGORIAN
METHOD:PUBLISH
X-ORIGINAL-URL:https://acprosite.com
X-WR-CALDESC:Events for ACprosite
REFRESH-INTERVAL;VALUE=DURATION:PT1H
X-Robots-Tag:noindex
X-PUBLISHED-TTL:PT1H
BEGIN:VTIMEZONE
TZID:America/New_York
BEGIN:DAYLIGHT
TZOFFSETFROM:-0500
TZOFFSETTO:-0400
TZNAME:EDT
DTSTART:20250309T070000
END:DAYLIGHT
BEGIN:STANDARD
TZOFFSETFROM:-0400
TZOFFSETTO:-0500
TZNAME:EST
DTSTART:20251102T060000
END:STANDARD
BEGIN:DAYLIGHT
TZOFFSETFROM:-0500
TZOFFSETTO:-0400
TZNAME:EDT
DTSTART:20260308T070000
END:DAYLIGHT
BEGIN:STANDARD
TZOFFSETFROM:-0400
TZOFFSETTO:-0500
TZNAME:EST
DTSTART:20261101T060000
END:STANDARD
BEGIN:DAYLIGHT
TZOFFSETFROM:-0500
TZOFFSETTO:-0400
TZNAME:EDT
DTSTART:20270314T070000
END:DAYLIGHT
BEGIN:STANDARD
TZOFFSETFROM:-0400
TZOFFSETTO:-0500
TZNAME:EST
DTSTART:20271107T060000
END:STANDARD
END:VTIMEZONE
BEGIN:VEVENT
DTSTART;TZID=America/New_York:20260421T080000
DTEND;TZID=America/New_York:20260421T100000
DTSTAMP:20260419T133200
CREATED:20260312T135158Z
LAST-MODIFIED:20260312T135241Z
UID:10003383-1776758400-1776765600@acprosite.com
SUMMARY:Tropic Supply Sunrise: FloXtreme Demo Day at Sunrise Resource Center
DESCRIPTION:Reduce callbacks and improve customer satisfaction with FloXtreme 24/7 automatic a/c drain system protection. \nFree event. No registration required. \n \n  \n  \n  \n  \n  \n  \n  \n 
URL:https://acprosite.com/event/tropic-supply-sunrise-floxtreme-demo-day-at-sunrise-resource-center/
LOCATION:Tropic Supply T20\, 1001 Sawgrass Corporate Pkwy\, Sunrise\, Florida\, 33323
CATEGORIES:Southeast Florida
END:VEVENT
END:VCALENDAR