BEGIN:VCALENDAR
VERSION:2.0
PRODID:-//ACprosite - ECPv6.15.20//NONSGML v1.0//EN
CALSCALE:GREGORIAN
METHOD:PUBLISH
X-ORIGINAL-URL:https://acprosite.com
X-WR-CALDESC:Events for ACprosite
REFRESH-INTERVAL;VALUE=DURATION:PT1H
X-Robots-Tag:noindex
X-PUBLISHED-TTL:PT1H
BEGIN:VTIMEZONE
TZID:America/New_York
BEGIN:DAYLIGHT
TZOFFSETFROM:-0500
TZOFFSETTO:-0400
TZNAME:EDT
DTSTART:20250309T070000
END:DAYLIGHT
BEGIN:STANDARD
TZOFFSETFROM:-0400
TZOFFSETTO:-0500
TZNAME:EST
DTSTART:20251102T060000
END:STANDARD
BEGIN:DAYLIGHT
TZOFFSETFROM:-0500
TZOFFSETTO:-0400
TZNAME:EDT
DTSTART:20260308T070000
END:DAYLIGHT
BEGIN:STANDARD
TZOFFSETFROM:-0400
TZOFFSETTO:-0500
TZNAME:EST
DTSTART:20261101T060000
END:STANDARD
BEGIN:DAYLIGHT
TZOFFSETFROM:-0500
TZOFFSETTO:-0400
TZNAME:EDT
DTSTART:20270314T070000
END:DAYLIGHT
BEGIN:STANDARD
TZOFFSETFROM:-0400
TZOFFSETTO:-0500
TZNAME:EST
DTSTART:20271107T060000
END:STANDARD
END:VTIMEZONE
BEGIN:VEVENT
DTSTART;TZID=America/New_York:20260506T110000
DTEND;TZID=America/New_York:20260506T130000
DTSTAMP:20260424T152946
CREATED:20260424T150524Z
LAST-MODIFIED:20260424T150717Z
UID:10003476-1778065200-1778072400@acprosite.com
SUMMARY:NFACCA Jacksonville: Win More Jobs This Summer: The Power of Financing
DESCRIPTION:Turn Estimates Into Approvals Close More Jobs with Financing!\nAre customers saying “let me think about it”… and never calling back? \nIt’s not always about your price—it’s about their ability to move forward. \nJoin NFACCA for a powerful session with Maurice Brown from GreenSky Financing and learn how financing can help you remove barriers\, close more deals\, and grow your business this summer. \nWhen you offer the right payment options\, you’re not just giving a price—you’re giving a solution. \nIn This Session\, You’ll Discover:\n\nHow to turn “I need to think about it” into a YES\nProven ways to increase your average ticket size\nHow financing helps customers say yes on the spot\nSimple strategies to present financing with confidence\nHow top contractors are winning more jobs right now\n\n\n\n\n\n\n\n\n\n\n\n\nDon’t Miss This—Register Today Before It Fills Up!\nClick the link below to secure your spot—seating is limited and filling fast!\nPrefer to register directly? Email us at mail@nfacca.com or call 904-536-8453. \n\n\n\n\n\n\n\n\nGreensky Financing Lunch and Learn \n$25.00
URL:https://acprosite.com/event/nfacca-jacksonville-win-more-jobs-this-summer-the-power-of-financing/
LOCATION:J Tech Institute\, 8813 Western Way\, Jacksonville\, Florida\, 32256
CATEGORIES:North Florida
END:VEVENT
END:VCALENDAR