BEGIN:VCALENDAR
VERSION:2.0
PRODID:-//ACprosite - ECPv6.15.20//NONSGML v1.0//EN
CALSCALE:GREGORIAN
METHOD:PUBLISH
X-ORIGINAL-URL:https://acprosite.com
X-WR-CALDESC:Events for ACprosite
REFRESH-INTERVAL;VALUE=DURATION:PT1H
X-Robots-Tag:noindex
X-PUBLISHED-TTL:PT1H
BEGIN:VTIMEZONE
TZID:America/New_York
BEGIN:DAYLIGHT
TZOFFSETFROM:-0500
TZOFFSETTO:-0400
TZNAME:EDT
DTSTART:20250309T070000
END:DAYLIGHT
BEGIN:STANDARD
TZOFFSETFROM:-0400
TZOFFSETTO:-0500
TZNAME:EST
DTSTART:20251102T060000
END:STANDARD
BEGIN:DAYLIGHT
TZOFFSETFROM:-0500
TZOFFSETTO:-0400
TZNAME:EDT
DTSTART:20260308T070000
END:DAYLIGHT
BEGIN:STANDARD
TZOFFSETFROM:-0400
TZOFFSETTO:-0500
TZNAME:EST
DTSTART:20261101T060000
END:STANDARD
BEGIN:DAYLIGHT
TZOFFSETFROM:-0500
TZOFFSETTO:-0400
TZNAME:EDT
DTSTART:20270314T070000
END:DAYLIGHT
BEGIN:STANDARD
TZOFFSETFROM:-0400
TZOFFSETTO:-0500
TZNAME:EST
DTSTART:20271107T060000
END:STANDARD
END:VTIMEZONE
BEGIN:VEVENT
DTSTART;TZID=America/New_York:20260424T080000
DTEND;TZID=America/New_York:20260424T120000
DTSTAMP:20260419T081648
CREATED:20260319T160752Z
LAST-MODIFIED:20260319T160752Z
UID:10003409-1777017600-1777032000@acprosite.com
SUMMARY:Tropic Supply Ocala: Nu-Calgon Demo Day at Ocala Resource Center
DESCRIPTION:Learning Objectives: \n\nBetter Installs: Learn how cleaning new evaporator coils with Evap Foam No Rinse removes factory residues so systems start clean and run efficiently.\nBetter Maintenance & Upsells: Use PowerZyme\, PurCool Strips\, Gel Tabs\, and Evap Fresh to support maintenance plans and extend equipment life.\nBetter Diagnosis & Repairs: Improve first-time fixes with RX11 Flush\, Acid Scavenger\, A/C Renew\, and Easy Seal.\nBetter Proposal Selling: Increase conversions with upgrades like iWave\, NuStart soft starters\, and maintenance plans.\n\nFree Event. No registration required. \n \n  \n  \n  \n  \n  \n  \n  \n 
URL:https://acprosite.com/event/tropic-supply-ocala-nu-calgon-demo-day-at-ocala-resource-center/
LOCATION:Tropic Supply T22\, 3420 SW 7th Street\, Suite 202\, Ocala\, Florida\, 34474
CATEGORIES:East Central Florida
END:VEVENT
END:VCALENDAR