BEGIN:VCALENDAR
VERSION:2.0
PRODID:-//ACprosite - ECPv6.15.20//NONSGML v1.0//EN
CALSCALE:GREGORIAN
METHOD:PUBLISH
X-WR-CALNAME:ACprosite
X-ORIGINAL-URL:https://acprosite.com
X-WR-CALDESC:Events for ACprosite
REFRESH-INTERVAL;VALUE=DURATION:PT1H
X-Robots-Tag:noindex
X-PUBLISHED-TTL:PT1H
BEGIN:VTIMEZONE
TZID:America/New_York
BEGIN:DAYLIGHT
TZOFFSETFROM:-0500
TZOFFSETTO:-0400
TZNAME:EDT
DTSTART:20250309T070000
END:DAYLIGHT
BEGIN:STANDARD
TZOFFSETFROM:-0400
TZOFFSETTO:-0500
TZNAME:EST
DTSTART:20251102T060000
END:STANDARD
BEGIN:DAYLIGHT
TZOFFSETFROM:-0500
TZOFFSETTO:-0400
TZNAME:EDT
DTSTART:20260308T070000
END:DAYLIGHT
BEGIN:STANDARD
TZOFFSETFROM:-0400
TZOFFSETTO:-0500
TZNAME:EST
DTSTART:20261101T060000
END:STANDARD
BEGIN:DAYLIGHT
TZOFFSETFROM:-0500
TZOFFSETTO:-0400
TZNAME:EDT
DTSTART:20270314T070000
END:DAYLIGHT
BEGIN:STANDARD
TZOFFSETFROM:-0400
TZOFFSETTO:-0500
TZNAME:EST
DTSTART:20271107T060000
END:STANDARD
END:VTIMEZONE
BEGIN:VEVENT
DTSTART;TZID=America/New_York:20260513T113000
DTEND;TZID=America/New_York:20260513T150000
DTSTAMP:20260425T165617
CREATED:20260424T151700Z
LAST-MODIFIED:20260424T151700Z
UID:10003477-1778671800-1778684400@acprosite.com
SUMMARY:SFACCA Ft. Lauderdale: Training\, Factory Tour & Lunch
DESCRIPTION:Join SFACCA at FHP/BOSCH’s Facility for Training\, Factory Tour and Lunch \nArrival Time: 11:30AM \n11:45 – 12:30 PM LUNCH \n12:30 – 1:30PM PLANT TOUR \n1:30 – 3:00PM TRAINING \n\n\n\nClick HERE to get tickets.
URL:https://acprosite.com/event/sfacca-ft-lauderdale-training-factory-tour-lunch/
LOCATION:FHP Manufacturing\, 601 N.W. 65th Court\, Ft. Lauderdale\, Florida\, 33309
CATEGORIES:Southeast Florida
END:VEVENT
END:VCALENDAR