BEGIN:VCALENDAR
VERSION:2.0
PRODID:-//ACprosite - ECPv6.15.20//NONSGML v1.0//EN
CALSCALE:GREGORIAN
METHOD:PUBLISH
X-ORIGINAL-URL:https://acprosite.com
X-WR-CALDESC:Events for ACprosite
REFRESH-INTERVAL;VALUE=DURATION:PT1H
X-Robots-Tag:noindex
X-PUBLISHED-TTL:PT1H
BEGIN:VTIMEZONE
TZID:America/New_York
BEGIN:DAYLIGHT
TZOFFSETFROM:-0500
TZOFFSETTO:-0400
TZNAME:EDT
DTSTART:20240310T070000
END:DAYLIGHT
BEGIN:STANDARD
TZOFFSETFROM:-0400
TZOFFSETTO:-0500
TZNAME:EST
DTSTART:20241103T060000
END:STANDARD
BEGIN:DAYLIGHT
TZOFFSETFROM:-0500
TZOFFSETTO:-0400
TZNAME:EDT
DTSTART:20250309T070000
END:DAYLIGHT
BEGIN:STANDARD
TZOFFSETFROM:-0400
TZOFFSETTO:-0500
TZNAME:EST
DTSTART:20251102T060000
END:STANDARD
BEGIN:DAYLIGHT
TZOFFSETFROM:-0500
TZOFFSETTO:-0400
TZNAME:EDT
DTSTART:20260308T070000
END:DAYLIGHT
BEGIN:STANDARD
TZOFFSETFROM:-0400
TZOFFSETTO:-0500
TZNAME:EST
DTSTART:20261101T060000
END:STANDARD
BEGIN:DAYLIGHT
TZOFFSETFROM:-0500
TZOFFSETTO:-0400
TZNAME:EDT
DTSTART:20270314T070000
END:DAYLIGHT
BEGIN:STANDARD
TZOFFSETFROM:-0400
TZOFFSETTO:-0500
TZNAME:EST
DTSTART:20271107T060000
END:STANDARD
END:VTIMEZONE
BEGIN:VEVENT
DTSTART;TZID=America/New_York:20260414T073000
DTEND;TZID=America/New_York:20260414T120000
DTSTAMP:20260420T062735
CREATED:20260324T154009Z
LAST-MODIFIED:20260324T154009Z
UID:10003419-1776151800-1776168000@acprosite.com
SUMMARY:Baker Distributing Vero Beach: Counter Day
DESCRIPTION:Join us for an ICP Counter Day at Baker Distributing in Vero Beach! Discover innovative ICP Crossover Units and ICP Mini Splits—engineered for efficiency and superior performance. Meet with ICP representatives to explore features\, ask technical questions\, and learn how these cutting-edge systems can expand your service offerings and boost your business. Stop by and see why contractors are choosing ICP!
URL:https://acprosite.com/event/baker-distributing-vero-beach-counter-day-3/
LOCATION:Baker Vero Beach\, 898 9th Place\, Vero Beach\, Florida\, 32960
CATEGORIES:East Central Florida
END:VEVENT
BEGIN:VEVENT
DTSTART;TZID=America/New_York:20250506T080000
DTEND;TZID=America/New_York:20250506T120000
DTSTAMP:20260420T062735
CREATED:20250428T174852Z
LAST-MODIFIED:20250428T174852Z
UID:10003031-1746518400-1746532800@acprosite.com
SUMMARY:Baker Distributing Vero Beach: Counter Day
DESCRIPTION:Join us for an exciting Counter Day featuring Klein Tools! \nA company representative will be on-site to demo new products and answer questions.
URL:https://acprosite.com/event/baker-distributing-vero-beach-counter-day/
LOCATION:Baker Vero Beach\, 898 9th Place\, Vero Beach\, Florida\, 32960
CATEGORIES:East Central Florida
END:VEVENT
BEGIN:VEVENT
DTSTART;TZID=America/New_York:20250430T080000
DTEND;TZID=America/New_York:20250430T100000
DTSTAMP:20260420T062735
CREATED:20250428T175618Z
LAST-MODIFIED:20250428T175618Z
UID:10003032-1746000000-1746007200@acprosite.com
SUMMARY:Baker Distributing Vero Beach: Counter Day
DESCRIPTION:Join us for an exciting Counter Day featuring Klein Tools! \nA company representative will be on-site to demo new products and answer questions. \n 
URL:https://acprosite.com/event/baker-distributing-vero-beach-counter-day-2/
LOCATION:Baker Vero Beach\, 898 9th Place\, Vero Beach\, Florida\, 32960
CATEGORIES:East Central Florida
END:VEVENT
END:VCALENDAR