BEGIN:VCALENDAR
VERSION:2.0
PRODID:-//ACprosite - ECPv6.15.20//NONSGML v1.0//EN
CALSCALE:GREGORIAN
METHOD:PUBLISH
X-WR-CALNAME:ACprosite
X-ORIGINAL-URL:https://acprosite.com
X-WR-CALDESC:Events for ACprosite
REFRESH-INTERVAL;VALUE=DURATION:PT1H
X-Robots-Tag:noindex
X-PUBLISHED-TTL:PT1H
BEGIN:VTIMEZONE
TZID:America/New_York
BEGIN:DAYLIGHT
TZOFFSETFROM:-0500
TZOFFSETTO:-0400
TZNAME:EDT
DTSTART:20230312T070000
END:DAYLIGHT
BEGIN:STANDARD
TZOFFSETFROM:-0400
TZOFFSETTO:-0500
TZNAME:EST
DTSTART:20231105T060000
END:STANDARD
BEGIN:DAYLIGHT
TZOFFSETFROM:-0500
TZOFFSETTO:-0400
TZNAME:EDT
DTSTART:20240310T070000
END:DAYLIGHT
BEGIN:STANDARD
TZOFFSETFROM:-0400
TZOFFSETTO:-0500
TZNAME:EST
DTSTART:20241103T060000
END:STANDARD
BEGIN:DAYLIGHT
TZOFFSETFROM:-0500
TZOFFSETTO:-0400
TZNAME:EDT
DTSTART:20250309T070000
END:DAYLIGHT
BEGIN:STANDARD
TZOFFSETFROM:-0400
TZOFFSETTO:-0500
TZNAME:EST
DTSTART:20251102T060000
END:STANDARD
BEGIN:DAYLIGHT
TZOFFSETFROM:-0500
TZOFFSETTO:-0400
TZNAME:EDT
DTSTART:20260308T070000
END:DAYLIGHT
BEGIN:STANDARD
TZOFFSETFROM:-0400
TZOFFSETTO:-0500
TZNAME:EST
DTSTART:20261101T060000
END:STANDARD
END:VTIMEZONE
BEGIN:VEVENT
DTSTART;TZID=America/New_York:20250925T083000
DTEND;TZID=America/New_York:20250925T110000
DTSTAMP:20260425T200922
CREATED:20250910T160446Z
LAST-MODIFIED:20250910T160446Z
UID:10003219-1758789000-1758798000@acprosite.com
SUMMARY:CE Largo: Counter Connections
DESCRIPTION:COME SEE WHAT’S BREWING WITH NAVAC THIS MONTH! \nYou’re invited to connect with NAVAC at our local branch! Meet us at the  counter\, grab a coffee\, and learn more about featured innovative products and solutions. We look forward to seeing you there! \nTAKE ADVANTAGE OF 20% OFF ALL NAVAC TOOLS!
URL:https://acprosite.com/event/ce-largo-counter-connections/
LOCATION:CE Largo\, 7370 124th Ave. North\, Largo\, Florida\, 33773
CATEGORIES:West Central Florida
END:VEVENT
BEGIN:VEVENT
DTSTART;VALUE=DATE:20250131
DTEND;VALUE=DATE:20250201
DTSTAMP:20260425T200922
CREATED:20250109T150656Z
LAST-MODIFIED:20250109T150656Z
UID:10002846-1738310400-1738342800@acprosite.com
SUMMARY:CE Largo: Ductless Days 2 Day Event January 30th & 31st
DESCRIPTION:Stop in to shop clearance items\, scratch & dent sales and ductless deals\, promotions & more. \nEnjoy food & refreshments! \nYour One Stop Shop for Everything HVAC Open 24/7 @ www.CarrierEnterprise.com \n \n  \n  \n 
URL:https://acprosite.com/event/ce-largo-ductless-days-2-day-event-january-30th-31st/2025-01-31/
LOCATION:CE Largo\, 7370 124th Ave. North\, Largo\, Florida\, 33773
CATEGORIES:West Central Florida
END:VEVENT
BEGIN:VEVENT
DTSTART;VALUE=DATE:20250130
DTEND;VALUE=DATE:20250131
DTSTAMP:20260425T200922
CREATED:20250109T150656Z
LAST-MODIFIED:20250109T150656Z
UID:10002845-1738195200-1738281599@acprosite.com
SUMMARY:CE Largo: Ductless Days 2 Day Event January 30th & 31st
DESCRIPTION:Stop in to shop clearance items\, scratch & dent sales and ductless deals\, promotions & more. \nEnjoy food & refreshments! \nYour One Stop Shop for Everything HVAC Open 24/7 @ www.CarrierEnterprise.com \n \n  \n  \n 
URL:https://acprosite.com/event/ce-largo-ductless-days-2-day-event-january-30th-31st/2025-01-30/
LOCATION:CE Largo\, 7370 124th Ave. North\, Largo\, Florida\, 33773
CATEGORIES:West Central Florida
END:VEVENT
BEGIN:VEVENT
DTSTART;VALUE=DATE:20250117
DTEND;VALUE=DATE:20250118
DTSTAMP:20260425T200922
CREATED:20250107T141944Z
LAST-MODIFIED:20250107T141944Z
UID:10002799-1737072000-1737158399@acprosite.com
SUMMARY:CE Largo: Parts & Supplies Social
DESCRIPTION:Meet our Featured Partner! Snacks and refreshments will\nbe served. \nParts & Supplies Social Featured Product: TRADEPRO
URL:https://acprosite.com/event/ce-largo-parts-supplies-social-14/
LOCATION:CE Largo\, 7370 124th Ave. North\, Largo\, Florida\, 33773
CATEGORIES:West Central Florida
END:VEVENT
BEGIN:VEVENT
DTSTART;VALUE=DATE:20250107
DTEND;VALUE=DATE:20250108
DTSTAMP:20260425T200922
CREATED:20250106T144349Z
LAST-MODIFIED:20250106T144349Z
UID:10002771-1736208000-1736294399@acprosite.com
SUMMARY:CE: Morning Jolt! Largo
DESCRIPTION:Get your morning Jolt! Enjoy breakfast and let the CE Team share this month’s specials.\n \n 
URL:https://acprosite.com/event/ce-morning-jolt-largo-13/
LOCATION:CE Largo\, 7370 124th Ave. North\, Largo\, Florida\, 33773
CATEGORIES:West Central Florida
END:VEVENT
BEGIN:VEVENT
DTSTART;VALUE=DATE:20241220
DTEND;VALUE=DATE:20241221
DTSTAMP:20260425T200922
CREATED:20241211T182159Z
LAST-MODIFIED:20241211T182159Z
UID:10002705-1734681600-1734714000@acprosite.com
SUMMARY:CE Largo: Ductless Days 2 Day Event December 19th & 20th
DESCRIPTION:Stop in to shop clearance items\, scratch & dent sales and ductless deals & more. \nEnjoy food & refreshments! \nYour One Stop Shop for Everything HVAC Open 24/7 @ www.CarrierEnterprise.com \n \n  \n 
URL:https://acprosite.com/event/ce-largo-ductless-days-2-day-event-december-19th-20th/2024-12-20/
LOCATION:CE Largo\, 7370 124th Ave. North\, Largo\, Florida\, 33773
CATEGORIES:West Central Florida
END:VEVENT
BEGIN:VEVENT
DTSTART;VALUE=DATE:20241219
DTEND;VALUE=DATE:20241220
DTSTAMP:20260425T200922
CREATED:20241211T182159Z
LAST-MODIFIED:20241211T182159Z
UID:10002704-1734566400-1734652799@acprosite.com
SUMMARY:CE Largo: Ductless Days 2 Day Event December 19th & 20th
DESCRIPTION:Stop in to shop clearance items\, scratch & dent sales and ductless deals & more. \nEnjoy food & refreshments! \nYour One Stop Shop for Everything HVAC Open 24/7 @ www.CarrierEnterprise.com \n \n  \n 
URL:https://acprosite.com/event/ce-largo-ductless-days-2-day-event-december-19th-20th/2024-12-19/
LOCATION:CE Largo\, 7370 124th Ave. North\, Largo\, Florida\, 33773
CATEGORIES:West Central Florida
END:VEVENT
BEGIN:VEVENT
DTSTART;VALUE=DATE:20241122
DTEND;VALUE=DATE:20241123
DTSTAMP:20260425T200922
CREATED:20241030T143008Z
LAST-MODIFIED:20241030T143008Z
UID:10002623-1732262400-1732294800@acprosite.com
SUMMARY:CE Largo: Ductless Days 2 Day Event Nov. 21st & 22nd
DESCRIPTION:Take Advantage: Product Clearance items\, Scratch & Dent and Ductless Deals\, Promotions & More. \nEnjoy Food & Refreshments! \nYour One Stop Shop for Everything HVAC Open 24/7 @ www.CarrierEnterprise.com \n \n 
URL:https://acprosite.com/event/ce-largo-ductless-days-2-day-event-nov-21st-22nd/2024-11-22/
LOCATION:CE Largo\, 7370 124th Ave. North\, Largo\, Florida\, 33773
CATEGORIES:West Central Florida
END:VEVENT
BEGIN:VEVENT
DTSTART;VALUE=DATE:20241121
DTEND;VALUE=DATE:20241122
DTSTAMP:20260425T200922
CREATED:20241030T143008Z
LAST-MODIFIED:20241030T143008Z
UID:10002622-1732147200-1732233599@acprosite.com
SUMMARY:CE Largo: Ductless Days 2 Day Event Nov. 21st & 22nd
DESCRIPTION:Take Advantage: Product Clearance items\, Scratch & Dent and Ductless Deals\, Promotions & More. \nEnjoy Food & Refreshments! \nYour One Stop Shop for Everything HVAC Open 24/7 @ www.CarrierEnterprise.com \n \n 
URL:https://acprosite.com/event/ce-largo-ductless-days-2-day-event-nov-21st-22nd/2024-11-21/
LOCATION:CE Largo\, 7370 124th Ave. North\, Largo\, Florida\, 33773
CATEGORIES:West Central Florida
END:VEVENT
BEGIN:VEVENT
DTSTART;VALUE=DATE:20240927
DTEND;VALUE=DATE:20240928
DTSTAMP:20260425T200922
CREATED:20240909T143049Z
LAST-MODIFIED:20240909T143049Z
UID:10002503-1727424000-1727456400@acprosite.com
SUMMARY:CE Largo: Ductless Days 2 Day Event Sept. 26th & 27th
DESCRIPTION:Take Advantage: Product Clearance items\, Scratch & Dent and Ductless Deals\, Promotions & More. \nEnjoy Food & Refreshments! \nYour One Stop Shop for Everything HVAC Open 24/7 @ www.CarrierEnterprise.com
URL:https://acprosite.com/event/ce-largo-ductless-days-2-day-event-sept-26th-27th/2024-09-27/
LOCATION:CE Largo\, 7370 124th Ave. North\, Largo\, Florida\, 33773
CATEGORIES:West Central Florida
END:VEVENT
BEGIN:VEVENT
DTSTART;VALUE=DATE:20240926
DTEND;VALUE=DATE:20240927
DTSTAMP:20260425T200922
CREATED:20240909T143049Z
LAST-MODIFIED:20240909T143049Z
UID:10002502-1727308800-1727395199@acprosite.com
SUMMARY:CE Largo: Ductless Days 2 Day Event Sept. 26th & 27th
DESCRIPTION:Take Advantage: Product Clearance items\, Scratch & Dent and Ductless Deals\, Promotions & More. \nEnjoy Food & Refreshments! \nYour One Stop Shop for Everything HVAC Open 24/7 @ www.CarrierEnterprise.com
URL:https://acprosite.com/event/ce-largo-ductless-days-2-day-event-sept-26th-27th/2024-09-26/
LOCATION:CE Largo\, 7370 124th Ave. North\, Largo\, Florida\, 33773
CATEGORIES:West Central Florida
END:VEVENT
BEGIN:VEVENT
DTSTART;VALUE=DATE:20240920
DTEND;VALUE=DATE:20240921
DTSTAMP:20260425T200922
CREATED:20240905T151250Z
LAST-MODIFIED:20240905T151250Z
UID:10002457-1726790400-1726876799@acprosite.com
SUMMARY:CE Largo: Parts & Supplies Social
DESCRIPTION:Check out our featured products while you enjoy snacks and refreshments! \nParts & Supplies Social Featured Product: TRADEPRO
URL:https://acprosite.com/event/ce-largo-parts-supplies-social-13/
LOCATION:CE Largo\, 7370 124th Ave. North\, Largo\, Florida\, 33773
CATEGORIES:West Central Florida
END:VEVENT
BEGIN:VEVENT
DTSTART;VALUE=DATE:20240910
DTEND;VALUE=DATE:20240911
DTSTAMP:20260425T200922
CREATED:20240904T145013Z
LAST-MODIFIED:20240904T145013Z
UID:10002430-1725926400-1726012799@acprosite.com
SUMMARY:CE: Morning Jolt! Largo
DESCRIPTION:Get your morning Jolt! Enjoy breakfast and let the CE Team share this month’s specials.
URL:https://acprosite.com/event/ce-morning-jolt-largo-12/
LOCATION:CE Largo\, 7370 124th Ave. North\, Largo\, Florida\, 33773
CATEGORIES:West Central Florida
END:VEVENT
BEGIN:VEVENT
DTSTART;VALUE=DATE:20240830
DTEND;VALUE=DATE:20240831
DTSTAMP:20260425T200922
CREATED:20240801T173150Z
LAST-MODIFIED:20240801T173150Z
UID:10002266-1725004800-1725037200@acprosite.com
SUMMARY:CE Largo: Ductless Days 2 Day Event Aug 29th & 30th
DESCRIPTION:Take Advantage: Product Clearance items\, Scratch & Dent and Ductless Deals\, Promotions & More. \nEnjoy Food & Refreshments! \nYour One Stop Shop for Everything HVAC Open 24/7 @ www.CarrierEnterprise.com
URL:https://acprosite.com/event/ce-largo-ductless-days-2-day-event-aug-29th-30th/2024-08-30/
LOCATION:CE Largo\, 7370 124th Ave. North\, Largo\, Florida\, 33773
CATEGORIES:West Central Florida
END:VEVENT
BEGIN:VEVENT
DTSTART;VALUE=DATE:20240829
DTEND;VALUE=DATE:20240830
DTSTAMP:20260425T200922
CREATED:20240801T173150Z
LAST-MODIFIED:20240801T173150Z
UID:10002265-1724889600-1724975999@acprosite.com
SUMMARY:CE Largo: Ductless Days 2 Day Event Aug 29th & 30th
DESCRIPTION:Take Advantage: Product Clearance items\, Scratch & Dent and Ductless Deals\, Promotions & More. \nEnjoy Food & Refreshments! \nYour One Stop Shop for Everything HVAC Open 24/7 @ www.CarrierEnterprise.com
URL:https://acprosite.com/event/ce-largo-ductless-days-2-day-event-aug-29th-30th/2024-08-29/
LOCATION:CE Largo\, 7370 124th Ave. North\, Largo\, Florida\, 33773
CATEGORIES:West Central Florida
END:VEVENT
BEGIN:VEVENT
DTSTART;VALUE=DATE:20240816
DTEND;VALUE=DATE:20240817
DTSTAMP:20260425T200922
CREATED:20240801T135536Z
LAST-MODIFIED:20240801T135536Z
UID:10002220-1723766400-1723852799@acprosite.com
SUMMARY:CE Largo: Parts & Supplies Social
DESCRIPTION:Check out our featured products while you enjoy snacks and refreshments! \nParts & Supplies Social Featured Product: Aspen Air Handlers
URL:https://acprosite.com/event/ce-largo-parts-supplies-social-12/
LOCATION:CE Largo\, 7370 124th Ave. North\, Largo\, Florida\, 33773
CATEGORIES:West Central Florida
END:VEVENT
BEGIN:VEVENT
DTSTART;VALUE=DATE:20240806
DTEND;VALUE=DATE:20240807
DTSTAMP:20260425T200922
CREATED:20240731T161528Z
LAST-MODIFIED:20240731T161528Z
UID:10002193-1722902400-1722988799@acprosite.com
SUMMARY:CE: Morning Jolt! Largo
DESCRIPTION:Get your morning Jolt! Enjoy breakfast and let the CE Team share this month’s specials.
URL:https://acprosite.com/event/ce-morning-jolt-largo-11/
LOCATION:CE Largo\, 7370 124th Ave. North\, Largo\, Florida\, 33773
CATEGORIES:West Central Florida
END:VEVENT
BEGIN:VEVENT
DTSTART;VALUE=DATE:20240726
DTEND;VALUE=DATE:20240727
DTSTAMP:20260425T200922
CREATED:20240711T134530Z
LAST-MODIFIED:20240711T134530Z
UID:10002097-1721980800-1722013200@acprosite.com
SUMMARY:CE Largo: Ductless Days 2 Day Event July 25th & 26th
DESCRIPTION:Take Advantage: Product Clearance items\, Scratch & Dent and Ductless Deals\, Promotions & More. \nEnjoy Food & Refreshments! \nYour One Stop Shop for Everything HVAC Open 24/7 @ www.CarrierEnterprise.com
URL:https://acprosite.com/event/ce-largo-ductless-days-2-day-event-july-25th-26th/2024-07-26/
LOCATION:CE Largo\, 7370 124th Ave. North\, Largo\, Florida\, 33773
CATEGORIES:West Central Florida
END:VEVENT
BEGIN:VEVENT
DTSTART;VALUE=DATE:20240725
DTEND;VALUE=DATE:20240726
DTSTAMP:20260425T200922
CREATED:20240711T134530Z
LAST-MODIFIED:20240711T134530Z
UID:10002096-1721865600-1721951999@acprosite.com
SUMMARY:CE Largo: Ductless Days 2 Day Event July 25th & 26th
DESCRIPTION:Take Advantage: Product Clearance items\, Scratch & Dent and Ductless Deals\, Promotions & More. \nEnjoy Food & Refreshments! \nYour One Stop Shop for Everything HVAC Open 24/7 @ www.CarrierEnterprise.com
URL:https://acprosite.com/event/ce-largo-ductless-days-2-day-event-july-25th-26th/2024-07-25/
LOCATION:CE Largo\, 7370 124th Ave. North\, Largo\, Florida\, 33773
CATEGORIES:West Central Florida
END:VEVENT
BEGIN:VEVENT
DTSTART;VALUE=DATE:20240719
DTEND;VALUE=DATE:20240720
DTSTAMP:20260425T200922
CREATED:20240702T141724Z
LAST-MODIFIED:20240702T141724Z
UID:10002039-1721347200-1721433599@acprosite.com
SUMMARY:CE Largo: Parts & Supplies Social
DESCRIPTION:Meet our Featured Partner! Snacks and refreshments will be served. \nParts & Supplies Social Featured Product Vendor: ecobee
URL:https://acprosite.com/event/ce-largo-parts-supplies-social-11/
LOCATION:CE Largo\, 7370 124th Ave. North\, Largo\, Florida\, 33773
CATEGORIES:West Central Florida
END:VEVENT
BEGIN:VEVENT
DTSTART;VALUE=DATE:20240709
DTEND;VALUE=DATE:20240710
DTSTAMP:20260425T200922
CREATED:20240701T140023Z
LAST-MODIFIED:20240701T140023Z
UID:10002008-1720483200-1720569599@acprosite.com
SUMMARY:CE: Morning Jolt! Tampa
DESCRIPTION:Get your morning Jolt! Enjoy breakfast and let the CE Team share this month’s specials.
URL:https://acprosite.com/event/ce-morning-jolt-tampa-10/
LOCATION:CE Largo\, 7370 124th Ave. North\, Largo\, Florida\, 33773
CATEGORIES:West Central Florida
END:VEVENT
BEGIN:VEVENT
DTSTART;VALUE=DATE:20240709
DTEND;VALUE=DATE:20240710
DTSTAMP:20260425T200922
CREATED:20240701T135926Z
LAST-MODIFIED:20240701T135926Z
UID:10002007-1720483200-1720569599@acprosite.com
SUMMARY:CE: Morning Jolt! Largo
DESCRIPTION:Get your morning Jolt! Enjoy breakfast and let the CE Team share this month’s specials.
URL:https://acprosite.com/event/ce-morning-jolt-largo-10/
LOCATION:CE Largo\, 7370 124th Ave. North\, Largo\, Florida\, 33773
CATEGORIES:West Central Florida
END:VEVENT
BEGIN:VEVENT
DTSTART;VALUE=DATE:20240628
DTEND;VALUE=DATE:20240629
DTSTAMP:20260425T200922
CREATED:20240604T153811Z
LAST-MODIFIED:20240604T153811Z
UID:10001927-1719561600-1719594000@acprosite.com
SUMMARY:CE Largo: Ductless Days 2 Day Event June 27th & 28th
DESCRIPTION:Take Advantage: Product Clearance items\, Scratch & Dent and Ductless Deals\, Promotions & More. \nEnjoy Food & Refreshments! \nYour One Stop Shop for Everything HVAC Open 24/7 @ www.CarrierEnterprise.com
URL:https://acprosite.com/event/ce-largo-ductless-days-2-day-event-june-27th-28th/2024-06-28/
LOCATION:CE Largo\, 7370 124th Ave. North\, Largo\, Florida\, 33773
CATEGORIES:West Central Florida
END:VEVENT
BEGIN:VEVENT
DTSTART;VALUE=DATE:20240627
DTEND;VALUE=DATE:20240628
DTSTAMP:20260425T200922
CREATED:20240604T153811Z
LAST-MODIFIED:20240604T153811Z
UID:10001926-1719446400-1719532799@acprosite.com
SUMMARY:CE Largo: Ductless Days 2 Day Event June 27th & 28th
DESCRIPTION:Take Advantage: Product Clearance items\, Scratch & Dent and Ductless Deals\, Promotions & More. \nEnjoy Food & Refreshments! \nYour One Stop Shop for Everything HVAC Open 24/7 @ www.CarrierEnterprise.com
URL:https://acprosite.com/event/ce-largo-ductless-days-2-day-event-june-27th-28th/2024-06-27/
LOCATION:CE Largo\, 7370 124th Ave. North\, Largo\, Florida\, 33773
CATEGORIES:West Central Florida
END:VEVENT
BEGIN:VEVENT
DTSTART;VALUE=DATE:20240621
DTEND;VALUE=DATE:20240622
DTSTAMP:20260425T200922
CREATED:20240603T151823Z
LAST-MODIFIED:20240603T151823Z
UID:10001875-1718928000-1719014399@acprosite.com
SUMMARY:CE Largo: Parts & Supplies Social
DESCRIPTION:Meet our Featured Partner! Snacks and refreshments will be served. \nParts & Supplies Social Featured Product Vendor: ecobee
URL:https://acprosite.com/event/ce-largo-parts-supplies-social-10/
LOCATION:CE Largo\, 7370 124th Ave. North\, Largo\, Florida\, 33773
CATEGORIES:West Central Florida
END:VEVENT
BEGIN:VEVENT
DTSTART;VALUE=DATE:20240611
DTEND;VALUE=DATE:20240612
DTSTAMP:20260425T200922
CREATED:20240531T173450Z
LAST-MODIFIED:20240531T173450Z
UID:10001848-1718064000-1718150399@acprosite.com
SUMMARY:CE: Morning Jolt! Largo
DESCRIPTION:Get your morning Jolt! Enjoy breakfast and let the CE Team share this month’s specials.
URL:https://acprosite.com/event/ce-morning-jolt-largo-9/
LOCATION:CE Largo\, 7370 124th Ave. North\, Largo\, Florida\, 33773
CATEGORIES:West Central Florida
END:VEVENT
BEGIN:VEVENT
DTSTART;VALUE=DATE:20240517
DTEND;VALUE=DATE:20240518
DTSTAMP:20260425T200922
CREATED:20240510T145659Z
LAST-MODIFIED:20240510T145659Z
UID:10001758-1715904000-1715990399@acprosite.com
SUMMARY:CE Largo: Parts & Supplies Social
DESCRIPTION:Meet our Featured Partner! Snacks and refreshments will be served. \nParts & Supplies Social Featured Product Vendor: ecobee
URL:https://acprosite.com/event/ce-largo-parts-supplies-social-9/
LOCATION:CE Largo\, 7370 124th Ave. North\, Largo\, Florida\, 33773
CATEGORIES:West Central Florida
END:VEVENT
BEGIN:VEVENT
DTSTART;VALUE=DATE:20240507
DTEND;VALUE=DATE:20240508
DTSTAMP:20260425T200922
CREATED:20240506T154130Z
LAST-MODIFIED:20240506T154130Z
UID:10001665-1715040000-1715126399@acprosite.com
SUMMARY:CE: Morning Jolt! Largo
DESCRIPTION:Get your morning Jolt! Enjoy breakfast and let the CE Team share this month’s specials.
URL:https://acprosite.com/event/ce-morning-jolt-largo-8/
LOCATION:CE Largo\, 7370 124th Ave. North\, Largo\, Florida\, 33773
CATEGORIES:West Central Florida
END:VEVENT
BEGIN:VEVENT
DTSTART;VALUE=DATE:20240426
DTEND;VALUE=DATE:20240427
DTSTAMP:20260425T200922
CREATED:20240404T131533Z
LAST-MODIFIED:20240404T131533Z
UID:10001592-1714118400-1714150800@acprosite.com
SUMMARY:CE Largo: Ductless Days 2 Day Event April 25th & 26th
DESCRIPTION:Take Advantage: Product Clearance items\, Scratch & Dent and Ductless Deals\, Promotions & More. \nEnjoy Food & Refreshments! \nYour One Stop Shop for Everything HVAC Open 24/7 @ www.CarrierEnterprise.com
URL:https://acprosite.com/event/ce-largo-ductless-days-2-day-event-april-25th-26th/2024-04-26/
LOCATION:CE Largo\, 7370 124th Ave. North\, Largo\, Florida\, 33773
CATEGORIES:West Central Florida
END:VEVENT
BEGIN:VEVENT
DTSTART;VALUE=DATE:20240425
DTEND;VALUE=DATE:20240426
DTSTAMP:20260425T200922
CREATED:20240404T131533Z
LAST-MODIFIED:20240404T131533Z
UID:10001591-1714003200-1714089599@acprosite.com
SUMMARY:CE Largo: Ductless Days 2 Day Event April 25th & 26th
DESCRIPTION:Take Advantage: Product Clearance items\, Scratch & Dent and Ductless Deals\, Promotions & More. \nEnjoy Food & Refreshments! \nYour One Stop Shop for Everything HVAC Open 24/7 @ www.CarrierEnterprise.com
URL:https://acprosite.com/event/ce-largo-ductless-days-2-day-event-april-25th-26th/2024-04-25/
LOCATION:CE Largo\, 7370 124th Ave. North\, Largo\, Florida\, 33773
CATEGORIES:West Central Florida
END:VEVENT
END:VCALENDAR