BEGIN:VCALENDAR
VERSION:2.0
PRODID:-//ACprosite - ECPv6.15.20//NONSGML v1.0//EN
CALSCALE:GREGORIAN
METHOD:PUBLISH
X-WR-CALNAME:ACprosite
X-ORIGINAL-URL:https://acprosite.com
X-WR-CALDESC:Events for ACprosite
REFRESH-INTERVAL;VALUE=DURATION:PT1H
X-Robots-Tag:noindex
X-PUBLISHED-TTL:PT1H
BEGIN:VTIMEZONE
TZID:America/New_York
BEGIN:DAYLIGHT
TZOFFSETFROM:-0500
TZOFFSETTO:-0400
TZNAME:EDT
DTSTART:20230312T070000
END:DAYLIGHT
BEGIN:STANDARD
TZOFFSETFROM:-0400
TZOFFSETTO:-0500
TZNAME:EST
DTSTART:20231105T060000
END:STANDARD
BEGIN:DAYLIGHT
TZOFFSETFROM:-0500
TZOFFSETTO:-0400
TZNAME:EDT
DTSTART:20240310T070000
END:DAYLIGHT
BEGIN:STANDARD
TZOFFSETFROM:-0400
TZOFFSETTO:-0500
TZNAME:EST
DTSTART:20241103T060000
END:STANDARD
BEGIN:DAYLIGHT
TZOFFSETFROM:-0500
TZOFFSETTO:-0400
TZNAME:EDT
DTSTART:20250309T070000
END:DAYLIGHT
BEGIN:STANDARD
TZOFFSETFROM:-0400
TZOFFSETTO:-0500
TZNAME:EST
DTSTART:20251102T060000
END:STANDARD
BEGIN:DAYLIGHT
TZOFFSETFROM:-0500
TZOFFSETTO:-0400
TZNAME:EDT
DTSTART:20260308T070000
END:DAYLIGHT
BEGIN:STANDARD
TZOFFSETFROM:-0400
TZOFFSETTO:-0500
TZNAME:EST
DTSTART:20261101T060000
END:STANDARD
END:VTIMEZONE
BEGIN:VEVENT
DTSTART;TZID=America/New_York:20250904T083000
DTEND;TZID=America/New_York:20250904T110000
DTSTAMP:20260419T174833
CREATED:20250902T133334Z
LAST-MODIFIED:20250902T133334Z
UID:10003190-1756974600-1756983600@acprosite.com
SUMMARY:CE Orlando: Counter Connections
DESCRIPTION:COME SEE WHAT’S BREWING WITH NAVAC THIS MONTH! \nYou’re invited to connect with NAVAC at our local branch! Meet us at the counter\, grab a coffee\, and learn more about featured innovative products and solutions. We look forward to seeing you there!
URL:https://acprosite.com/event/ce-orlando-counter-connections/
LOCATION:CE Orlando Vista Reserve\, 8050 Vista Reserve Blvd.\, Suite 2200\, Orlando\, Florida\, 32829
CATEGORIES:East Central Florida
END:VEVENT
BEGIN:VEVENT
DTSTART;VALUE=DATE:20250131
DTEND;VALUE=DATE:20250201
DTSTAMP:20260419T174833
CREATED:20250109T151402Z
LAST-MODIFIED:20250109T151402Z
UID:10002866-1738310400-1738342800@acprosite.com
SUMMARY:CE Orlando Vista Reserve: Ductless Days 2 Day Event January 30th & 31st
DESCRIPTION:Stop in to shop clearance items\, scratch & dent sales and ductless deals\, promotions & more. \nEnjoy food & refreshments! \nYour One Stop Shop for Everything HVAC Open 24/7 @ www.CarrierEnterprise.com \n \n  \n  \n 
URL:https://acprosite.com/event/ce-orlando-vista-reserve-ductless-days-2-day-event-january-30th-31st/2025-01-31/
LOCATION:CE Orlando Vista Reserve\, 8050 Vista Reserve Blvd.\, Suite 2200\, Orlando\, Florida\, 32829
CATEGORIES:East Central Florida
END:VEVENT
BEGIN:VEVENT
DTSTART;VALUE=DATE:20250130
DTEND;VALUE=DATE:20250131
DTSTAMP:20260419T174833
CREATED:20250109T151402Z
LAST-MODIFIED:20250109T151402Z
UID:10002865-1738195200-1738281599@acprosite.com
SUMMARY:CE Orlando Vista Reserve: Ductless Days 2 Day Event January 30th & 31st
DESCRIPTION:Stop in to shop clearance items\, scratch & dent sales and ductless deals\, promotions & more. \nEnjoy food & refreshments! \nYour One Stop Shop for Everything HVAC Open 24/7 @ www.CarrierEnterprise.com \n \n  \n  \n 
URL:https://acprosite.com/event/ce-orlando-vista-reserve-ductless-days-2-day-event-january-30th-31st/2025-01-30/
LOCATION:CE Orlando Vista Reserve\, 8050 Vista Reserve Blvd.\, Suite 2200\, Orlando\, Florida\, 32829
CATEGORIES:East Central Florida
END:VEVENT
BEGIN:VEVENT
DTSTART;VALUE=DATE:20250117
DTEND;VALUE=DATE:20250118
DTSTAMP:20260419T174833
CREATED:20250107T142744Z
LAST-MODIFIED:20250107T142744Z
UID:10002808-1737072000-1737158399@acprosite.com
SUMMARY:CE Orlando Vista Reserve: Parts & Supplies Social
DESCRIPTION:Meet our Featured Partner! Snacks and refreshments will\nbe served. \nParts & Supplies Social Featured Product: TRADEPRO
URL:https://acprosite.com/event/ce-orlando-vista-reserve-parts-supplies-social-14/
LOCATION:CE Orlando Vista Reserve\, 8050 Vista Reserve Blvd.\, Suite 2200\, Orlando\, Florida\, 32829
CATEGORIES:East Central Florida
END:VEVENT
BEGIN:VEVENT
DTSTART;VALUE=DATE:20250107
DTEND;VALUE=DATE:20250108
DTSTAMP:20260419T174833
CREATED:20250106T144944Z
LAST-MODIFIED:20250106T144944Z
UID:10002780-1736208000-1736294399@acprosite.com
SUMMARY:CE: Morning Jolt! Orlando Vista Reserve
DESCRIPTION:Get your morning Jolt! Enjoy breakfast and let the CE Team share this month’s specials.\n \n 
URL:https://acprosite.com/event/ce-morning-jolt-orlando-vista-reserve-11/
LOCATION:CE Orlando Vista Reserve\, 8050 Vista Reserve Blvd.\, Suite 2200\, Orlando\, Florida\, 32829
CATEGORIES:East Central Florida
END:VEVENT
BEGIN:VEVENT
DTSTART;VALUE=DATE:20241220
DTEND;VALUE=DATE:20241221
DTSTAMP:20260419T174833
CREATED:20241211T182805Z
LAST-MODIFIED:20241211T182805Z
UID:10002723-1734681600-1734714000@acprosite.com
SUMMARY:CE Orlando Vista Reserve: Ductless Days 2 Day Event December 19th & 20th
DESCRIPTION:Stop in to shop clearance items\, scratch & dent sales and ductless deals & more. \nEnjoy food & refreshments! \nYour One Stop Shop for Everything HVAC Open 24/7 @ www.CarrierEnterprise.com \n \n  \n 
URL:https://acprosite.com/event/ce-orlando-vista-reserve-ductless-days-2-day-event-december-19th-20th/2024-12-20/
LOCATION:CE Orlando Vista Reserve\, 8050 Vista Reserve Blvd.\, Suite 2200\, Orlando\, Florida\, 32829
CATEGORIES:East Central Florida
END:VEVENT
BEGIN:VEVENT
DTSTART;VALUE=DATE:20241219
DTEND;VALUE=DATE:20241220
DTSTAMP:20260419T174833
CREATED:20241211T182805Z
LAST-MODIFIED:20241211T182805Z
UID:10002722-1734566400-1734652799@acprosite.com
SUMMARY:CE Orlando Vista Reserve: Ductless Days 2 Day Event December 19th & 20th
DESCRIPTION:Stop in to shop clearance items\, scratch & dent sales and ductless deals & more. \nEnjoy food & refreshments! \nYour One Stop Shop for Everything HVAC Open 24/7 @ www.CarrierEnterprise.com \n \n  \n 
URL:https://acprosite.com/event/ce-orlando-vista-reserve-ductless-days-2-day-event-december-19th-20th/2024-12-19/
LOCATION:CE Orlando Vista Reserve\, 8050 Vista Reserve Blvd.\, Suite 2200\, Orlando\, Florida\, 32829
CATEGORIES:East Central Florida
END:VEVENT
BEGIN:VEVENT
DTSTART;VALUE=DATE:20241122
DTEND;VALUE=DATE:20241123
DTSTAMP:20260419T174833
CREATED:20241030T143730Z
LAST-MODIFIED:20241030T143730Z
UID:10002641-1732262400-1732294800@acprosite.com
SUMMARY:CE Orlando Vista Reserve: Ductless Days 2 Day Event Nov. 21st & 22nd
DESCRIPTION:Take Advantage: Product Clearance items\, Scratch & Dent and Ductless Deals\, Promotions & More. \nEnjoy Food & Refreshments! \nYour One Stop Shop for Everything HVAC Open 24/7 @ www.CarrierEnterprise.com \n \n 
URL:https://acprosite.com/event/ce-orlando-vista-reserve-ductless-days-2-day-event-nov-21st-22nd/2024-11-22/
LOCATION:CE Orlando Vista Reserve\, 8050 Vista Reserve Blvd.\, Suite 2200\, Orlando\, Florida\, 32829
CATEGORIES:East Central Florida
END:VEVENT
BEGIN:VEVENT
DTSTART;VALUE=DATE:20241121
DTEND;VALUE=DATE:20241122
DTSTAMP:20260419T174833
CREATED:20241030T143730Z
LAST-MODIFIED:20241030T143730Z
UID:10002640-1732147200-1732233599@acprosite.com
SUMMARY:CE Orlando Vista Reserve: Ductless Days 2 Day Event Nov. 21st & 22nd
DESCRIPTION:Take Advantage: Product Clearance items\, Scratch & Dent and Ductless Deals\, Promotions & More. \nEnjoy Food & Refreshments! \nYour One Stop Shop for Everything HVAC Open 24/7 @ www.CarrierEnterprise.com \n \n 
URL:https://acprosite.com/event/ce-orlando-vista-reserve-ductless-days-2-day-event-nov-21st-22nd/2024-11-21/
LOCATION:CE Orlando Vista Reserve\, 8050 Vista Reserve Blvd.\, Suite 2200\, Orlando\, Florida\, 32829
CATEGORIES:East Central Florida
END:VEVENT
BEGIN:VEVENT
DTSTART;VALUE=DATE:20240927
DTEND;VALUE=DATE:20240928
DTSTAMP:20260419T174833
CREATED:20240909T144021Z
LAST-MODIFIED:20240909T144021Z
UID:10002521-1727424000-1727456400@acprosite.com
SUMMARY:CE Orlando Vista Reserve: Ductless Days 2 Day Event Sept. 26th & 27th
DESCRIPTION:Take Advantage: Product Clearance items\, Scratch & Dent and Ductless Deals\, Promotions & More. \nEnjoy Food & Refreshments! \nYour One Stop Shop for Everything HVAC Open 24/7 @ www.CarrierEnterprise.com
URL:https://acprosite.com/event/ce-orlando-vista-reserve-ductless-days-2-day-event-sept-26th-27th/2024-09-27/
LOCATION:CE Orlando Vista Reserve\, 8050 Vista Reserve Blvd.\, Suite 2200\, Orlando\, Florida\, 32829
CATEGORIES:East Central Florida
END:VEVENT
BEGIN:VEVENT
DTSTART;VALUE=DATE:20240926
DTEND;VALUE=DATE:20240927
DTSTAMP:20260419T174833
CREATED:20240909T144021Z
LAST-MODIFIED:20240909T144021Z
UID:10002520-1727308800-1727395199@acprosite.com
SUMMARY:CE Orlando Vista Reserve: Ductless Days 2 Day Event Sept. 26th & 27th
DESCRIPTION:Take Advantage: Product Clearance items\, Scratch & Dent and Ductless Deals\, Promotions & More. \nEnjoy Food & Refreshments! \nYour One Stop Shop for Everything HVAC Open 24/7 @ www.CarrierEnterprise.com
URL:https://acprosite.com/event/ce-orlando-vista-reserve-ductless-days-2-day-event-sept-26th-27th/2024-09-26/
LOCATION:CE Orlando Vista Reserve\, 8050 Vista Reserve Blvd.\, Suite 2200\, Orlando\, Florida\, 32829
CATEGORIES:East Central Florida
END:VEVENT
BEGIN:VEVENT
DTSTART;VALUE=DATE:20240920
DTEND;VALUE=DATE:20240921
DTSTAMP:20260419T174833
CREATED:20240905T151959Z
LAST-MODIFIED:20240905T151959Z
UID:10002466-1726790400-1726876799@acprosite.com
SUMMARY:CE Orlando Vista Reserve: Parts & Supplies Social
DESCRIPTION:Check out our featured products while you enjoy snacks and refreshments! \nParts & Supplies Social Featured Product: TRADEPRO
URL:https://acprosite.com/event/ce-orlando-vista-reserve-parts-supplies-social-13/
LOCATION:CE Orlando Vista Reserve\, 8050 Vista Reserve Blvd.\, Suite 2200\, Orlando\, Florida\, 32829
CATEGORIES:East Central Florida
END:VEVENT
BEGIN:VEVENT
DTSTART;VALUE=DATE:20240910
DTEND;VALUE=DATE:20240911
DTSTAMP:20260419T174833
CREATED:20240904T145731Z
LAST-MODIFIED:20240904T145731Z
UID:10002439-1725926400-1726012799@acprosite.com
SUMMARY:CE: Morning Jolt! Orlando Vista Reserve
DESCRIPTION:Get your morning Jolt! Enjoy breakfast and let the CE Team share this month’s specials.
URL:https://acprosite.com/event/ce-morning-jolt-orlando-vista-reserve-10/
LOCATION:CE Orlando Vista Reserve\, 8050 Vista Reserve Blvd.\, Suite 2200\, Orlando\, Florida\, 32829
CATEGORIES:East Central Florida
END:VEVENT
BEGIN:VEVENT
DTSTART;VALUE=DATE:20240830
DTEND;VALUE=DATE:20240831
DTSTAMP:20260419T174833
CREATED:20240801T173828Z
LAST-MODIFIED:20240801T173828Z
UID:10002284-1725004800-1725037200@acprosite.com
SUMMARY:CE Orlando Vista Reserve: Ductless Days 2 Day Event Aug 29th & 30th
DESCRIPTION:Take Advantage: Product Clearance items\, Scratch & Dent and Ductless Deals\, Promotions & More. \nEnjoy Food & Refreshments! \nYour One Stop Shop for Everything HVAC Open 24/7 @ www.CarrierEnterprise.com
URL:https://acprosite.com/event/ce-orlando-vista-reserve-ductless-days-2-day-event-aug-29th-30th/2024-08-30/
LOCATION:CE Orlando Vista Reserve\, 8050 Vista Reserve Blvd.\, Suite 2200\, Orlando\, Florida\, 32829
CATEGORIES:East Central Florida
END:VEVENT
BEGIN:VEVENT
DTSTART;VALUE=DATE:20240829
DTEND;VALUE=DATE:20240830
DTSTAMP:20260419T174833
CREATED:20240801T173828Z
LAST-MODIFIED:20240801T173828Z
UID:10002283-1724889600-1724975999@acprosite.com
SUMMARY:CE Orlando Vista Reserve: Ductless Days 2 Day Event Aug 29th & 30th
DESCRIPTION:Take Advantage: Product Clearance items\, Scratch & Dent and Ductless Deals\, Promotions & More. \nEnjoy Food & Refreshments! \nYour One Stop Shop for Everything HVAC Open 24/7 @ www.CarrierEnterprise.com
URL:https://acprosite.com/event/ce-orlando-vista-reserve-ductless-days-2-day-event-aug-29th-30th/2024-08-29/
LOCATION:CE Orlando Vista Reserve\, 8050 Vista Reserve Blvd.\, Suite 2200\, Orlando\, Florida\, 32829
CATEGORIES:East Central Florida
END:VEVENT
BEGIN:VEVENT
DTSTART;VALUE=DATE:20240816
DTEND;VALUE=DATE:20240817
DTSTAMP:20260419T174833
CREATED:20240801T143801Z
LAST-MODIFIED:20240801T143801Z
UID:10002231-1723766400-1723852799@acprosite.com
SUMMARY:CE Orlando Vista Reserve: Parts & Supplies Social
DESCRIPTION:Check out our featured products while you enjoy snacks and refreshments! \nParts & Supplies Social Featured Product: Aspen Air Handlers
URL:https://acprosite.com/event/ce-orlando-vista-reserve-parts-supplies-social-12/
LOCATION:CE Orlando Vista Reserve\, 8050 Vista Reserve Blvd.\, Suite 2200\, Orlando\, Florida\, 32829
CATEGORIES:East Central Florida
END:VEVENT
BEGIN:VEVENT
DTSTART;VALUE=DATE:20240806
DTEND;VALUE=DATE:20240807
DTSTAMP:20260419T174833
CREATED:20240731T162047Z
LAST-MODIFIED:20240731T162047Z
UID:10002202-1722902400-1722988799@acprosite.com
SUMMARY:CE: Morning Jolt! Orlando Vista Reserve
DESCRIPTION:Get your morning Jolt! Enjoy breakfast and let the CE Team share this month’s specials.
URL:https://acprosite.com/event/ce-morning-jolt-orlando-vista-reserve-9/
LOCATION:CE Orlando Vista Reserve\, 8050 Vista Reserve Blvd.\, Suite 2200\, Orlando\, Florida\, 32829
CATEGORIES:East Central Florida
END:VEVENT
BEGIN:VEVENT
DTSTART;VALUE=DATE:20240726
DTEND;VALUE=DATE:20240727
DTSTAMP:20260419T174833
CREATED:20240711T135130Z
LAST-MODIFIED:20240711T135130Z
UID:10002113-1721980800-1722013200@acprosite.com
SUMMARY:CE Orlando Vista Reserve: Ductless Days 2 Day Event July 25th & 26th
DESCRIPTION:Take Advantage: Product Clearance items\, Scratch & Dent and Ductless Deals\, Promotions & More. \nEnjoy Food & Refreshments! \nYour One Stop Shop for Everything HVAC Open 24/7 @ www.CarrierEnterprise.com
URL:https://acprosite.com/event/ce-orlando-vista-reserve-ductless-days-2-day-event-july-25th-26th/2024-07-26/
LOCATION:CE Orlando Vista Reserve\, 8050 Vista Reserve Blvd.\, Suite 2200\, Orlando\, Florida\, 32829
CATEGORIES:East Central Florida
END:VEVENT
BEGIN:VEVENT
DTSTART;VALUE=DATE:20240725
DTEND;VALUE=DATE:20240726
DTSTAMP:20260419T174833
CREATED:20240711T135130Z
LAST-MODIFIED:20240711T135130Z
UID:10002112-1721865600-1721951999@acprosite.com
SUMMARY:CE Orlando Vista Reserve: Ductless Days 2 Day Event July 25th & 26th
DESCRIPTION:Take Advantage: Product Clearance items\, Scratch & Dent and Ductless Deals\, Promotions & More. \nEnjoy Food & Refreshments! \nYour One Stop Shop for Everything HVAC Open 24/7 @ www.CarrierEnterprise.com
URL:https://acprosite.com/event/ce-orlando-vista-reserve-ductless-days-2-day-event-july-25th-26th/2024-07-25/
LOCATION:CE Orlando Vista Reserve\, 8050 Vista Reserve Blvd.\, Suite 2200\, Orlando\, Florida\, 32829
CATEGORIES:East Central Florida
END:VEVENT
BEGIN:VEVENT
DTSTART;VALUE=DATE:20240719
DTEND;VALUE=DATE:20240720
DTSTAMP:20260419T174833
CREATED:20240702T142212Z
LAST-MODIFIED:20240702T142212Z
UID:10002048-1721347200-1721433599@acprosite.com
SUMMARY:CE Orlando Vista Reserve: Parts & Supplies Social
DESCRIPTION:Meet our Featured Partner! Snacks and refreshments will be served. \nParts & Supplies Social Featured Product Vendor: ecobee
URL:https://acprosite.com/event/ce-orlando-vista-reserve-parts-supplies-social-11/
LOCATION:CE Orlando Vista Reserve\, 8050 Vista Reserve Blvd.\, Suite 2200\, Orlando\, Florida\, 32829
CATEGORIES:East Central Florida
END:VEVENT
BEGIN:VEVENT
DTSTART;VALUE=DATE:20240709
DTEND;VALUE=DATE:20240710
DTSTAMP:20260419T174833
CREATED:20240701T140511Z
LAST-MODIFIED:20240701T140511Z
UID:10002016-1720483200-1720569599@acprosite.com
SUMMARY:CE: Morning Jolt! Orlando Vista Reserve
DESCRIPTION:Get your morning Jolt! Enjoy breakfast and let the CE Team share this month’s specials.
URL:https://acprosite.com/event/ce-morning-jolt-orlando-vista-reserve-8/
LOCATION:CE Orlando Vista Reserve\, 8050 Vista Reserve Blvd.\, Suite 2200\, Orlando\, Florida\, 32829
CATEGORIES:East Central Florida
END:VEVENT
BEGIN:VEVENT
DTSTART;VALUE=DATE:20240628
DTEND;VALUE=DATE:20240629
DTSTAMP:20260419T174833
CREATED:20240604T154406Z
LAST-MODIFIED:20240604T154406Z
UID:10001945-1719561600-1719594000@acprosite.com
SUMMARY:CE Orlando Vista Reserve: Ductless Days 2 Day Event June 27th & 28th
DESCRIPTION:Take Advantage: Product Clearance items\, Scratch & Dent and Ductless Deals\, Promotions & More. \nEnjoy Food & Refreshments! \nYour One Stop Shop for Everything HVAC Open 24/7 @ www.CarrierEnterprise.com
URL:https://acprosite.com/event/ce-orlando-vista-reserve-ductless-days-2-day-event-june-27th-28th/2024-06-28/
LOCATION:CE Orlando Vista Reserve\, 8050 Vista Reserve Blvd.\, Suite 2200\, Orlando\, Florida\, 32829
CATEGORIES:East Central Florida
END:VEVENT
BEGIN:VEVENT
DTSTART;VALUE=DATE:20240627
DTEND;VALUE=DATE:20240628
DTSTAMP:20260419T174833
CREATED:20240604T154406Z
LAST-MODIFIED:20240604T154406Z
UID:10001944-1719446400-1719532799@acprosite.com
SUMMARY:CE Orlando Vista Reserve: Ductless Days 2 Day Event June 27th & 28th
DESCRIPTION:Take Advantage: Product Clearance items\, Scratch & Dent and Ductless Deals\, Promotions & More. \nEnjoy Food & Refreshments! \nYour One Stop Shop for Everything HVAC Open 24/7 @ www.CarrierEnterprise.com
URL:https://acprosite.com/event/ce-orlando-vista-reserve-ductless-days-2-day-event-june-27th-28th/2024-06-27/
LOCATION:CE Orlando Vista Reserve\, 8050 Vista Reserve Blvd.\, Suite 2200\, Orlando\, Florida\, 32829
CATEGORIES:East Central Florida
END:VEVENT
BEGIN:VEVENT
DTSTART;VALUE=DATE:20240621
DTEND;VALUE=DATE:20240622
DTSTAMP:20260419T174833
CREATED:20240603T152850Z
LAST-MODIFIED:20240603T152850Z
UID:10001884-1718928000-1719014399@acprosite.com
SUMMARY:CE Orlando Vista Reserve: Parts & Supplies Social
DESCRIPTION:Meet our Featured Partner! Snacks and refreshments will be served. \nParts & Supplies Social Featured Product Vendor: ecobee
URL:https://acprosite.com/event/ce-orlando-vista-reserve-parts-supplies-social-10/
LOCATION:CE Orlando Vista Reserve\, 8050 Vista Reserve Blvd.\, Suite 2200\, Orlando\, Florida\, 32829
CATEGORIES:East Central Florida
END:VEVENT
BEGIN:VEVENT
DTSTART;VALUE=DATE:20240611
DTEND;VALUE=DATE:20240612
DTSTAMP:20260419T174833
CREATED:20240531T174101Z
LAST-MODIFIED:20240531T174101Z
UID:10001857-1718064000-1718150399@acprosite.com
SUMMARY:CE: Morning Jolt! Orlando Vista Reserve
DESCRIPTION:Get your morning Jolt! Enjoy breakfast and let the CE Team share this month’s specials.
URL:https://acprosite.com/event/ce-morning-jolt-orlando-vista-reserve-7/
LOCATION:CE Orlando Vista Reserve\, 8050 Vista Reserve Blvd.\, Suite 2200\, Orlando\, Florida\, 32829
CATEGORIES:East Central Florida
END:VEVENT
BEGIN:VEVENT
DTSTART;VALUE=DATE:20240531
DTEND;VALUE=DATE:20240601
DTSTAMP:20260419T174833
CREATED:20240507T165717Z
LAST-MODIFIED:20240507T165717Z
UID:10001732-1717142400-1717174800@acprosite.com
SUMMARY:CE Orlando Vista Reserve: Ductless Days 2 Day Event May 30th & 31st
DESCRIPTION:Take Advantage: Product Clearance items\, Scratch & Dent and Ductless Deals\, Promotions & More. \nEnjoy Food & Refreshments! \nYour One Stop Shop for Everything HVAC Open 24/7 @ www.CarrierEnterprise.com
URL:https://acprosite.com/event/ce-orlando-vista-reserve-ductless-days-2-day-event-may-30th-31st/2024-05-31/
LOCATION:CE Orlando Vista Reserve\, 8050 Vista Reserve Blvd.\, Suite 2200\, Orlando\, Florida\, 32829
CATEGORIES:East Central Florida
END:VEVENT
BEGIN:VEVENT
DTSTART;VALUE=DATE:20240530
DTEND;VALUE=DATE:20240531
DTSTAMP:20260419T174833
CREATED:20240507T165717Z
LAST-MODIFIED:20240507T165717Z
UID:10001731-1717027200-1717113599@acprosite.com
SUMMARY:CE Orlando Vista Reserve: Ductless Days 2 Day Event May 30th & 31st
DESCRIPTION:Take Advantage: Product Clearance items\, Scratch & Dent and Ductless Deals\, Promotions & More. \nEnjoy Food & Refreshments! \nYour One Stop Shop for Everything HVAC Open 24/7 @ www.CarrierEnterprise.com
URL:https://acprosite.com/event/ce-orlando-vista-reserve-ductless-days-2-day-event-may-30th-31st/2024-05-30/
LOCATION:CE Orlando Vista Reserve\, 8050 Vista Reserve Blvd.\, Suite 2200\, Orlando\, Florida\, 32829
CATEGORIES:East Central Florida
END:VEVENT
BEGIN:VEVENT
DTSTART;VALUE=DATE:20240517
DTEND;VALUE=DATE:20240518
DTSTAMP:20260419T174833
CREATED:20240510T150333Z
LAST-MODIFIED:20240510T150333Z
UID:10001767-1715904000-1715990399@acprosite.com
SUMMARY:CE Orlando Vista Reserve: Parts & Supplies Social
DESCRIPTION:Meet our Featured Partner! Snacks and refreshments will be served. \nParts & Supplies Social Featured Product Vendor: ecobee
URL:https://acprosite.com/event/ce-orlando-vista-reserve-parts-supplies-social-9/
LOCATION:CE Orlando Vista Reserve\, 8050 Vista Reserve Blvd.\, Suite 2200\, Orlando\, Florida\, 32829
CATEGORIES:East Central Florida
END:VEVENT
BEGIN:VEVENT
DTSTART;VALUE=DATE:20240507
DTEND;VALUE=DATE:20240508
DTSTAMP:20260419T174833
CREATED:20240506T155244Z
LAST-MODIFIED:20240506T155244Z
UID:10001674-1715040000-1715126399@acprosite.com
SUMMARY:CE: Morning Jolt! Orlando Vista Reserve
DESCRIPTION:Get your morning Jolt! Enjoy breakfast and let the CE Team share this month’s specials.
URL:https://acprosite.com/event/ce-morning-jolt-orlando-vista-reserve-6/
LOCATION:CE Orlando Vista Reserve\, 8050 Vista Reserve Blvd.\, Suite 2200\, Orlando\, Florida\, 32829
CATEGORIES:East Central Florida
END:VEVENT
BEGIN:VEVENT
DTSTART;VALUE=DATE:20240426
DTEND;VALUE=DATE:20240427
DTSTAMP:20260419T174833
CREATED:20240404T132158Z
LAST-MODIFIED:20240404T132158Z
UID:10001610-1714118400-1714150800@acprosite.com
SUMMARY:CE Orlando Vista Reserve: Ductless Days 2 Day Event April 25th & 26th
DESCRIPTION:Take Advantage: Product Clearance items\, Scratch & Dent and Ductless Deals\, Promotions & More. \nEnjoy Food & Refreshments! \nYour One Stop Shop for Everything HVAC Open 24/7 @ www.CarrierEnterprise.com
URL:https://acprosite.com/event/ce-orlando-vista-reserve-ductless-days-2-day-event-april-25th-26th/2024-04-26/
LOCATION:CE Orlando Vista Reserve\, 8050 Vista Reserve Blvd.\, Suite 2200\, Orlando\, Florida\, 32829
CATEGORIES:East Central Florida
END:VEVENT
END:VCALENDAR