BEGIN:VCALENDAR
VERSION:2.0
PRODID:-//ACprosite - ECPv6.15.20//NONSGML v1.0//EN
CALSCALE:GREGORIAN
METHOD:PUBLISH
X-ORIGINAL-URL:https://acprosite.com
X-WR-CALDESC:Events for ACprosite
REFRESH-INTERVAL;VALUE=DURATION:PT1H
X-Robots-Tag:noindex
X-PUBLISHED-TTL:PT1H
BEGIN:VTIMEZONE
TZID:America/New_York
BEGIN:DAYLIGHT
TZOFFSETFROM:-0500
TZOFFSETTO:-0400
TZNAME:EDT
DTSTART:20220313T070000
END:DAYLIGHT
BEGIN:STANDARD
TZOFFSETFROM:-0400
TZOFFSETTO:-0500
TZNAME:EST
DTSTART:20221106T060000
END:STANDARD
BEGIN:DAYLIGHT
TZOFFSETFROM:-0500
TZOFFSETTO:-0400
TZNAME:EDT
DTSTART:20230312T070000
END:DAYLIGHT
BEGIN:STANDARD
TZOFFSETFROM:-0400
TZOFFSETTO:-0500
TZNAME:EST
DTSTART:20231105T060000
END:STANDARD
BEGIN:DAYLIGHT
TZOFFSETFROM:-0500
TZOFFSETTO:-0400
TZNAME:EDT
DTSTART:20240310T070000
END:DAYLIGHT
BEGIN:STANDARD
TZOFFSETFROM:-0400
TZOFFSETTO:-0500
TZNAME:EST
DTSTART:20241103T060000
END:STANDARD
BEGIN:DAYLIGHT
TZOFFSETFROM:-0500
TZOFFSETTO:-0400
TZNAME:EDT
DTSTART:20250309T070000
END:DAYLIGHT
BEGIN:STANDARD
TZOFFSETFROM:-0400
TZOFFSETTO:-0500
TZNAME:EST
DTSTART:20251102T060000
END:STANDARD
END:VTIMEZONE
BEGIN:VEVENT
DTSTART;VALUE=DATE:20240531
DTEND;VALUE=DATE:20240601
DTSTAMP:20260425T210540
CREATED:20240507T152907Z
LAST-MODIFIED:20240507T152907Z
UID:10001688-1717142400-1717174800@acprosite.com
SUMMARY:CE Sanford: Ductless Days 2 Day Event May 30th & 31st
DESCRIPTION:Take Advantage: Product Clearance items\, Scratch & Dent and Ductless Deals\, Promotions & More. \nEnjoy Food & Refreshments! \nYour One Stop Shop for Everything HVAC Open 24/7 @ www.CarrierEnterprise.com
URL:https://acprosite.com/event/ce-sanford-ductless-days-2-day-event-may-30th-31st/2024-05-31/
LOCATION:CE Sanford\, 3830 Enterprise Way\, Ste. 1102\, Sanford\, Florida\, 32771
CATEGORIES:East Central Florida
END:VEVENT
BEGIN:VEVENT
DTSTART;VALUE=DATE:20240530
DTEND;VALUE=DATE:20240531
DTSTAMP:20260425T210540
CREATED:20240507T152907Z
LAST-MODIFIED:20240507T152907Z
UID:10001687-1717027200-1717113599@acprosite.com
SUMMARY:CE Sanford: Ductless Days 2 Day Event May 30th & 31st
DESCRIPTION:Take Advantage: Product Clearance items\, Scratch & Dent and Ductless Deals\, Promotions & More. \nEnjoy Food & Refreshments! \nYour One Stop Shop for Everything HVAC Open 24/7 @ www.CarrierEnterprise.com
URL:https://acprosite.com/event/ce-sanford-ductless-days-2-day-event-may-30th-31st/2024-05-30/
LOCATION:CE Sanford\, 3830 Enterprise Way\, Ste. 1102\, Sanford\, Florida\, 32771
CATEGORIES:East Central Florida
END:VEVENT
BEGIN:VEVENT
DTSTART;VALUE=DATE:20240517
DTEND;VALUE=DATE:20240518
DTSTAMP:20260425T210540
CREATED:20240510T144625Z
LAST-MODIFIED:20240510T144625Z
UID:10001745-1715904000-1715990399@acprosite.com
SUMMARY:CE Sanford: Parts & Supplies Social
DESCRIPTION:Meet our Featured Partner! Snacks and refreshments will be served. \nParts & Supplies Social Featured Product Vendor: ecobee
URL:https://acprosite.com/event/ce-sanford-parts-supplies-social-9/
LOCATION:CE Sanford\, 3830 Enterprise Way\, Ste. 1102\, Sanford\, Florida\, 32771
CATEGORIES:East Central Florida
END:VEVENT
BEGIN:VEVENT
DTSTART;VALUE=DATE:20240507
DTEND;VALUE=DATE:20240508
DTSTAMP:20260425T210540
CREATED:20240506T152552Z
LAST-MODIFIED:20240506T152552Z
UID:10001652-1715040000-1715126399@acprosite.com
SUMMARY:CE: Morning Jolt! Sanford
DESCRIPTION:Get your morning Jolt! Enjoy breakfast and let the CE Team share this month’s specials.
URL:https://acprosite.com/event/ce-morning-jolt-sanford-7/
LOCATION:CE Sanford\, 3830 Enterprise Way\, Ste. 1102\, Sanford\, Florida\, 32771
CATEGORIES:East Central Florida
END:VEVENT
BEGIN:VEVENT
DTSTART;VALUE=DATE:20240426
DTEND;VALUE=DATE:20240427
DTSTAMP:20260425T210540
CREATED:20240404T130540Z
LAST-MODIFIED:20240404T130540Z
UID:10001566-1714118400-1714150800@acprosite.com
SUMMARY:CE Sanford: Ductless Days 2 Day Event April 25th & 26th
DESCRIPTION:Take Advantage: Product Clearance items\, Scratch & Dent and Ductless Deals\, Promotions & More. \nEnjoy Food & Refreshments! \nYour One Stop Shop for Everything HVAC Open 24/7 @ www.CarrierEnterprise.com
URL:https://acprosite.com/event/ce-sanford-ductless-days-2-day-event-april-25th-26th/2024-04-26/
LOCATION:CE Sanford\, 3830 Enterprise Way\, Ste. 1102\, Sanford\, Florida\, 32771
CATEGORIES:East Central Florida
END:VEVENT
BEGIN:VEVENT
DTSTART;VALUE=DATE:20240425
DTEND;VALUE=DATE:20240426
DTSTAMP:20260425T210540
CREATED:20240404T130540Z
LAST-MODIFIED:20240404T130540Z
UID:10001565-1714003200-1714089599@acprosite.com
SUMMARY:CE Sanford: Ductless Days 2 Day Event April 25th & 26th
DESCRIPTION:Take Advantage: Product Clearance items\, Scratch & Dent and Ductless Deals\, Promotions & More. \nEnjoy Food & Refreshments! \nYour One Stop Shop for Everything HVAC Open 24/7 @ www.CarrierEnterprise.com
URL:https://acprosite.com/event/ce-sanford-ductless-days-2-day-event-april-25th-26th/2024-04-25/
LOCATION:CE Sanford\, 3830 Enterprise Way\, Ste. 1102\, Sanford\, Florida\, 32771
CATEGORIES:East Central Florida
END:VEVENT
BEGIN:VEVENT
DTSTART;VALUE=DATE:20240419
DTEND;VALUE=DATE:20240420
DTSTAMP:20260425T210540
CREATED:20240403T141907Z
LAST-MODIFIED:20240403T141907Z
UID:10001533-1713484800-1713571199@acprosite.com
SUMMARY:CE Sanford: Parts & Supplies Social
DESCRIPTION:Meet our Featured Partner! Snacks and refreshments will be served. \nParts & Supplies Social Featured Product Vendor: RGF Environmental Group\, Inc.
URL:https://acprosite.com/event/ce-sanford-parts-supplies-social-8/
LOCATION:CE Sanford\, 3830 Enterprise Way\, Ste. 1102\, Sanford\, Florida\, 32771
CATEGORIES:East Central Florida
END:VEVENT
BEGIN:VEVENT
DTSTART;VALUE=DATE:20240409
DTEND;VALUE=DATE:20240410
DTSTAMP:20260425T210540
CREATED:20240401T123333Z
LAST-MODIFIED:20240401T123333Z
UID:10001502-1712620800-1712707199@acprosite.com
SUMMARY:CE: Morning Jolt! Sanford
DESCRIPTION:Get your morning Jolt! Enjoy breakfast and let the CE Team share this month’s specials.
URL:https://acprosite.com/event/ce-morning-jolt-sanford-6/
LOCATION:CE Sanford\, 3830 Enterprise Way\, Ste. 1102\, Sanford\, Florida\, 32771
CATEGORIES:East Central Florida
END:VEVENT
BEGIN:VEVENT
DTSTART;VALUE=DATE:20240329
DTEND;VALUE=DATE:20240330
DTSTAMP:20260425T210540
CREATED:20240311T134422Z
LAST-MODIFIED:20240311T134422Z
UID:10001440-1711699200-1711731600@acprosite.com
SUMMARY:CE Sanford: Ductless Days 2 Day Event March 28th & 29th
DESCRIPTION:Take Advantage: Product Clearance items\, Scratch & Dent and Ductless Deals\, Promotions & More. \nEnjoy Food & Refreshments! \nYour One Stop Shop for Everything HVAC Open 24/7 @ www.CarrierEnterprise.com
URL:https://acprosite.com/event/ce-sanford-ductless-days-2-day-event-march-28th-29th/2024-03-29/
LOCATION:CE Sanford\, 3830 Enterprise Way\, Ste. 1102\, Sanford\, Florida\, 32771
CATEGORIES:East Central Florida
END:VEVENT
BEGIN:VEVENT
DTSTART;VALUE=DATE:20240328
DTEND;VALUE=DATE:20240329
DTSTAMP:20260425T210540
CREATED:20240311T134422Z
LAST-MODIFIED:20240311T134422Z
UID:10001439-1711584000-1711670399@acprosite.com
SUMMARY:CE Sanford: Ductless Days 2 Day Event March 28th & 29th
DESCRIPTION:Take Advantage: Product Clearance items\, Scratch & Dent and Ductless Deals\, Promotions & More. \nEnjoy Food & Refreshments! \nYour One Stop Shop for Everything HVAC Open 24/7 @ www.CarrierEnterprise.com
URL:https://acprosite.com/event/ce-sanford-ductless-days-2-day-event-march-28th-29th/2024-03-28/
LOCATION:CE Sanford\, 3830 Enterprise Way\, Ste. 1102\, Sanford\, Florida\, 32771
CATEGORIES:East Central Florida
END:VEVENT
BEGIN:VEVENT
DTSTART;VALUE=DATE:20240315
DTEND;VALUE=DATE:20240316
DTSTAMP:20260425T210540
CREATED:20240308T145701Z
LAST-MODIFIED:20240308T145701Z
UID:10001405-1710460800-1710547199@acprosite.com
SUMMARY:CE Sanford: Parts & Supplies Social
DESCRIPTION:Meet our Featured Partner! Snacks and refreshments will be served. \nParts & Supplies Social Featured Product Vendor: Veto Pro Pac
URL:https://acprosite.com/event/ce-sanford-parts-supplies-social-7/
LOCATION:CE Sanford\, 3830 Enterprise Way\, Ste. 1102\, Sanford\, Florida\, 32771
CATEGORIES:East Central Florida
END:VEVENT
BEGIN:VEVENT
DTSTART;VALUE=DATE:20240223
DTEND;VALUE=DATE:20240224
DTSTAMP:20260425T210540
CREATED:20240216T154621Z
LAST-MODIFIED:20240216T154621Z
UID:10001288-1708675200-1708707600@acprosite.com
SUMMARY:CE Sanford: Ductless Days 2 Day Event Feb 22nd & 23rd
DESCRIPTION:Take Advantage: Product Clearance items\, Scratch & Dent and Ductless Deals\, Promotions & More. \nEnjoy Food & Refreshments! \nYour One Stop Shop for Everything HVAC Open 24/7 @ www.CarrierEnterprise.com
URL:https://acprosite.com/event/ce-sanford-ductless-days-2-day-event-feb-22nd-23rd/2024-02-23/
LOCATION:CE Sanford\, 3830 Enterprise Way\, Ste. 1102\, Sanford\, Florida\, 32771
CATEGORIES:East Central Florida
END:VEVENT
BEGIN:VEVENT
DTSTART;VALUE=DATE:20240222
DTEND;VALUE=DATE:20240223
DTSTAMP:20260425T210540
CREATED:20240216T154621Z
LAST-MODIFIED:20240216T154621Z
UID:10001286-1708560000-1708646399@acprosite.com
SUMMARY:CE Sanford: Ductless Days 2 Day Event Feb 22nd & 23rd
DESCRIPTION:Take Advantage: Product Clearance items\, Scratch & Dent and Ductless Deals\, Promotions & More. \nEnjoy Food & Refreshments! \nYour One Stop Shop for Everything HVAC Open 24/7 @ www.CarrierEnterprise.com
URL:https://acprosite.com/event/ce-sanford-ductless-days-2-day-event-feb-22nd-23rd/2024-02-22/
LOCATION:CE Sanford\, 3830 Enterprise Way\, Ste. 1102\, Sanford\, Florida\, 32771
CATEGORIES:East Central Florida
END:VEVENT
BEGIN:VEVENT
DTSTART;VALUE=DATE:20240216
DTEND;VALUE=DATE:20240217
DTSTAMP:20260425T210540
CREATED:20240215T174910Z
LAST-MODIFIED:20240215T174910Z
UID:10001248-1708041600-1708127999@acprosite.com
SUMMARY:CE Sanford: Parts & Supplies Social
DESCRIPTION:Meet our Featured Partner! Snacks and refreshments will be served. \nParts & Supplies Social Featured Product Vendor: NAVAC
URL:https://acprosite.com/event/ce-sanford-parts-supplies-social-6/
LOCATION:CE Sanford\, 3830 Enterprise Way\, Ste. 1102\, Sanford\, Florida\, 32771
CATEGORIES:East Central Florida
END:VEVENT
BEGIN:VEVENT
DTSTART;VALUE=DATE:20240126
DTEND;VALUE=DATE:20240127
DTSTAMP:20260425T210540
CREATED:20240109T150429Z
LAST-MODIFIED:20240109T150429Z
UID:10001148-1706256000-1706288400@acprosite.com
SUMMARY:CE Sanford: Ductless Days Jan 25th & 26th
DESCRIPTION:Closeouts – Clearance – Ductless Deals! \nPlus Food & Refreshments! \n 
URL:https://acprosite.com/event/ce-sanford-ductless-days-jan-25th-26th/2024-01-26/
LOCATION:CE Sanford\, 3830 Enterprise Way\, Ste. 1102\, Sanford\, Florida\, 32771
CATEGORIES:East Central Florida
END:VEVENT
BEGIN:VEVENT
DTSTART;VALUE=DATE:20240125
DTEND;VALUE=DATE:20240126
DTSTAMP:20260425T210540
CREATED:20240109T150429Z
LAST-MODIFIED:20240109T150429Z
UID:10001147-1706140800-1706227199@acprosite.com
SUMMARY:CE Sanford: Ductless Days Jan 25th & 26th
DESCRIPTION:Closeouts – Clearance – Ductless Deals! \nPlus Food & Refreshments! \n 
URL:https://acprosite.com/event/ce-sanford-ductless-days-jan-25th-26th/2024-01-25/
LOCATION:CE Sanford\, 3830 Enterprise Way\, Ste. 1102\, Sanford\, Florida\, 32771
CATEGORIES:East Central Florida
END:VEVENT
BEGIN:VEVENT
DTSTART;VALUE=DATE:20240119
DTEND;VALUE=DATE:20240120
DTSTAMP:20260425T210540
CREATED:20240104T152217Z
LAST-MODIFIED:20240104T152217Z
UID:10001110-1705622400-1705708799@acprosite.com
SUMMARY:CE Sanford: Parts & Supplies Social
DESCRIPTION:Come socialize at CE and enjoy snacks\, refreshments and special promotions with the CE Associates and fellow HVAC Professionals. \nParts & Supplies Social Featured Product Vendor: Veto Pro Pak
URL:https://acprosite.com/event/ce-sanford-parts-supplies-social-5/
LOCATION:CE Sanford\, 3830 Enterprise Way\, Ste. 1102\, Sanford\, Florida\, 32771
CATEGORIES:East Central Florida
END:VEVENT
BEGIN:VEVENT
DTSTART;VALUE=DATE:20240109
DTEND;VALUE=DATE:20240110
DTSTAMP:20260425T210540
CREATED:20240103T143605Z
LAST-MODIFIED:20240103T143605Z
UID:10001083-1704758400-1704844799@acprosite.com
SUMMARY:CE: Morning Jolt! Sanford
DESCRIPTION:Come get your morning JOLT! Enjoy breakfast with the CE team!
URL:https://acprosite.com/event/ce-morning-jolt-sanford-5/
LOCATION:CE Sanford\, 3830 Enterprise Way\, Ste. 1102\, Sanford\, Florida\, 32771
CATEGORIES:East Central Florida
END:VEVENT
BEGIN:VEVENT
DTSTART;VALUE=DATE:20231229
DTEND;VALUE=DATE:20231230
DTSTAMP:20260425T210540
CREATED:20231208T152518Z
LAST-MODIFIED:20231208T152518Z
UID:10001012-1703836800-1703869200@acprosite.com
SUMMARY:CE Sanford: Ductless Days Dec. 28th & 29th
DESCRIPTION:Closeouts – Clearance – Ductless Deals! \nPlus Food & Refreshments! \n 
URL:https://acprosite.com/event/ce-sanford-ductless-days-dec-28th-29th/2023-12-29/
LOCATION:CE Sanford\, 3830 Enterprise Way\, Ste. 1102\, Sanford\, Florida\, 32771
CATEGORIES:East Central Florida
END:VEVENT
BEGIN:VEVENT
DTSTART;VALUE=DATE:20231228
DTEND;VALUE=DATE:20231229
DTSTAMP:20260425T210540
CREATED:20231208T152518Z
LAST-MODIFIED:20231208T152518Z
UID:10001011-1703721600-1703807999@acprosite.com
SUMMARY:CE Sanford: Ductless Days Dec. 28th & 29th
DESCRIPTION:Closeouts – Clearance – Ductless Deals! \nPlus Food & Refreshments! \n 
URL:https://acprosite.com/event/ce-sanford-ductless-days-dec-28th-29th/2023-12-28/
LOCATION:CE Sanford\, 3830 Enterprise Way\, Ste. 1102\, Sanford\, Florida\, 32771
CATEGORIES:East Central Florida
END:VEVENT
BEGIN:VEVENT
DTSTART;VALUE=DATE:20231215
DTEND;VALUE=DATE:20231216
DTSTAMP:20260425T210540
CREATED:20231207T165633Z
LAST-MODIFIED:20231207T165633Z
UID:10000977-1702598400-1702684799@acprosite.com
SUMMARY:CE Sanford: Parts & Supplies Social
DESCRIPTION:Come socialize at CE and enjoy snacks\, refreshments and special promotions with the CE Associates and fellow HVAC Professionals. \nParts & Supplies Social Featured Product Vendor: Fieldpiece
URL:https://acprosite.com/event/ce-sanford-parts-supplies-social-4/
LOCATION:CE Sanford\, 3830 Enterprise Way\, Ste. 1102\, Sanford\, Florida\, 32771
CATEGORIES:East Central Florida
END:VEVENT
BEGIN:VEVENT
DTSTART;VALUE=DATE:20231205
DTEND;VALUE=DATE:20231206
DTSTAMP:20260425T210540
CREATED:20231206T173450Z
LAST-MODIFIED:20231206T173450Z
UID:10000951-1701734400-1701820799@acprosite.com
SUMMARY:CE: Morning Jolt! Sanford
DESCRIPTION:Come get your morning JOLT! Enjoy breakfast with the CE team!
URL:https://acprosite.com/event/ce-morning-jolt-sanford-4/
LOCATION:CE Sanford\, 3830 Enterprise Way\, Ste. 1102\, Sanford\, Florida\, 32771
CATEGORIES:East Central Florida
END:VEVENT
BEGIN:VEVENT
DTSTART;VALUE=DATE:20231201
DTEND;VALUE=DATE:20231202
DTSTAMP:20260425T210540
CREATED:20231103T155236Z
LAST-MODIFIED:20231103T155236Z
UID:10000857-1701417600-1701450000@acprosite.com
SUMMARY:CE Sanford: 2-Day Tent Sale Thurs 11/30 & Fri 12/1
DESCRIPTION:Closeouts\, Clearance\, Scratch & Dent Blowout \nPlus Food & Refreshments
URL:https://acprosite.com/event/ce-sanford-2-day-tent-sale-thurs-11-30-fri-12-1/2023-12-01/
LOCATION:CE Sanford\, 3830 Enterprise Way\, Ste. 1102\, Sanford\, Florida\, 32771
CATEGORIES:East Central Florida
END:VEVENT
BEGIN:VEVENT
DTSTART;VALUE=DATE:20231130
DTEND;VALUE=DATE:20231201
DTSTAMP:20260425T210540
CREATED:20231103T155236Z
LAST-MODIFIED:20231103T155236Z
UID:10000855-1701302400-1701388799@acprosite.com
SUMMARY:CE Sanford: 2-Day Tent Sale Thurs 11/30 & Fri 12/1
DESCRIPTION:Closeouts\, Clearance\, Scratch & Dent Blowout \nPlus Food & Refreshments
URL:https://acprosite.com/event/ce-sanford-2-day-tent-sale-thurs-11-30-fri-12-1/2023-11-30/
LOCATION:CE Sanford\, 3830 Enterprise Way\, Ste. 1102\, Sanford\, Florida\, 32771
CATEGORIES:East Central Florida
END:VEVENT
BEGIN:VEVENT
DTSTART;VALUE=DATE:20231117
DTEND;VALUE=DATE:20231118
DTSTAMP:20260425T210540
CREATED:20231102T163357Z
LAST-MODIFIED:20231102T163357Z
UID:10000823-1700179200-1700265599@acprosite.com
SUMMARY:CE Sanford: Parts & Supplies Social
DESCRIPTION:Come socialize at CE and enjoy snacks\, refreshments and special promotions with the CE Associates and fellow HVAC Professionals. \nParts & Supplies Social Featured Product Vendor: Hudson Technologies
URL:https://acprosite.com/event/ce-sanford-parts-supplies-social-3/
LOCATION:CE Sanford\, 3830 Enterprise Way\, Ste. 1102\, Sanford\, Florida\, 32771
CATEGORIES:East Central Florida
END:VEVENT
BEGIN:VEVENT
DTSTART;VALUE=DATE:20231107
DTEND;VALUE=DATE:20231108
DTSTAMP:20260425T210540
CREATED:20231101T161153Z
LAST-MODIFIED:20231101T161153Z
UID:10000792-1699315200-1699401599@acprosite.com
SUMMARY:CE: Morning Jolt! Sanford
DESCRIPTION:Come get your morning JOLT! Enjoy breakfast with the CE team!
URL:https://acprosite.com/event/ce-morning-jolt-sanford-3/
LOCATION:CE Sanford\, 3830 Enterprise Way\, Ste. 1102\, Sanford\, Florida\, 32771
CATEGORIES:East Central Florida
END:VEVENT
BEGIN:VEVENT
DTSTART;VALUE=DATE:20231027
DTEND;VALUE=DATE:20231028
DTSTAMP:20260425T210540
CREATED:20231005T165714Z
LAST-MODIFIED:20231005T165714Z
UID:10000704-1698393600-1698426000@acprosite.com
SUMMARY:CE Sanford: 2 Day Tent Sale Oct. 26th & 27th
DESCRIPTION:Closeouts – Clearance – Scratch & Dent Blowout! \nPlus Food & Refreshments!
URL:https://acprosite.com/event/ce-sanford-2-day-tent-sale-oct-26th-27th/2023-10-27/
LOCATION:CE Sanford\, 3830 Enterprise Way\, Ste. 1102\, Sanford\, Florida\, 32771
CATEGORIES:East Central Florida
END:VEVENT
BEGIN:VEVENT
DTSTART;VALUE=DATE:20231026
DTEND;VALUE=DATE:20231027
DTSTAMP:20260425T210540
CREATED:20231005T165714Z
LAST-MODIFIED:20231005T165714Z
UID:10000703-1698278400-1698364799@acprosite.com
SUMMARY:CE Sanford: 2 Day Tent Sale Oct. 26th & 27th
DESCRIPTION:Closeouts – Clearance – Scratch & Dent Blowout! \nPlus Food & Refreshments!
URL:https://acprosite.com/event/ce-sanford-2-day-tent-sale-oct-26th-27th/2023-10-26/
LOCATION:CE Sanford\, 3830 Enterprise Way\, Ste. 1102\, Sanford\, Florida\, 32771
CATEGORIES:East Central Florida
END:VEVENT
BEGIN:VEVENT
DTSTART;VALUE=DATE:20231019
DTEND;VALUE=DATE:20231020
DTSTAMP:20260425T210540
CREATED:20231004T175404Z
LAST-MODIFIED:20231004T175404Z
UID:10000666-1697673600-1697759999@acprosite.com
SUMMARY:CE Sanford: Parts & Supplies Social
DESCRIPTION:Come socialize at CE and enjoy snacks\, refreshments and special promotions with the CE Associates and fellow HVAC Professionals. \nFeatured Product Vendor: ecobee
URL:https://acprosite.com/event/ce-sanford-parts-supplies-social-2/
LOCATION:CE Sanford\, 3830 Enterprise Way\, Ste. 1102\, Sanford\, Florida\, 32771
CATEGORIES:East Central Florida
END:VEVENT
BEGIN:VEVENT
DTSTART;VALUE=DATE:20231010
DTEND;VALUE=DATE:20231011
DTSTAMP:20260425T210540
CREATED:20231004T161216Z
LAST-MODIFIED:20231004T161216Z
UID:10000616-1696896000-1696982399@acprosite.com
SUMMARY:CE: Morning Jolt! Sanford
DESCRIPTION:Come get your morning JOLT! Enjoy breakfast with the CE team!
URL:https://acprosite.com/event/ce-morning-jolt-sanford-2/
LOCATION:CE Sanford\, 3830 Enterprise Way\, Ste. 1102\, Sanford\, Florida\, 32771
CATEGORIES:East Central Florida
END:VEVENT
END:VCALENDAR