BEGIN:VCALENDAR
VERSION:2.0
PRODID:-//ACprosite - ECPv6.15.20//NONSGML v1.0//EN
CALSCALE:GREGORIAN
METHOD:PUBLISH
X-ORIGINAL-URL:https://acprosite.com
X-WR-CALDESC:Events for ACprosite
REFRESH-INTERVAL;VALUE=DURATION:PT1H
X-Robots-Tag:noindex
X-PUBLISHED-TTL:PT1H
BEGIN:VTIMEZONE
TZID:America/New_York
BEGIN:DAYLIGHT
TZOFFSETFROM:-0500
TZOFFSETTO:-0400
TZNAME:EDT
DTSTART:20220313T070000
END:DAYLIGHT
BEGIN:STANDARD
TZOFFSETFROM:-0400
TZOFFSETTO:-0500
TZNAME:EST
DTSTART:20221106T060000
END:STANDARD
BEGIN:DAYLIGHT
TZOFFSETFROM:-0500
TZOFFSETTO:-0400
TZNAME:EDT
DTSTART:20230312T070000
END:DAYLIGHT
BEGIN:STANDARD
TZOFFSETFROM:-0400
TZOFFSETTO:-0500
TZNAME:EST
DTSTART:20231105T060000
END:STANDARD
BEGIN:DAYLIGHT
TZOFFSETFROM:-0500
TZOFFSETTO:-0400
TZNAME:EDT
DTSTART:20240310T070000
END:DAYLIGHT
BEGIN:STANDARD
TZOFFSETFROM:-0400
TZOFFSETTO:-0500
TZNAME:EST
DTSTART:20241103T060000
END:STANDARD
BEGIN:DAYLIGHT
TZOFFSETFROM:-0500
TZOFFSETTO:-0400
TZNAME:EDT
DTSTART:20250309T070000
END:DAYLIGHT
BEGIN:STANDARD
TZOFFSETFROM:-0400
TZOFFSETTO:-0500
TZNAME:EST
DTSTART:20251102T060000
END:STANDARD
END:VTIMEZONE
BEGIN:VEVENT
DTSTART;VALUE=DATE:20240530
DTEND;VALUE=DATE:20240531
DTSTAMP:20260422T180115
CREATED:20240507T161012Z
LAST-MODIFIED:20240507T161012Z
UID:10001703-1717027200-1717113599@acprosite.com
SUMMARY:CE West Palm Beach: Ductless Days 2 Day Event May 30th & 31st
DESCRIPTION:Take Advantage: Product Clearance items\, Scratch & Dent and Ductless Deals\, Promotions & More. \nEnjoy Food & Refreshments! \nYour One Stop Shop for Everything HVAC Open 24/7 @ www.CarrierEnterprise.com
URL:https://acprosite.com/event/ce-west-palm-beach-ductless-days-2-day-event-may-30th-31st/2024-05-30/
LOCATION:CE West Palm Beach\, 1835 Old Okeechobee Road\, West Palm Beach\, Florida\, 33409
CATEGORIES:Southeast Florida
END:VEVENT
BEGIN:VEVENT
DTSTART;VALUE=DATE:20240517
DTEND;VALUE=DATE:20240518
DTSTAMP:20260422T180115
CREATED:20240510T145317Z
LAST-MODIFIED:20240510T145317Z
UID:10001753-1715904000-1715990399@acprosite.com
SUMMARY:CE West Palm Beach: Parts & Supplies Social
DESCRIPTION:Meet our Featured Partner! Snacks and refreshments will be served. \nParts & Supplies Social Featured Product Vendor: ecobee
URL:https://acprosite.com/event/ce-west-palm-beach-parts-supplies-social-10/
LOCATION:CE West Palm Beach\, 1835 Old Okeechobee Road\, West Palm Beach\, Florida\, 33409
CATEGORIES:Southeast Florida
END:VEVENT
BEGIN:VEVENT
DTSTART;VALUE=DATE:20240507
DTEND;VALUE=DATE:20240508
DTSTAMP:20260422T180115
CREATED:20240506T153709Z
LAST-MODIFIED:20240506T153709Z
UID:10001660-1715040000-1715126399@acprosite.com
SUMMARY:CE: Morning Jolt! West Palm Beach
DESCRIPTION:Get your morning Jolt! Enjoy breakfast and let the CE Team share this month’s specials.
URL:https://acprosite.com/event/ce-morning-jolt-west-palm-beach-8/
LOCATION:CE West Palm Beach\, 1835 Old Okeechobee Road\, West Palm Beach\, Florida\, 33409
CATEGORIES:Southeast Florida
END:VEVENT
BEGIN:VEVENT
DTSTART;VALUE=DATE:20240426
DTEND;VALUE=DATE:20240427
DTSTAMP:20260422T180115
CREATED:20240404T131202Z
LAST-MODIFIED:20240404T131202Z
UID:10001582-1714118400-1714150800@acprosite.com
SUMMARY:CE West Palm Beach: Ductless Days 2 Day Event April 25th & 26th
DESCRIPTION:Take Advantage: Product Clearance items\, Scratch & Dent and Ductless Deals\, Promotions & More. \nEnjoy Food & Refreshments! \nYour One Stop Shop for Everything HVAC Open 24/7 @ www.CarrierEnterprise.com
URL:https://acprosite.com/event/ce-west-palm-beach-ductless-days-2-day-event-april-25th-26th/2024-04-26/
LOCATION:CE West Palm Beach\, 1835 Old Okeechobee Road\, West Palm Beach\, Florida\, 33409
CATEGORIES:Southeast Florida
END:VEVENT
BEGIN:VEVENT
DTSTART;VALUE=DATE:20240425
DTEND;VALUE=DATE:20240426
DTSTAMP:20260422T180115
CREATED:20240404T131202Z
LAST-MODIFIED:20240404T131202Z
UID:10001581-1714003200-1714089599@acprosite.com
SUMMARY:CE West Palm Beach: Ductless Days 2 Day Event April 25th & 26th
DESCRIPTION:Take Advantage: Product Clearance items\, Scratch & Dent and Ductless Deals\, Promotions & More. \nEnjoy Food & Refreshments! \nYour One Stop Shop for Everything HVAC Open 24/7 @ www.CarrierEnterprise.com
URL:https://acprosite.com/event/ce-west-palm-beach-ductless-days-2-day-event-april-25th-26th/2024-04-25/
LOCATION:CE West Palm Beach\, 1835 Old Okeechobee Road\, West Palm Beach\, Florida\, 33409
CATEGORIES:Southeast Florida
END:VEVENT
BEGIN:VEVENT
DTSTART;VALUE=DATE:20240419
DTEND;VALUE=DATE:20240420
DTSTAMP:20260422T180115
CREATED:20240403T142912Z
LAST-MODIFIED:20240403T142912Z
UID:10001541-1713484800-1713571199@acprosite.com
SUMMARY:CE West Palm Beach: Parts & Supplies Social
DESCRIPTION:Meet our Featured Partner! Snacks and refreshments will be served. \nParts & Supplies Social Featured Product Vendor: RGF Environmental Group\, Inc.
URL:https://acprosite.com/event/ce-west-palm-beach-parts-supplies-social-9/
LOCATION:CE West Palm Beach\, 1835 Old Okeechobee Road\, West Palm Beach\, Florida\, 33409
CATEGORIES:Southeast Florida
END:VEVENT
BEGIN:VEVENT
DTSTART;VALUE=DATE:20240409
DTEND;VALUE=DATE:20240410
DTSTAMP:20260422T180115
CREATED:20240401T124030Z
LAST-MODIFIED:20240401T124030Z
UID:10001511-1712620800-1712707199@acprosite.com
SUMMARY:CE: Morning Jolt! West Palm Beach
DESCRIPTION:Get your morning Jolt! Enjoy breakfast and let the CE Team share this month’s specials.
URL:https://acprosite.com/event/ce-morning-jolt-west-palm-beach-7/
LOCATION:CE West Palm Beach\, 1835 Old Okeechobee Road\, West Palm Beach\, Florida\, 33409
CATEGORIES:Southeast Florida
END:VEVENT
BEGIN:VEVENT
DTSTART;VALUE=DATE:20240329
DTEND;VALUE=DATE:20240330
DTSTAMP:20260422T180115
CREATED:20240311T141345Z
LAST-MODIFIED:20240311T141345Z
UID:10001456-1711699200-1711731600@acprosite.com
SUMMARY:CE West Palm Beach: Ductless Days 2 Day Event March 28th & 29th
DESCRIPTION:Take Advantage: Product Clearance items\, Scratch & Dent and Ductless Deals\, Promotions & More. \nEnjoy Food & Refreshments! \nYour One Stop Shop for Everything HVAC Open 24/7 @ www.CarrierEnterprise.com
URL:https://acprosite.com/event/ce-west-palm-beach-ductless-days-2-day-event-march-28th-29th/2024-03-29/
LOCATION:CE West Palm Beach\, 1835 Old Okeechobee Road\, West Palm Beach\, Florida\, 33409
CATEGORIES:Southeast Florida
END:VEVENT
BEGIN:VEVENT
DTSTART;VALUE=DATE:20240328
DTEND;VALUE=DATE:20240329
DTSTAMP:20260422T180115
CREATED:20240311T141345Z
LAST-MODIFIED:20240311T141345Z
UID:10001455-1711584000-1711670399@acprosite.com
SUMMARY:CE West Palm Beach: Ductless Days 2 Day Event March 28th & 29th
DESCRIPTION:Take Advantage: Product Clearance items\, Scratch & Dent and Ductless Deals\, Promotions & More. \nEnjoy Food & Refreshments! \nYour One Stop Shop for Everything HVAC Open 24/7 @ www.CarrierEnterprise.com
URL:https://acprosite.com/event/ce-west-palm-beach-ductless-days-2-day-event-march-28th-29th/2024-03-28/
LOCATION:CE West Palm Beach\, 1835 Old Okeechobee Road\, West Palm Beach\, Florida\, 33409
CATEGORIES:Southeast Florida
END:VEVENT
BEGIN:VEVENT
DTSTART;VALUE=DATE:20240315
DTEND;VALUE=DATE:20240316
DTSTAMP:20260422T180115
CREATED:20240308T151939Z
LAST-MODIFIED:20240308T151939Z
UID:10001415-1710460800-1710547199@acprosite.com
SUMMARY:CE West Palm Beach: Parts & Supplies Social
DESCRIPTION:Meet our Featured Partner! Snacks and refreshments will be served. \nParts & Supplies Social Featured Product Vendor: Veto Pro Pac
URL:https://acprosite.com/event/ce-west-palm-beach-parts-supplies-social-8/
LOCATION:CE West Palm Beach\, 1835 Old Okeechobee Road\, West Palm Beach\, Florida\, 33409
CATEGORIES:Southeast Florida
END:VEVENT
BEGIN:VEVENT
DTSTART;VALUE=DATE:20240223
DTEND;VALUE=DATE:20240224
DTSTAMP:20260422T180115
CREATED:20240216T155305Z
LAST-MODIFIED:20240216T155305Z
UID:10001312-1708675200-1708707600@acprosite.com
SUMMARY:CE West Palm Beach: Ductless Days 2 Day Event Feb 22nd & 23rd
DESCRIPTION:Take Advantage: Product Clearance items\, Scratch & Dent and Ductless Deals\, Promotions & More. \nEnjoy Food & Refreshments! \nYour One Stop Shop for Everything HVAC Open 24/7 @ www.CarrierEnterprise.com
URL:https://acprosite.com/event/ce-west-palm-beach-ductless-days-2-day-event-feb-22nd-23rd/2024-02-23/
LOCATION:CE West Palm Beach\, 1835 Old Okeechobee Road\, West Palm Beach\, Florida\, 33409
CATEGORIES:Southeast Florida
END:VEVENT
BEGIN:VEVENT
DTSTART;VALUE=DATE:20240222
DTEND;VALUE=DATE:20240223
DTSTAMP:20260422T180115
CREATED:20240216T155305Z
LAST-MODIFIED:20240216T155305Z
UID:10001310-1708560000-1708646399@acprosite.com
SUMMARY:CE West Palm Beach: Ductless Days 2 Day Event Feb 22nd & 23rd
DESCRIPTION:Take Advantage: Product Clearance items\, Scratch & Dent and Ductless Deals\, Promotions & More. \nEnjoy Food & Refreshments! \nYour One Stop Shop for Everything HVAC Open 24/7 @ www.CarrierEnterprise.com
URL:https://acprosite.com/event/ce-west-palm-beach-ductless-days-2-day-event-feb-22nd-23rd/2024-02-22/
LOCATION:CE West Palm Beach\, 1835 Old Okeechobee Road\, West Palm Beach\, Florida\, 33409
CATEGORIES:Southeast Florida
END:VEVENT
BEGIN:VEVENT
DTSTART;VALUE=DATE:20240216
DTEND;VALUE=DATE:20240217
DTSTAMP:20260422T180115
CREATED:20240215T180131Z
LAST-MODIFIED:20240215T180131Z
UID:10001256-1708041600-1708127999@acprosite.com
SUMMARY:CE West Palm Beach: Parts & Supplies Social
DESCRIPTION:Meet our Featured Partner! Snacks and refreshments will be served. \nParts & Supplies Social Featured Product Vendor: NAVAC
URL:https://acprosite.com/event/ce-west-palm-beach-parts-supplies-social-7/
LOCATION:CE West Palm Beach\, 1835 Old Okeechobee Road\, West Palm Beach\, Florida\, 33409
CATEGORIES:Southeast Florida
END:VEVENT
BEGIN:VEVENT
DTSTART;VALUE=DATE:20240126
DTEND;VALUE=DATE:20240127
DTSTAMP:20260422T180115
CREATED:20240109T151304Z
LAST-MODIFIED:20240109T151304Z
UID:10001164-1706256000-1706288400@acprosite.com
SUMMARY:CE West Palm Beach: Ductless Days Jan 25th & 26th
DESCRIPTION:Closeouts – Clearance – Ductless Deals! \nPlus Food & Refreshments! \n 
URL:https://acprosite.com/event/ce-west-palm-beach-ductless-days-jan-25th-26th/2024-01-26/
LOCATION:CE West Palm Beach\, 1835 Old Okeechobee Road\, West Palm Beach\, Florida\, 33409
CATEGORIES:Southeast Florida
END:VEVENT
BEGIN:VEVENT
DTSTART;VALUE=DATE:20240125
DTEND;VALUE=DATE:20240126
DTSTAMP:20260422T180115
CREATED:20240109T151304Z
LAST-MODIFIED:20240109T151304Z
UID:10001163-1706140800-1706227199@acprosite.com
SUMMARY:CE West Palm Beach: Ductless Days Jan 25th & 26th
DESCRIPTION:Closeouts – Clearance – Ductless Deals! \nPlus Food & Refreshments! \n 
URL:https://acprosite.com/event/ce-west-palm-beach-ductless-days-jan-25th-26th/2024-01-25/
LOCATION:CE West Palm Beach\, 1835 Old Okeechobee Road\, West Palm Beach\, Florida\, 33409
CATEGORIES:Southeast Florida
END:VEVENT
BEGIN:VEVENT
DTSTART;VALUE=DATE:20240119
DTEND;VALUE=DATE:20240120
DTSTAMP:20260422T180115
CREATED:20240104T152917Z
LAST-MODIFIED:20240104T152917Z
UID:10001118-1705622400-1705708799@acprosite.com
SUMMARY:CE West Palm Beach: Parts & Supplies Social
DESCRIPTION:Come socialize at CE and enjoy snacks\, refreshments and special promotions with the CE Associates and fellow HVAC Professionals. \nParts & Supplies Social Featured Product Vendor: Veto Pro Pak
URL:https://acprosite.com/event/ce-west-palm-beach-parts-supplies-social-6/
LOCATION:CE West Palm Beach\, 1835 Old Okeechobee Road\, West Palm Beach\, Florida\, 33409
CATEGORIES:Southeast Florida
END:VEVENT
BEGIN:VEVENT
DTSTART;VALUE=DATE:20240109
DTEND;VALUE=DATE:20240110
DTSTAMP:20260422T180115
CREATED:20240103T154416Z
LAST-MODIFIED:20240103T154416Z
UID:10001091-1704758400-1704844799@acprosite.com
SUMMARY:CE: Morning Jolt! West Palm Beach
DESCRIPTION:Come get your morning JOLT! Enjoy breakfast with the CE team!
URL:https://acprosite.com/event/ce-morning-jolt-west-palm-beach-6/
LOCATION:CE West Palm Beach\, 1835 Old Okeechobee Road\, West Palm Beach\, Florida\, 33409
CATEGORIES:Southeast Florida
END:VEVENT
BEGIN:VEVENT
DTSTART;VALUE=DATE:20231229
DTEND;VALUE=DATE:20231230
DTSTAMP:20260422T180115
CREATED:20231208T153704Z
LAST-MODIFIED:20231208T153704Z
UID:10001028-1703836800-1703869200@acprosite.com
SUMMARY:CE West Palm Beach: Ductless Days Dec. 28th & 29th
DESCRIPTION:Closeouts – Clearance – Ductless Deals! \nPlus Food & Refreshments! \n 
URL:https://acprosite.com/event/ce-west-palm-beach-ductless-days-dec-28th-29th/2023-12-29/
LOCATION:CE West Palm Beach\, 1835 Old Okeechobee Road\, West Palm Beach\, Florida\, 33409
CATEGORIES:Southeast Florida
END:VEVENT
BEGIN:VEVENT
DTSTART;VALUE=DATE:20231228
DTEND;VALUE=DATE:20231229
DTSTAMP:20260422T180115
CREATED:20231208T153704Z
LAST-MODIFIED:20231208T153704Z
UID:10001027-1703721600-1703807999@acprosite.com
SUMMARY:CE West Palm Beach: Ductless Days Dec. 28th & 29th
DESCRIPTION:Closeouts – Clearance – Ductless Deals! \nPlus Food & Refreshments! \n 
URL:https://acprosite.com/event/ce-west-palm-beach-ductless-days-dec-28th-29th/2023-12-28/
LOCATION:CE West Palm Beach\, 1835 Old Okeechobee Road\, West Palm Beach\, Florida\, 33409
CATEGORIES:Southeast Florida
END:VEVENT
BEGIN:VEVENT
DTSTART;VALUE=DATE:20231215
DTEND;VALUE=DATE:20231216
DTSTAMP:20260422T180115
CREATED:20231207T170202Z
LAST-MODIFIED:20231207T170202Z
UID:10000985-1702598400-1702684799@acprosite.com
SUMMARY:CE West Palm Beach: Parts & Supplies Social
DESCRIPTION:Come socialize at CE and enjoy snacks\, refreshments and special promotions with the CE Associates and fellow HVAC Professionals. \nParts & Supplies Social Featured Product Vendor: Fieldpiece
URL:https://acprosite.com/event/ce-west-palm-beach-parts-supplies-social-5/
LOCATION:CE West Palm Beach\, 1835 Old Okeechobee Road\, West Palm Beach\, Florida\, 33409
CATEGORIES:Southeast Florida
END:VEVENT
BEGIN:VEVENT
DTSTART;VALUE=DATE:20231205
DTEND;VALUE=DATE:20231206
DTSTAMP:20260422T180115
CREATED:20231206T174038Z
LAST-MODIFIED:20231206T174038Z
UID:10000958-1701734400-1701820799@acprosite.com
SUMMARY:CE: Morning Jolt! West Palm Beach
DESCRIPTION:Come get your morning JOLT! Enjoy breakfast with the CE team!
URL:https://acprosite.com/event/ce-morning-jolt-west-palm-beach-5/
LOCATION:CE West Palm Beach\, 1835 Old Okeechobee Road\, West Palm Beach\, Florida\, 33409
CATEGORIES:Southeast Florida
END:VEVENT
BEGIN:VEVENT
DTSTART;VALUE=DATE:20231201
DTEND;VALUE=DATE:20231202
DTSTAMP:20260422T180115
CREATED:20231103T164021Z
LAST-MODIFIED:20231103T164021Z
UID:10000881-1701417600-1701450000@acprosite.com
SUMMARY:CE West Palm Beach: 2-Day Tent Sale Thurs 11/30 & Fri 12/1
DESCRIPTION:Closeouts\, Clearance\, Scratch & Dent Blowout \nPlus Food & Refreshments
URL:https://acprosite.com/event/ce-west-palm-beach-2-day-tent-sale-thurs-11-30-fri-12-1/2023-12-01/
LOCATION:CE West Palm Beach\, 1835 Old Okeechobee Road\, West Palm Beach\, Florida\, 33409
CATEGORIES:Southeast Florida
END:VEVENT
BEGIN:VEVENT
DTSTART;VALUE=DATE:20231130
DTEND;VALUE=DATE:20231201
DTSTAMP:20260422T180115
CREATED:20231103T164021Z
LAST-MODIFIED:20231103T164021Z
UID:10000879-1701302400-1701388799@acprosite.com
SUMMARY:CE West Palm Beach: 2-Day Tent Sale Thurs 11/30 & Fri 12/1
DESCRIPTION:Closeouts\, Clearance\, Scratch & Dent Blowout \nPlus Food & Refreshments
URL:https://acprosite.com/event/ce-west-palm-beach-2-day-tent-sale-thurs-11-30-fri-12-1/2023-11-30/
LOCATION:CE West Palm Beach\, 1835 Old Okeechobee Road\, West Palm Beach\, Florida\, 33409
CATEGORIES:Southeast Florida
END:VEVENT
BEGIN:VEVENT
DTSTART;VALUE=DATE:20231117
DTEND;VALUE=DATE:20231118
DTSTAMP:20260422T180115
CREATED:20231102T165042Z
LAST-MODIFIED:20231102T165042Z
UID:10000831-1700179200-1700265599@acprosite.com
SUMMARY:CE West Palm Beach: Parts & Supplies Social
DESCRIPTION:Come socialize at CE and enjoy snacks\, refreshments and special promotions with the CE Associates and fellow HVAC Professionals. \nParts & Supplies Social Featured Product Vendor: Hudson Technologies
URL:https://acprosite.com/event/ce-west-palm-beach-parts-supplies-social-4/
LOCATION:CE West Palm Beach\, 1835 Old Okeechobee Road\, West Palm Beach\, Florida\, 33409
CATEGORIES:Southeast Florida
END:VEVENT
BEGIN:VEVENT
DTSTART;VALUE=DATE:20231107
DTEND;VALUE=DATE:20231108
DTSTAMP:20260422T180115
CREATED:20231101T162041Z
LAST-MODIFIED:20231101T162041Z
UID:10000800-1699315200-1699401599@acprosite.com
SUMMARY:CE: Morning Jolt! West Palm Beach
DESCRIPTION:Come get your morning JOLT! Enjoy breakfast with the CE team!
URL:https://acprosite.com/event/ce-morning-jolt-west-palm-beach-4/
LOCATION:CE West Palm Beach\, 1835 Old Okeechobee Road\, West Palm Beach\, Florida\, 33409
CATEGORIES:Southeast Florida
END:VEVENT
BEGIN:VEVENT
DTSTART;VALUE=DATE:20231027
DTEND;VALUE=DATE:20231028
DTSTAMP:20260422T180115
CREATED:20231005T171430Z
LAST-MODIFIED:20231005T171430Z
UID:10000722-1698393600-1698426000@acprosite.com
SUMMARY:CE West Palm Beach: 2 Day Tent Sale Oct. 26th & 27th
DESCRIPTION:Closeouts – Clearance – Scratch & Dent Blowout! \nPlus Food & Refreshments!
URL:https://acprosite.com/event/ce-west-palm-beach-2-day-tent-sale-oct-26th-27th/2023-10-27/
LOCATION:CE West Palm Beach\, 1835 Old Okeechobee Road\, West Palm Beach\, Florida\, 33409
CATEGORIES:Southeast Florida
END:VEVENT
BEGIN:VEVENT
DTSTART;VALUE=DATE:20231026
DTEND;VALUE=DATE:20231027
DTSTAMP:20260422T180115
CREATED:20231005T171430Z
LAST-MODIFIED:20231005T171430Z
UID:10000721-1698278400-1698364799@acprosite.com
SUMMARY:CE West Palm Beach: 2 Day Tent Sale Oct. 26th & 27th
DESCRIPTION:Closeouts – Clearance – Scratch & Dent Blowout! \nPlus Food & Refreshments!
URL:https://acprosite.com/event/ce-west-palm-beach-2-day-tent-sale-oct-26th-27th/2023-10-26/
LOCATION:CE West Palm Beach\, 1835 Old Okeechobee Road\, West Palm Beach\, Florida\, 33409
CATEGORIES:Southeast Florida
END:VEVENT
BEGIN:VEVENT
DTSTART;VALUE=DATE:20231019
DTEND;VALUE=DATE:20231020
DTSTAMP:20260422T180115
CREATED:20231004T181130Z
LAST-MODIFIED:20231004T181130Z
UID:10000676-1697673600-1697759999@acprosite.com
SUMMARY:CE West Palm Beach: Parts & Supplies Social
DESCRIPTION:Come socialize at CE and enjoy snacks\, refreshments and special promotions with the CE Associates and fellow HVAC Professionals. \nFeatured Product Vendor: ecobee
URL:https://acprosite.com/event/ce-west-palm-beach-parts-supplies-social-3/
LOCATION:CE West Palm Beach\, 1835 Old Okeechobee Road\, West Palm Beach\, Florida\, 33409
CATEGORIES:Southeast Florida
END:VEVENT
BEGIN:VEVENT
DTSTART;VALUE=DATE:20231010
DTEND;VALUE=DATE:20231011
DTSTAMP:20260422T180115
CREATED:20231004T164241Z
LAST-MODIFIED:20231004T164241Z
UID:10000625-1696896000-1696982399@acprosite.com
SUMMARY:CE: Morning Jolt! West Palm Beach
DESCRIPTION:Come get your morning JOLT! Enjoy breakfast with the CE team!
URL:https://acprosite.com/event/ce-morning-jolt-west-palm-beach-3/
LOCATION:CE West Palm Beach\, 1835 Old Okeechobee Road\, West Palm Beach\, Florida\, 33409
CATEGORIES:Southeast Florida
END:VEVENT
BEGIN:VEVENT
DTSTART;VALUE=DATE:20230929
DTEND;VALUE=DATE:20230930
DTSTAMP:20260422T180115
CREATED:20230906T141707Z
LAST-MODIFIED:20230906T141707Z
UID:10000558-1695974400-1696006800@acprosite.com
SUMMARY:CE West Palm Beach: 2 Day Tent Sale! September 28th & 29th
DESCRIPTION:Closeouts\, clearance items\, scratch and dent tent blowout! Plus\, food & refreshments!
URL:https://acprosite.com/event/ce-west-palm-beach-2-day-tent-sale-september-28th-29th/2023-09-29/
LOCATION:CE West Palm Beach\, 1835 Old Okeechobee Road\, West Palm Beach\, Florida\, 33409
CATEGORIES:Southeast Florida
END:VEVENT
END:VCALENDAR