BEGIN:VCALENDAR
VERSION:2.0
PRODID:-//ACprosite - ECPv6.15.20//NONSGML v1.0//EN
CALSCALE:GREGORIAN
METHOD:PUBLISH
X-WR-CALNAME:ACprosite
X-ORIGINAL-URL:https://acprosite.com
X-WR-CALDESC:Events for ACprosite
REFRESH-INTERVAL;VALUE=DURATION:PT1H
X-Robots-Tag:noindex
X-PUBLISHED-TTL:PT1H
BEGIN:VTIMEZONE
TZID:America/New_York
BEGIN:DAYLIGHT
TZOFFSETFROM:-0500
TZOFFSETTO:-0400
TZNAME:EDT
DTSTART:20240310T070000
END:DAYLIGHT
BEGIN:STANDARD
TZOFFSETFROM:-0400
TZOFFSETTO:-0500
TZNAME:EST
DTSTART:20241103T060000
END:STANDARD
BEGIN:DAYLIGHT
TZOFFSETFROM:-0500
TZOFFSETTO:-0400
TZNAME:EDT
DTSTART:20250309T070000
END:DAYLIGHT
BEGIN:STANDARD
TZOFFSETFROM:-0400
TZOFFSETTO:-0500
TZNAME:EST
DTSTART:20251102T060000
END:STANDARD
BEGIN:DAYLIGHT
TZOFFSETFROM:-0500
TZOFFSETTO:-0400
TZNAME:EDT
DTSTART:20260308T070000
END:DAYLIGHT
BEGIN:STANDARD
TZOFFSETFROM:-0400
TZOFFSETTO:-0500
TZNAME:EST
DTSTART:20261101T060000
END:STANDARD
END:VTIMEZONE
BEGIN:VEVENT
DTSTART;TZID=America/New_York:20251209T080000
DTEND;TZID=America/New_York:20251209T120000
DTSTAMP:20260420T113521
CREATED:20251202T163941Z
LAST-MODIFIED:20251202T163941Z
UID:10003304-1765267200-1765281600@acprosite.com
SUMMARY:Daikin HVAC Learning Campus Wesley Chapel: BUSINESS STRATEGIES Successfully Update and Design Your Business Strategy with Artificial Intelligence
DESCRIPTION:Does it feel like your business is running you? Walk away with a tailored business plan that gives you a proactive edge in the market with:\n» Standard Chart of Accounts\n» Market Share Analysis\n» Marketing and Revenue Plan\n» Operations Expense Targets \nFocus: Together with understanding the Daikin Chart of Accounts\, participants will have a structured financial framework\, which is essential because it provides a structured approach to managing resources\, setting goals\, and making informed decisions. \nCourse Agenda Includes:\n» Daikin Chart of Accounts\n» Cost of Sales\n» Commandments & Principles\n» AI Prompts\n» Cost Model\n» Operations Plan\n» Labor Tracking\n» Liabilities \n 
URL:https://acprosite.com/event/daikin-hvac-learning-campus-wesley-chapel-business-strategies-successfully-update-and-design-your-business-strategy-with-artificial-intelligence/
LOCATION:Daikin Wesley Chapel\, 7586 Old Pasco Road\, Wesley Chapel\, Florida\, 33544
CATEGORIES:West Central Florida
END:VEVENT
END:VCALENDAR