BEGIN:VCALENDAR
VERSION:2.0
PRODID:-//ACprosite - ECPv6.15.20//NONSGML v1.0//EN
CALSCALE:GREGORIAN
METHOD:PUBLISH
X-WR-CALNAME:ACprosite
X-ORIGINAL-URL:https://acprosite.com
X-WR-CALDESC:Events for ACprosite
REFRESH-INTERVAL;VALUE=DURATION:PT1H
X-Robots-Tag:noindex
X-PUBLISHED-TTL:PT1H
BEGIN:VTIMEZONE
TZID:America/New_York
BEGIN:DAYLIGHT
TZOFFSETFROM:-0500
TZOFFSETTO:-0400
TZNAME:EDT
DTSTART:20220313T070000
END:DAYLIGHT
BEGIN:STANDARD
TZOFFSETFROM:-0400
TZOFFSETTO:-0500
TZNAME:EST
DTSTART:20221106T060000
END:STANDARD
BEGIN:DAYLIGHT
TZOFFSETFROM:-0500
TZOFFSETTO:-0400
TZNAME:EDT
DTSTART:20230312T070000
END:DAYLIGHT
BEGIN:STANDARD
TZOFFSETFROM:-0400
TZOFFSETTO:-0500
TZNAME:EST
DTSTART:20231105T060000
END:STANDARD
BEGIN:DAYLIGHT
TZOFFSETFROM:-0500
TZOFFSETTO:-0400
TZNAME:EDT
DTSTART:20240310T070000
END:DAYLIGHT
BEGIN:STANDARD
TZOFFSETFROM:-0400
TZOFFSETTO:-0500
TZNAME:EST
DTSTART:20241103T060000
END:STANDARD
BEGIN:DAYLIGHT
TZOFFSETFROM:-0500
TZOFFSETTO:-0400
TZNAME:EDT
DTSTART:20250309T070000
END:DAYLIGHT
BEGIN:STANDARD
TZOFFSETFROM:-0400
TZOFFSETTO:-0500
TZNAME:EST
DTSTART:20251102T060000
END:STANDARD
BEGIN:DAYLIGHT
TZOFFSETFROM:-0500
TZOFFSETTO:-0400
TZNAME:EDT
DTSTART:20260308T070000
END:DAYLIGHT
BEGIN:STANDARD
TZOFFSETFROM:-0400
TZOFFSETTO:-0500
TZNAME:EST
DTSTART:20261101T060000
END:STANDARD
BEGIN:DAYLIGHT
TZOFFSETFROM:-0500
TZOFFSETTO:-0400
TZNAME:EDT
DTSTART:20270314T070000
END:DAYLIGHT
BEGIN:STANDARD
TZOFFSETFROM:-0400
TZOFFSETTO:-0500
TZNAME:EST
DTSTART:20271107T060000
END:STANDARD
END:VTIMEZONE
BEGIN:VEVENT
DTSTART;TZID=America/New_York:20260407T080000
DTEND;TZID=America/New_York:20260407T113000
DTSTAMP:20260425T225143
CREATED:20260407T141252Z
LAST-MODIFIED:20260407T141428Z
UID:10003428-1775548800-1775561400@acprosite.com
SUMMARY:Johnstone Supply Dania: Resideo Academy Training
DESCRIPTION:Johnstone Roadshow | Dehumidification\, ElitePRO and FocusPRO TRAINING\nLed by a Technical Instructor from Resideo Academy\, this course provides a clear overview of FocusPRO® and ElitePRO® features\, system compatibility\, whole-home solution opportunities\, and a high-level overview of Pro-IQ™ capabilities. Attendees will see a live demonstration of setting up a thermostat using the Resideo Pro App. In this session\, participants will also learn how to select and install the correct dehumidifier for various applications\, covering product features\, control options\, service\, and best practices. \n \n 
URL:https://acprosite.com/event/johnstone-supply-dania-resideo-academy-training/
LOCATION:Johnstone Dania Beach\, 3224 SW 30th Ave\, Fort Lauderdale\, Florida\, 33312
CATEGORIES:Southeast Florida
END:VEVENT
BEGIN:VEVENT
DTSTART;TZID=America/New_York:20250325T080000
DTEND;TZID=America/New_York:20250325T120000
DTSTAMP:20260425T225143
CREATED:20250313T142058Z
LAST-MODIFIED:20250313T142058Z
UID:10002937-1742889600-1742904000@acprosite.com
SUMMARY:Johnstone Supply Dania Beach: Inficon Counter Days
DESCRIPTION:INFICON Refrigerant Leak Detectors \nDISCUSS BEST PRACTICES\, NEW PRODUCTS\, INDUSTRY UPDATES\, DEMONSTRATIONS AND MORE!
URL:https://acprosite.com/event/johnstone-supply-dania-beach-inficon-counter-days/
LOCATION:Johnstone Dania Beach\, 3224 SW 30th Ave\, Fort Lauderdale\, Florida\, 33312
CATEGORIES:Southeast Florida
END:VEVENT
BEGIN:VEVENT
DTSTART;TZID=America/New_York:20240925T110000
DTEND;TZID=America/New_York:20240925T130000
DTSTAMP:20260425T225143
CREATED:20240829T165448Z
LAST-MODIFIED:20240829T165448Z
UID:10002409-1727262000-1727269200@acprosite.com
SUMMARY:Johnstone Supply Dania Beach: Resideo Summer Savings
DESCRIPTION:· DISCUSS BEST PRACTICES · NEW PRODUCTS · SAMPLES · DEMONSTRATIONS · AND MORE! \nYOUR PURCHASE COULD WIN YOU A FORD F-150 LIGHTNING! \n 
URL:https://acprosite.com/event/johnstone-supply-dania-beach-resideo-summer-savings/
LOCATION:Johnstone Dania Beach\, 3224 SW 30th Ave\, Fort Lauderdale\, Florida\, 33312
CATEGORIES:Southeast Florida
END:VEVENT
BEGIN:VEVENT
DTSTART;TZID=America/New_York:20240925T080000
DTEND;TZID=America/New_York:20240925T110000
DTSTAMP:20260425T225143
CREATED:20240829T163647Z
LAST-MODIFIED:20240829T163647Z
UID:10002404-1727251200-1727262000@acprosite.com
SUMMARY:Johnstone Supply Dania Beach: A2L Equipment Training
DESCRIPTION:COURSE DESCRIPTION:\nAll HVAC manufacturers will be switching over to new refrigerants with a lower Global Warming Potential beginning January 1\, 2025. Daikin\, Amana and Goodman residential HVAC equipment will be using refrigerant R-32 in their residential equipment. R-32 is classified as an A2L Refrigerant\, which means it is a slightly flammable gas. \nDesigned for Install & Service Managers & Technicians \n \n  \n 
URL:https://acprosite.com/event/johnstone-supply-dania-beach-a2l-equipment-training/
LOCATION:Johnstone Dania Beach\, 3224 SW 30th Ave\, Fort Lauderdale\, Florida\, 33312
CATEGORIES:Southeast Florida
END:VEVENT
BEGIN:VEVENT
DTSTART;TZID=America/New_York:20240821T073000
DTEND;TZID=America/New_York:20240821T103000
DTSTAMP:20260425T225143
CREATED:20240731T153006Z
LAST-MODIFIED:20240731T153006Z
UID:10002172-1724225400-1724236200@acprosite.com
SUMMARY:Johnstone Supply Ft. Lauderdale: UEI Counter Day
DESCRIPTION:UEI Instruments Meter Reset & Demo Days \nDiscuss best practices\, new products\, samples\, demonstrations and more!
URL:https://acprosite.com/event/johnstone-supply-ft-lauderdale-uei-counter-day-2/
LOCATION:Johnstone Dania Beach\, 3224 SW 30th Ave\, Fort Lauderdale\, Florida\, 33312
CATEGORIES:Southeast Florida
END:VEVENT
BEGIN:VEVENT
DTSTART;TZID=America/New_York:20231018T080000
DTEND;TZID=America/New_York:20231018T120000
DTSTAMP:20260425T225143
CREATED:20231010T163325Z
LAST-MODIFIED:20231010T163325Z
UID:10000758-1697616000-1697630400@acprosite.com
SUMMARY:Johnstone Ware Group Ft. Lauderdale:  Mitsubishi Smart Multi-Install & Commissioning TSR
DESCRIPTION:Register HERE \n*Please register at least 1 week in advance to allow trainers sufficient time to order class materials*
URL:https://acprosite.com/event/johnstone-ware-group-ft-lauderdale-mitsubishi-smart-multi-install-commissioning-tsr/
LOCATION:Johnstone Dania Beach\, 3224 SW 30th Ave\, Fort Lauderdale\, Florida\, 33312
CATEGORIES:Southeast Florida
END:VEVENT
END:VCALENDAR