BEGIN:VCALENDAR
VERSION:2.0
PRODID:-//ACprosite - ECPv6.15.20//NONSGML v1.0//EN
CALSCALE:GREGORIAN
METHOD:PUBLISH
X-WR-CALNAME:ACprosite
X-ORIGINAL-URL:https://acprosite.com
X-WR-CALDESC:Events for ACprosite
REFRESH-INTERVAL;VALUE=DURATION:PT1H
X-Robots-Tag:noindex
X-PUBLISHED-TTL:PT1H
BEGIN:VTIMEZONE
TZID:America/New_York
BEGIN:DAYLIGHT
TZOFFSETFROM:-0500
TZOFFSETTO:-0400
TZNAME:EDT
DTSTART:20230312T070000
END:DAYLIGHT
BEGIN:STANDARD
TZOFFSETFROM:-0400
TZOFFSETTO:-0500
TZNAME:EST
DTSTART:20231105T060000
END:STANDARD
BEGIN:DAYLIGHT
TZOFFSETFROM:-0500
TZOFFSETTO:-0400
TZNAME:EDT
DTSTART:20240310T070000
END:DAYLIGHT
BEGIN:STANDARD
TZOFFSETFROM:-0400
TZOFFSETTO:-0500
TZNAME:EST
DTSTART:20241103T060000
END:STANDARD
BEGIN:DAYLIGHT
TZOFFSETFROM:-0500
TZOFFSETTO:-0400
TZNAME:EDT
DTSTART:20250309T070000
END:DAYLIGHT
BEGIN:STANDARD
TZOFFSETFROM:-0400
TZOFFSETTO:-0500
TZNAME:EST
DTSTART:20251102T060000
END:STANDARD
END:VTIMEZONE
BEGIN:VEVENT
DTSTART;TZID=America/New_York:20240423T070000
DTEND;TZID=America/New_York:20240423T120000
DTSTAMP:20260422T064615
CREATED:20240305T183114Z
LAST-MODIFIED:20240305T183401Z
UID:10001390-1713855600-1713873600@acprosite.com
SUMMARY:Tropic Supply Miami: Low GWP Refrigerants: Best Practices for a Smooth Transition
DESCRIPTION:ATTENDEES WILL LEARN: \n\nA review of regulatory legislation where we have been\, where we are\, where we are going\nProperties of A2L refrigerants\nTechnology Transitions Rule\nWhy R454B?\nChanges to Ruud equipment\nBest practices for installing and servicing equipment containing low GWP refrigerants\n\nWHEN:  Tuesday\, April 23\, 2024 \n7:00am – 8:00am Continental Breakfast / A2L Tool Tradeshow \n8:00am – 11:00am Training Presentation \n11:00am – 12:00pm A2L Tool Tradeshow \nWHERE: Regency-Sonesta Miami Airport 1000 NW 42nd Avenue Miami\, FL 33126 \nClick HERE to register. \n \n 
URL:https://acprosite.com/event/tropic-supply-miami-low-gwp-refrigerants-best-practices-for-a-smooth-transition/
LOCATION:Miamii\, 1000 NW 42nd Avenue\, Miami\, Florida\, 33126
CATEGORIES:Southeast Florida
END:VEVENT
END:VCALENDAR