BEGIN:VCALENDAR
VERSION:2.0
PRODID:-//ACprosite - ECPv6.15.20//NONSGML v1.0//EN
CALSCALE:GREGORIAN
METHOD:PUBLISH
X-ORIGINAL-URL:https://acprosite.com
X-WR-CALDESC:Events for ACprosite
REFRESH-INTERVAL;VALUE=DURATION:PT1H
X-Robots-Tag:noindex
X-PUBLISHED-TTL:PT1H
BEGIN:VTIMEZONE
TZID:America/New_York
BEGIN:DAYLIGHT
TZOFFSETFROM:-0500
TZOFFSETTO:-0400
TZNAME:EDT
DTSTART:20250309T070000
END:DAYLIGHT
BEGIN:STANDARD
TZOFFSETFROM:-0400
TZOFFSETTO:-0500
TZNAME:EST
DTSTART:20251102T060000
END:STANDARD
BEGIN:DAYLIGHT
TZOFFSETFROM:-0500
TZOFFSETTO:-0400
TZNAME:EDT
DTSTART:20260308T070000
END:DAYLIGHT
BEGIN:STANDARD
TZOFFSETFROM:-0400
TZOFFSETTO:-0500
TZNAME:EST
DTSTART:20261101T060000
END:STANDARD
BEGIN:DAYLIGHT
TZOFFSETFROM:-0500
TZOFFSETTO:-0400
TZNAME:EDT
DTSTART:20270314T070000
END:DAYLIGHT
BEGIN:STANDARD
TZOFFSETFROM:-0400
TZOFFSETTO:-0500
TZNAME:EST
DTSTART:20271107T060000
END:STANDARD
END:VTIMEZONE
BEGIN:VEVENT
DTSTART;TZID=America/New_York:20260416T173000
DTEND;TZID=America/New_York:20260416T200000
DTSTAMP:20260419T145718
CREATED:20260203T161205Z
LAST-MODIFIED:20260203T161205Z
UID:10003326-1776360600-1776369600@acprosite.com
SUMMARY:RACCA Tampa: 2026 Social & Membership Drive – Bowling at Pin Chasers
DESCRIPTION:Join us for our 2026 Social & Membership Drive on April 16\, 2026 from 5:30pm-8:00pm at Pin Chasers! Socialize with RACCA’s Board Members\, Contractor Members & Associate Members at this exciting event. \nRACCA’s Membership Committee will be providing you with your first drink while Federated Insurance will be providing food and sodas through out the Event. \nEnjoy fresh Caesar salad\, and fresh\, tasty\, gooey\, hot pizza. Their pizzas are made to order with one of your favorite toppings and baked fresh in their kitchen on site. Fresh baked cookies for dessert. Free unlimited soda\, coffee\, or tea. \nNote: RACCA will provide you with one Beer or Wine Drink Ticket. There will be a Cash Bar available for additional drinks. \nAll members of the Tampa Bay HVAC Industry are welcome to join us! \nApplications will be available to become a Contractor Member or Associate Member. \nClick HERE for tickets.
URL:https://acprosite.com/event/racca-tampa-2026-social-membership-drive-bowling-at-pin-chasers/
LOCATION:Pin Chasers Tampa\, 5555 West Hillsborough Ave\, Tampa\, Florida\, 33634
CATEGORIES:West Central Florida
END:VEVENT
END:VCALENDAR