BEGIN:VCALENDAR
VERSION:2.0
PRODID:-//ACprosite - ECPv6.15.20//NONSGML v1.0//EN
CALSCALE:GREGORIAN
METHOD:PUBLISH
X-ORIGINAL-URL:https://acprosite.com
X-WR-CALDESC:Events for ACprosite
REFRESH-INTERVAL;VALUE=DURATION:PT1H
X-Robots-Tag:noindex
X-PUBLISHED-TTL:PT1H
BEGIN:VTIMEZONE
TZID:America/New_York
BEGIN:DAYLIGHT
TZOFFSETFROM:-0500
TZOFFSETTO:-0400
TZNAME:EDT
DTSTART:20220313T070000
END:DAYLIGHT
BEGIN:STANDARD
TZOFFSETFROM:-0400
TZOFFSETTO:-0500
TZNAME:EST
DTSTART:20221106T060000
END:STANDARD
BEGIN:DAYLIGHT
TZOFFSETFROM:-0500
TZOFFSETTO:-0400
TZNAME:EDT
DTSTART:20230312T070000
END:DAYLIGHT
BEGIN:STANDARD
TZOFFSETFROM:-0400
TZOFFSETTO:-0500
TZNAME:EST
DTSTART:20231105T060000
END:STANDARD
BEGIN:DAYLIGHT
TZOFFSETFROM:-0500
TZOFFSETTO:-0400
TZNAME:EDT
DTSTART:20240310T070000
END:DAYLIGHT
BEGIN:STANDARD
TZOFFSETFROM:-0400
TZOFFSETTO:-0500
TZNAME:EST
DTSTART:20241103T060000
END:STANDARD
BEGIN:DAYLIGHT
TZOFFSETFROM:-0500
TZOFFSETTO:-0400
TZNAME:EDT
DTSTART:20250309T070000
END:DAYLIGHT
BEGIN:STANDARD
TZOFFSETFROM:-0400
TZOFFSETTO:-0500
TZNAME:EST
DTSTART:20251102T060000
END:STANDARD
END:VTIMEZONE
BEGIN:VEVENT
DTSTART;TZID=America/New_York:20241121T070000
DTEND;TZID=America/New_York:20241121T133000
DTSTAMP:20260425T112514
CREATED:20240717T173957Z
LAST-MODIFIED:20241112T192300Z
UID:10002125-1732172400-1732195800@acprosite.com
SUMMARY:Baker Manitowoc Lakeland: 2024 Service Seminar
DESCRIPTION:You are invited to our service school hosted by Baker Distributing Company and facilitated by Regional Service Manager\, Manitowoc\, Inc. \nThe subjects covered will be electrical and refrigeration diagnostics as well as sequence of operations for the Indigo NXT\, Neo and KOOLAIRE machines. \nATTENDANCE IS MANDATORY FOR YOU TO COMPLETE WARRANTY WORK ON MANITOWOC MACHINES. \nCOST: $95 INCLUDES TECH HANDBOOKS\, CLASS MATERIALS\, BREAKFAST & LUNCH \nATTENDANCE IS MANDATORY FOR YOU TO COMPLETE WARRANTY WORK ON MANITOWOC MACHINES. \nCONTACT: Ashley Porter | aporter@bakerdist.com | (813) 624-3467 \nTo register\, visit www.bakerdist.com/baker-manitowoc-training
URL:https://acprosite.com/event/baker-manitowec-lakeland-2024-service-seminar/
LOCATION:Lakeland\, 3839 Don Emerson Dr.\, Lakeland\, Florida\, 33811
CATEGORIES:West Central Florida
END:VEVENT
BEGIN:VEVENT
DTSTART;TZID=America/New_York:20240828T110000
DTEND;TZID=America/New_York:20240828T130000
DTSTAMP:20260425T112514
CREATED:20240603T171236Z
LAST-MODIFIED:20240603T171236Z
UID:10001889-1724842800-1724850000@acprosite.com
SUMMARY:Baker FL Cooling Lakeland: Weenie Wednesday
DESCRIPTION:August is blazing and so are our Weenie Wednesday celebrations! \nBoost your business with 5% off any TradePro purchase over $100. \nUse In-Store Promo Code 999TradePro5. Going big? \nOn orders of $1\,000+ of motors\, coil cleaner\, or TradePro products\, we’ll deliver right from our Distribution Center to your shop with FREE freight! \n \n 
URL:https://acprosite.com/event/baker-fl-cooling-lakeland-weenie-wednesday/2024-08-28/
LOCATION:Lakeland\, 3839 Don Emerson Dr.\, Lakeland\, Florida\, 33811
CATEGORIES:West Central Florida
END:VEVENT
BEGIN:VEVENT
DTSTART;TZID=America/New_York:20240821T110000
DTEND;TZID=America/New_York:20240821T130000
DTSTAMP:20260425T112514
CREATED:20240603T171236Z
LAST-MODIFIED:20240603T171236Z
UID:10001888-1724238000-1724245200@acprosite.com
SUMMARY:Baker FL Cooling Lakeland: Weenie Wednesday
DESCRIPTION:August is blazing and so are our Weenie Wednesday celebrations! \nBoost your business with 5% off any TradePro purchase over $100. \nUse In-Store Promo Code 999TradePro5. Going big? \nOn orders of $1\,000+ of motors\, coil cleaner\, or TradePro products\, we’ll deliver right from our Distribution Center to your shop with FREE freight! \n \n 
URL:https://acprosite.com/event/baker-fl-cooling-lakeland-weenie-wednesday/2024-08-21/
LOCATION:Lakeland\, 3839 Don Emerson Dr.\, Lakeland\, Florida\, 33811
CATEGORIES:West Central Florida
END:VEVENT
BEGIN:VEVENT
DTSTART;TZID=America/New_York:20240814T110000
DTEND;TZID=America/New_York:20240814T130000
DTSTAMP:20260425T112514
CREATED:20240603T171236Z
LAST-MODIFIED:20240603T171236Z
UID:10001887-1723633200-1723640400@acprosite.com
SUMMARY:Baker FL Cooling Lakeland: Weenie Wednesday
DESCRIPTION:August is blazing and so are our Weenie Wednesday celebrations! \nBoost your business with 5% off any TradePro purchase over $100. \nUse In-Store Promo Code 999TradePro5. Going big? \nOn orders of $1\,000+ of motors\, coil cleaner\, or TradePro products\, we’ll deliver right from our Distribution Center to your shop with FREE freight! \n \n 
URL:https://acprosite.com/event/baker-fl-cooling-lakeland-weenie-wednesday/2024-08-14/
LOCATION:Lakeland\, 3839 Don Emerson Dr.\, Lakeland\, Florida\, 33811
CATEGORIES:West Central Florida
END:VEVENT
BEGIN:VEVENT
DTSTART;TZID=America/New_York:20240807T110000
DTEND;TZID=America/New_York:20240807T130000
DTSTAMP:20260425T112514
CREATED:20240603T171236Z
LAST-MODIFIED:20240603T171236Z
UID:10001886-1723028400-1723035600@acprosite.com
SUMMARY:Baker FL Cooling Lakeland: Weenie Wednesday
DESCRIPTION:August is blazing and so are our Weenie Wednesday celebrations! \nBoost your business with 5% off any TradePro purchase over $100. \nUse In-Store Promo Code 999TradePro5. Going big? \nOn orders of $1\,000+ of motors\, coil cleaner\, or TradePro products\, we’ll deliver right from our Distribution Center to your shop with FREE freight! \n \n 
URL:https://acprosite.com/event/baker-fl-cooling-lakeland-weenie-wednesday/2024-08-07/
LOCATION:Lakeland\, 3839 Don Emerson Dr.\, Lakeland\, Florida\, 33811
CATEGORIES:West Central Florida
END:VEVENT
BEGIN:VEVENT
DTSTART;TZID=America/New_York:20240626T110000
DTEND;TZID=America/New_York:20240626T130000
DTSTAMP:20260425T112514
CREATED:20240516T163825Z
LAST-MODIFIED:20240516T163825Z
UID:10001788-1719399600-1719406800@acprosite.com
SUMMARY:Baker FL Cooling Lakeland: Weenie Wednesdays
DESCRIPTION:Every Wednesday in June\, swing by for a sizzling hot dog feast to express our gratitude for your hard work year-round. \nEnjoy 5% off when you purchase case quantities of Nu-Calgon products. Mention in-store promo code 999NuCalgon5. Buy 5 cases or more and we’ll deliver them directly to you with FREE freight!
URL:https://acprosite.com/event/baker-fl-cooling-lakeland-weenie-wednesdays-5/
LOCATION:Lakeland\, 3839 Don Emerson Dr.\, Lakeland\, Florida\, 33811
CATEGORIES:West Central Florida
END:VEVENT
BEGIN:VEVENT
DTSTART;TZID=America/New_York:20240619T110000
DTEND;TZID=America/New_York:20240619T130000
DTSTAMP:20260425T112514
CREATED:20240516T163719Z
LAST-MODIFIED:20240516T163719Z
UID:10001787-1718794800-1718802000@acprosite.com
SUMMARY:Baker FL Cooling Lakeland: Weenie Wednesdays
DESCRIPTION:Every Wednesday in June\, swing by for a sizzling hot dog feast to express our gratitude for your hard work year-round. \nEnjoy 5% off when you purchase case quantities of Nu-Calgon products. Mention in-store promo code 999NuCalgon5. Buy 5 cases or more and we’ll deliver them directly to you with FREE freight!
URL:https://acprosite.com/event/baker-fl-cooling-lakeland-weenie-wednesdays-4/
LOCATION:Lakeland\, 3839 Don Emerson Dr.\, Lakeland\, Florida\, 33811
CATEGORIES:West Central Florida
END:VEVENT
BEGIN:VEVENT
DTSTART;TZID=America/New_York:20240612T110000
DTEND;TZID=America/New_York:20240612T130000
DTSTAMP:20260425T112514
CREATED:20240516T163558Z
LAST-MODIFIED:20240516T163558Z
UID:10001786-1718190000-1718197200@acprosite.com
SUMMARY:Baker FL Cooling Lakeland: Weenie Wednesdays
DESCRIPTION:Every Wednesday in June\, swing by for a sizzling hot dog feast to express our gratitude for your hard work year-round. \nEnjoy 5% off when you purchase case quantities of Nu-Calgon products. Mention in-store promo code 999NuCalgon5. Buy 5 cases or more and we’ll deliver them directly to you with FREE freight!
URL:https://acprosite.com/event/baker-fl-cooling-lakeland-weenie-wednesdays-3/
LOCATION:Lakeland\, 3839 Don Emerson Dr.\, Lakeland\, Florida\, 33811
CATEGORIES:West Central Florida
END:VEVENT
BEGIN:VEVENT
DTSTART;TZID=America/New_York:20240605T110000
DTEND;TZID=America/New_York:20240605T130000
DTSTAMP:20260425T112514
CREATED:20240516T162523Z
LAST-MODIFIED:20240516T162951Z
UID:10001785-1717585200-1717592400@acprosite.com
SUMMARY:Baker FL Cooling Lakeland: Weenie Wednesdays
DESCRIPTION:Every Wednesday in June\, swing by for a sizzling hot dog feast to express our gratitude for your hard work year-round. \nEnjoy 5% off when you purchase case quantities of Nu-Calgon products. Mention in-store promo code 999NuCalgon5. Buy 5 cases or more and we’ll deliver them directly to you with FREE freight!
URL:https://acprosite.com/event/baker-fl-cooling-lakeland-weenie-wednesdays-2/
LOCATION:Lakeland\, 3839 Don Emerson Dr.\, Lakeland\, Florida\, 33811
CATEGORIES:West Central Florida
END:VEVENT
BEGIN:VEVENT
DTSTART;TZID=America/New_York:20231030T090000
DTEND;TZID=America/New_York:20231030T170000
DTSTAMP:20260425T112514
CREATED:20231025T182117Z
LAST-MODIFIED:20231025T182117Z
UID:10000785-1698656400-1698685200@acprosite.com
SUMMARY:Baker Florida Cooling Lakeland: New Technology Training
DESCRIPTION:NIDEC MOTOR TRAINING: \n\nMotors without a nameplate\nTypes of motors\nMotor teardown\nECM basics & troubleshooting\nECM aftermarket\n\nLUNCH WILL BE SERVED \nChoose your time 9:00AM – 1:00PM or 1:00PM – 5:00PM \nTo RSVP for this class\, visit www.bakerdist.com/motor-training \nHilton Garden Inn\n3839 Don Emerson Dr.\nLakeland\, FL 33811
URL:https://acprosite.com/event/baker-florida-cooling-lakeland-new-technology-training/
LOCATION:Lakeland\, 3839 Don Emerson Dr.\, Lakeland\, Florida\, 33811
CATEGORIES:West Central Florida
END:VEVENT
BEGIN:VEVENT
DTSTART;TZID=America/New_York:20230728T073000
DTEND;TZID=America/New_York:20230728T163000
DTSTAMP:20260425T112514
CREATED:20230705T180052Z
LAST-MODIFIED:20230725T150117Z
UID:10000284-1690529400-1690561800@acprosite.com
SUMMARY:CE Lakeland: Tent Sale!
DESCRIPTION:Closeouts\, clearance items\, scratch and dent tent sale! Plus\, food & refreshments!
URL:https://acprosite.com/event/ce-lakeland-tent-sale/2023-07-28/
LOCATION:Lakeland\, 3839 Don Emerson Dr.\, Lakeland\, Florida\, 33811
CATEGORIES:West Central Florida
END:VEVENT
BEGIN:VEVENT
DTSTART;TZID=America/New_York:20230727T073000
DTEND;TZID=America/New_York:20230727T163000
DTSTAMP:20260425T112514
CREATED:20230705T180052Z
LAST-MODIFIED:20230725T150117Z
UID:10000224-1690443000-1690475400@acprosite.com
SUMMARY:CE Lakeland: Tent Sale!
DESCRIPTION:Closeouts\, clearance items\, scratch and dent tent sale! Plus\, food & refreshments!
URL:https://acprosite.com/event/ce-lakeland-tent-sale/2023-07-27/
LOCATION:Lakeland\, 3839 Don Emerson Dr.\, Lakeland\, Florida\, 33811
CATEGORIES:West Central Florida
END:VEVENT
BEGIN:VEVENT
DTSTART;TZID=America/New_York:20230726T080000
DTEND;TZID=America/New_York:20230726T130000
DTSTAMP:20260425T112514
CREATED:20230726T151248Z
LAST-MODIFIED:20230726T151306Z
UID:10000288-1690358400-1690376400@acprosite.com
SUMMARY:Johnstone Supply Lakeland: Global Counter Day with Kona Ice
DESCRIPTION:Discuss Best Practices\, New Products\, Samples\, Demonstrations and more!
URL:https://acprosite.com/event/johnstone-supply-global-counter-day-with-kona-ice/
LOCATION:Lakeland\, 3839 Don Emerson Dr.\, Lakeland\, Florida\, 33811
CATEGORIES:West Central Florida
END:VEVENT
BEGIN:VEVENT
DTSTART;TZID=America/New_York:20230721T073000
DTEND;TZID=America/New_York:20230721T163000
DTSTAMP:20260425T112514
CREATED:20230703T171908Z
LAST-MODIFIED:20230703T171908Z
UID:10000198-1689924600-1689957000@acprosite.com
SUMMARY:CE: Lakeland Parts & Supplies Social!
DESCRIPTION:Stop by for snacks\, refreshments & promotions. Featuring product vendors VIVE thermostats and Intermatic surge protection devices.
URL:https://acprosite.com/event/ce-lakeland-parts-supplies-social/
LOCATION:Lakeland\, 3839 Don Emerson Dr.\, Lakeland\, Florida\, 33811
CATEGORIES:West Central Florida
END:VEVENT
BEGIN:VEVENT
DTSTART;VALUE=DATE:20230711
DTEND;VALUE=DATE:20230712
DTSTAMP:20260425T112514
CREATED:20230630T173139Z
LAST-MODIFIED:20230630T173139Z
UID:10000171-1689033600-1689119999@acprosite.com
SUMMARY:CE: Morning Jolt! Lakeland
DESCRIPTION:Join us for a morning JOLT! Enjoy breakfast with the CE team!
URL:https://acprosite.com/event/ce-morning-jolt-lakeland/
LOCATION:Lakeland\, 3839 Don Emerson Dr.\, Lakeland\, Florida\, 33811
CATEGORIES:West Central Florida
END:VEVENT
BEGIN:VEVENT
DTSTART;TZID=America/New_York:20230621T100000
DTEND;TZID=America/New_York:20230621T140000
DTSTAMP:20260425T112514
CREATED:20230529T151449Z
LAST-MODIFIED:20230606T145253Z
UID:10000094-1687341600-1687356000@acprosite.com
SUMMARY:Florida Cooling Resideo Thermostat & Food Truck Event
DESCRIPTION:Lunch is on us! Plus\, Buy 12 Get 1 Free.\nJoin us and meet your Resideo representative to learn more about the ProSeries Honeywell Home thermostats by Resideo. Buy 12 qualifying stats on the day of the event and receive one free. Be sure to ask about event-day hot pricing. Register HERE.
URL:https://acprosite.com/event/florida-cooling-resideo-thermostat-food-truck-event-2/
LOCATION:Lakeland\, 3839 Don Emerson Dr.\, Lakeland\, Florida\, 33811
CATEGORIES:West Central Florida
END:VEVENT
END:VCALENDAR