BEGIN:VCALENDAR
VERSION:2.0
PRODID:-//ACprosite - ECPv6.15.20//NONSGML v1.0//EN
CALSCALE:GREGORIAN
METHOD:PUBLISH
X-WR-CALNAME:ACprosite
X-ORIGINAL-URL:https://acprosite.com
X-WR-CALDESC:Events for ACprosite
REFRESH-INTERVAL;VALUE=DURATION:PT1H
X-Robots-Tag:noindex
X-PUBLISHED-TTL:PT1H
BEGIN:VTIMEZONE
TZID:America/New_York
BEGIN:DAYLIGHT
TZOFFSETFROM:-0500
TZOFFSETTO:-0400
TZNAME:EDT
DTSTART:20230312T070000
END:DAYLIGHT
BEGIN:STANDARD
TZOFFSETFROM:-0400
TZOFFSETTO:-0500
TZNAME:EST
DTSTART:20231105T060000
END:STANDARD
BEGIN:DAYLIGHT
TZOFFSETFROM:-0500
TZOFFSETTO:-0400
TZNAME:EDT
DTSTART:20240310T070000
END:DAYLIGHT
BEGIN:STANDARD
TZOFFSETFROM:-0400
TZOFFSETTO:-0500
TZNAME:EST
DTSTART:20241103T060000
END:STANDARD
BEGIN:DAYLIGHT
TZOFFSETFROM:-0500
TZOFFSETTO:-0400
TZNAME:EDT
DTSTART:20250309T070000
END:DAYLIGHT
BEGIN:STANDARD
TZOFFSETFROM:-0400
TZOFFSETTO:-0500
TZNAME:EST
DTSTART:20251102T060000
END:STANDARD
END:VTIMEZONE
BEGIN:VEVENT
DTSTART;TZID=America/New_York:20240828T080000
DTEND;TZID=America/New_York:20240828T110000
DTSTAMP:20260420T161136
CREATED:20240829T145824Z
LAST-MODIFIED:20240829T145841Z
UID:10002394-1724832000-1724842800@acprosite.com
SUMMARY:Johnstone Supply Ocala: A2L Equipment Training
DESCRIPTION:COURSE DESCRIPTION:\nAll HVAC manufacturers will be switching over to new refrigerants with a lower Global Warming Potential beginning January 1\, 2025. Daikin\, Amana and Goodman residential HVAC equipment will be using refrigerant R-32 in their residential equipment. R-32 is classified as an A2L Refrigerant\, which means it is a slightly flammable gas. \nDesigned for Install & Service Managers & Technicians
URL:https://acprosite.com/event/johnstone-supply-ocala-a2l-equipment-training/
LOCATION:Springhill Suites\, 4100 SW 40th Street\, Ocala\, Florida\, 34474
CATEGORIES:East Central Florida
END:VEVENT
END:VCALENDAR