BEGIN:VCALENDAR
VERSION:2.0
PRODID:-//ACprosite - ECPv6.15.20//NONSGML v1.0//EN
CALSCALE:GREGORIAN
METHOD:PUBLISH
X-WR-CALNAME:ACprosite
X-ORIGINAL-URL:https://acprosite.com
X-WR-CALDESC:Events for ACprosite
REFRESH-INTERVAL;VALUE=DURATION:PT1H
X-Robots-Tag:noindex
X-PUBLISHED-TTL:PT1H
BEGIN:VTIMEZONE
TZID:America/New_York
BEGIN:DAYLIGHT
TZOFFSETFROM:-0500
TZOFFSETTO:-0400
TZNAME:EDT
DTSTART:20220313T070000
END:DAYLIGHT
BEGIN:STANDARD
TZOFFSETFROM:-0400
TZOFFSETTO:-0500
TZNAME:EST
DTSTART:20221106T060000
END:STANDARD
BEGIN:DAYLIGHT
TZOFFSETFROM:-0500
TZOFFSETTO:-0400
TZNAME:EDT
DTSTART:20230312T070000
END:DAYLIGHT
BEGIN:STANDARD
TZOFFSETFROM:-0400
TZOFFSETTO:-0500
TZNAME:EST
DTSTART:20231105T060000
END:STANDARD
BEGIN:DAYLIGHT
TZOFFSETFROM:-0500
TZOFFSETTO:-0400
TZNAME:EDT
DTSTART:20240310T070000
END:DAYLIGHT
BEGIN:STANDARD
TZOFFSETFROM:-0400
TZOFFSETTO:-0500
TZNAME:EST
DTSTART:20241103T060000
END:STANDARD
END:VTIMEZONE
BEGIN:VEVENT
DTSTART;TZID=America/New_York:20230512T080000
DTEND;TZID=America/New_York:20230512T143000
DTSTAMP:20260422T192717
CREATED:20230511T154834Z
LAST-MODIFIED:20230511T154834Z
UID:10000042-1683878400-1683901800@acprosite.com
SUMMARY:SWACCA Low GWP Safety Training and Certification Workshop
DESCRIPTION:Flammable & Mildly Flammable Refrigerants\nLunch is on your own \n3.5 Contractor NATE CEUs \nAs the HVACR industry continues to move forward and innovate\, the refrigerants that were once so commonplace are now being phased down. Replacing them are more energy efficient and environmentally friendlier refrigerants\, know as Low GWP refrigerants. Many of these new refrigerants are classified by ASHRAE as A2L or slightly flammable. \nWith numerous changes to building codes and industry standards to accommodate the safe use of Low GWP refrigerants\, those working in the HVACR industry will need information and training to keep pace with innovation. \nThis Safety Training Workshop (with study guide) and ESCO Certification Exam covers: \n\nRefrigerant safety\nIntroduction to Low GWP refrigerants\nRefrigerant properties and characteristics\nThe refrigeration cycle\nWorking with refrigerant blends\nProper installation and service guidelines\nFlammable refrigerant considerations\nExplanation of the associated codes and standards for A2L refrigerants\n\nIndustry Expert Instructor: \nBob Feathers\, HVAC Specialties TAC\, Ft. Myers\, FL
URL:https://acprosite.com/event/swacca-low-gwp-safety-training-and-certification-workshop/
LOCATION:SWACCA\, 10911 Harmony Park Dr.\, Unit 2\, Bonita Springs\, Florida\, 34135
CATEGORIES:Southwest Florida
END:VEVENT
END:VCALENDAR