BEGIN:VCALENDAR
VERSION:2.0
PRODID:-//ACprosite - ECPv6.15.20//NONSGML v1.0//EN
CALSCALE:GREGORIAN
METHOD:PUBLISH
X-ORIGINAL-URL:https://acprosite.com
X-WR-CALDESC:Events for ACprosite
REFRESH-INTERVAL;VALUE=DURATION:PT1H
X-Robots-Tag:noindex
X-PUBLISHED-TTL:PT1H
BEGIN:VTIMEZONE
TZID:America/New_York
BEGIN:DAYLIGHT
TZOFFSETFROM:-0500
TZOFFSETTO:-0400
TZNAME:EDT
DTSTART:20220313T070000
END:DAYLIGHT
BEGIN:STANDARD
TZOFFSETFROM:-0400
TZOFFSETTO:-0500
TZNAME:EST
DTSTART:20221106T060000
END:STANDARD
BEGIN:DAYLIGHT
TZOFFSETFROM:-0500
TZOFFSETTO:-0400
TZNAME:EDT
DTSTART:20230312T070000
END:DAYLIGHT
BEGIN:STANDARD
TZOFFSETFROM:-0400
TZOFFSETTO:-0500
TZNAME:EST
DTSTART:20231105T060000
END:STANDARD
BEGIN:DAYLIGHT
TZOFFSETFROM:-0500
TZOFFSETTO:-0400
TZNAME:EDT
DTSTART:20240310T070000
END:DAYLIGHT
BEGIN:STANDARD
TZOFFSETFROM:-0400
TZOFFSETTO:-0500
TZNAME:EST
DTSTART:20241103T060000
END:STANDARD
BEGIN:DAYLIGHT
TZOFFSETFROM:-0500
TZOFFSETTO:-0400
TZNAME:EDT
DTSTART:20250309T070000
END:DAYLIGHT
BEGIN:STANDARD
TZOFFSETFROM:-0400
TZOFFSETTO:-0500
TZNAME:EST
DTSTART:20251102T060000
END:STANDARD
END:VTIMEZONE
BEGIN:VEVENT
DTSTART;TZID=America/New_York:20240703T080000
DTEND;TZID=America/New_York:20240703T110000
DTSTAMP:20260419T181417
CREATED:20240617T144734Z
LAST-MODIFIED:20240621T144008Z
UID:10001959-1719993600-1720004400@acprosite.com
SUMMARY:Tropic Supply Naples - NAVAC Demo Day
DESCRIPTION:NAVAC – Cordless\, Time-Saving HVAC Tools \nWhat’s in it for you: \n\nLearn how to speed up evacuation in the field using NAVAC’s 15.4\, lightweight\, cordless 4 cfm vacuum pump.\nLearn how to make accurate\, hassle-free flares in a fraction of the time it takes to create manual\, traditional flares.\n\nNo registration required. \n \n  \n 
URL:https://acprosite.com/event/tropic-supply-naples-navac-demo-day/
LOCATION:Tropic Supply T10\, 4325 Domestic Ave\, Naples\, Florida\, 34104
CATEGORIES:Southwest Florida
END:VEVENT
BEGIN:VEVENT
DTSTART;TZID=America/New_York:20240604T080000
DTEND;TZID=America/New_York:20240604T120000
DTSTAMP:20260419T181417
CREATED:20240518T154009Z
LAST-MODIFIED:20240518T154009Z
UID:10001795-1717488000-1717502400@acprosite.com
SUMMARY:Tropic Supply Naples: Demo Day
DESCRIPTION:Learn About White Slime  \nWHEN: Tuesday\, June 4\, 2024 8:00am – 12:00pm \nWHERE: T-10 Naples Resource Center 4325 Domestic Avenue Naples\, FL 34104 \nSave time and money by learning how to prevent and treat clogs and costly overflows caused by white slime! \nWHAT YOU WILL LEARN:  \n\nHow cleaning the indoor coil at the time of installation can minimize opportunities for biological growth.\nHow regular maintenance can:- Help reduce white slime from growing- Prevent condensate problems before they begin\nHow DrainSolve can clear clogs on contact.\nHow Nu-Calgon’s non-corrosive\, enzymebased PowerZyme drain line treatment can help address future clogs and issues for up to three months.\n\nMEET OUR INSTRUCTOR: \nSteve Dover – Nu-Calgon Steve has been in sales for 30 years. He started in residential HVAC sales in 2000 and switched to wholesale two and a half years ago. He lives in Palm Harbor and his Nu-Calgon territory is Naples to Tallahassee along the west coast. He has been with Nu- Calgon since September of 2022.
URL:https://acprosite.com/event/tropic-supply-naples-demo-day-2/
LOCATION:Tropic Supply T10\, 4325 Domestic Ave\, Naples\, Florida\, 34104
CATEGORIES:Southwest Florida
END:VEVENT
BEGIN:VEVENT
DTSTART;TZID=America/New_York:20240507T103000
DTEND;TZID=America/New_York:20240507T140000
DTSTAMP:20260419T181417
CREATED:20240408T165714Z
LAST-MODIFIED:20240408T165714Z
UID:10001627-1715077800-1715090400@acprosite.com
SUMMARY:Tropic Supply Naples: Lunch & Learn
DESCRIPTION:Introducing New & Exciting Products \nTuesday\, May 7\, 2024 T-10 Naples Resource Center 4325 Domestic Ave.\, Naples\, FL 34104 \nMeet & Greet 10:30am – 2:00pm \nBreakout Presentations 11:00am – 11:30am \n12:00pm – 12:30pm \n1:00pm – 1:30pm \nLunch will be served from 11:00am – 1:00pm. \nIntroducing the Samsung WindFree™* 3.0i\, the first Mini Split with built in IAQ \n\nHow Samsung uses a PM1.0 electrostatic f ilter to improve air quality.\nHow to sell more mini splits by offering the Samsung WindFree™ 3.0i.\nBenefits of using SmartThings AI with the Samsung WindFree™ 3.0i.\nOther unique features including WindFree™\, Freeze Wash\, built-in Wi-Fi\, and SmartThings Energy.\n\nNo registration required! Click HERE for more information.
URL:https://acprosite.com/event/tropic-supply-naples-lunch-learn/
LOCATION:Tropic Supply T10\, 4325 Domestic Ave\, Naples\, Florida\, 34104
CATEGORIES:Southwest Florida
END:VEVENT
BEGIN:VEVENT
DTSTART;TZID=America/New_York:20240206T080000
DTEND;TZID=America/New_York:20240206T110000
DTSTAMP:20260419T181417
CREATED:20240116T183805Z
LAST-MODIFIED:20240116T183805Z
UID:10001202-1707206400-1707217200@acprosite.com
SUMMARY:Tropic Supply Naples: Demo Day
DESCRIPTION:
URL:https://acprosite.com/event/tropic-supply-naples-demo-day/
LOCATION:Tropic Supply T10\, 4325 Domestic Ave\, Naples\, Florida\, 34104
CATEGORIES:Southwest Florida
END:VEVENT
BEGIN:VEVENT
DTSTART;TZID=America/New_York:20240111T073000
DTEND;TZID=America/New_York:20240111T120000
DTSTAMP:20260419T181417
CREATED:20231206T153057Z
LAST-MODIFIED:20231206T155451Z
UID:10000942-1704958200-1704974400@acprosite.com
SUMMARY:Tropic Supply Naples T-10 - Samsung Mobile Training Center Show
DESCRIPTION:The Samsung Mobile Training Center will be onsite to provide a hands-on introduction to the Samsung product line. Stop by to see these innovative climate solutions in action! Lunch will be provided from 12-1 p.m. Giveaways for all attendees. Enter our Grand Prize Raffle for a chance to win a 43″ Class Crystal UHD Samsung Smart TV! \nSamsung Products on Display: \n\n3.0e High Wall\n3.0i High Wall\n3.0 High Wall\nHYLEX with matching Mortex AHU\nFJM with 7K 3.0e. slim duct\, floor console\nDVM Eco with 360 cassettes: white and black\nDVM S Max Heat with MCU box\nControls (Advanced Wired Controller\, thermostat adapter\, BACnet\, and Lon controls)\nTV\nSpeakers\n\nNo Registration Necessary
URL:https://acprosite.com/event/tropic-supply-naples-10-samsung-mobile-training-center-show/
LOCATION:Tropic Supply T10\, 4325 Domestic Ave\, Naples\, Florida\, 34104
CATEGORIES:Southwest Florida
END:VEVENT
BEGIN:VEVENT
DTSTART;TZID=America/New_York:20230915T110000
DTEND;TZID=America/New_York:20230915T130000
DTSTAMP:20260419T181417
CREATED:20230823T155238Z
LAST-MODIFIED:20230823T155238Z
UID:10000444-1694775600-1694782800@acprosite.com
SUMMARY:Tropic Supply 50th Anniversary HVAC/R Best Practices Roadshow and Cookout T10 Naples
DESCRIPTION:Please join us at all Tropic Supply Resource Centers as we host our last series of 50th Anniversary cookouts!\nAs this is our final Best Practices Roadshow and Customer Appreciation Cookout\, we want to thank everyone who lent a hand in helping us celebrate our 50thAnniversary over the past several months…including: (1) Our incredible Tropic team for their support in making these events the absolute best! (2) Our supplier partners for working together with us to put together incredible demonstrations that taught contractors new skills they can apply to their businesses going forward\, and (3) Our contractor family for continuing to show up and demonstrate their support and loyalty. Stay tuned for more events in the future\, as we look forward to finding new ways to fulfill our mission of helping contractors be the best that they can be! We look forward to seeing you on the 15th! \nClick HERE for more information.
URL:https://acprosite.com/event/tropic-supply-50th-anniversary-hvac-r-best-practices-roadshow-and-cookout-t10-naples/
LOCATION:Tropic Supply T10\, 4325 Domestic Ave\, Naples\, Florida\, 34104
CATEGORIES:Southwest Florida
END:VEVENT
BEGIN:VEVENT
DTSTART;TZID=America/New_York:20230615T110000
DTEND;TZID=America/New_York:20230615T130000
DTSTAMP:20260419T181417
CREATED:20230518T162242Z
LAST-MODIFIED:20230518T162242Z
UID:10000068-1686826800-1686834000@acprosite.com
SUMMARY:Tropic Supply June T-10 HVAC/R Best Practices Road Show
DESCRIPTION:To celebrate our 50th Anniversary\, over the next six months\, we will be hosting monthly customer appreciation cookouts at all Tropic Supply Resource Centers. Please join us for a home-cooked meal. Some locations with also be hosting hands-on HVAC/R BEST PRACTICES demonstrations. No registration is required and demonstrations will be conducted repeatedly throughout the event. \nThe following demonstrations will be conducted: \n\nNuCalgon: Increase Average Ticket Sale with IAQ\nNuCalgon: Clear Condensate Lines Quickly and Easily Without Heavy Equipment
URL:https://acprosite.com/event/tropic-supply-june-t-10-hvac-r-best-practices-road-show/
LOCATION:Tropic Supply T10\, 4325 Domestic Ave\, Naples\, Florida\, 34104
CATEGORIES:Southwest Florida
END:VEVENT
BEGIN:VEVENT
DTSTART;TZID=America/New_York:20230515T110000
DTEND;TZID=America/New_York:20230515T130000
DTSTAMP:20260419T181417
CREATED:20230509T160143Z
LAST-MODIFIED:20230509T160143Z
UID:10000028-1684148400-1684155600@acprosite.com
SUMMARY:Tropic Supply T-10 HVAC/R Best Practices Road Show
DESCRIPTION:To celebrate our 50th Anniversary\, over the next six months\, we will be hosting monthly customer appreciation cookouts at all Tropic Supply Resource Centers. Please join us for a home-cooked meal. Some locations with also be hosting hands-on HVAC/R BEST PRACTICES demonstrations. No registration is required.
URL:https://acprosite.com/event/tropic-supply-t-10-hvac-r-best-practices-road-show/
LOCATION:Tropic Supply T10\, 4325 Domestic Ave\, Naples\, Florida\, 34104
CATEGORIES:Southwest Florida
END:VEVENT
END:VCALENDAR