BEGIN:VCALENDAR
VERSION:2.0
PRODID:-//ACprosite - ECPv6.15.20//NONSGML v1.0//EN
CALSCALE:GREGORIAN
METHOD:PUBLISH
X-WR-CALNAME:ACprosite
X-ORIGINAL-URL:https://acprosite.com
X-WR-CALDESC:Events for ACprosite
REFRESH-INTERVAL;VALUE=DURATION:PT1H
X-Robots-Tag:noindex
X-PUBLISHED-TTL:PT1H
BEGIN:VTIMEZONE
TZID:America/New_York
BEGIN:DAYLIGHT
TZOFFSETFROM:-0500
TZOFFSETTO:-0400
TZNAME:EDT
DTSTART:20220313T070000
END:DAYLIGHT
BEGIN:STANDARD
TZOFFSETFROM:-0400
TZOFFSETTO:-0500
TZNAME:EST
DTSTART:20221106T060000
END:STANDARD
BEGIN:DAYLIGHT
TZOFFSETFROM:-0500
TZOFFSETTO:-0400
TZNAME:EDT
DTSTART:20230312T070000
END:DAYLIGHT
BEGIN:STANDARD
TZOFFSETFROM:-0400
TZOFFSETTO:-0500
TZNAME:EST
DTSTART:20231105T060000
END:STANDARD
BEGIN:DAYLIGHT
TZOFFSETFROM:-0500
TZOFFSETTO:-0400
TZNAME:EDT
DTSTART:20240310T070000
END:DAYLIGHT
BEGIN:STANDARD
TZOFFSETFROM:-0400
TZOFFSETTO:-0500
TZNAME:EST
DTSTART:20241103T060000
END:STANDARD
BEGIN:DAYLIGHT
TZOFFSETFROM:-0500
TZOFFSETTO:-0400
TZNAME:EDT
DTSTART:20250309T070000
END:DAYLIGHT
BEGIN:STANDARD
TZOFFSETFROM:-0400
TZOFFSETTO:-0500
TZNAME:EST
DTSTART:20251102T060000
END:STANDARD
BEGIN:DAYLIGHT
TZOFFSETFROM:-0500
TZOFFSETTO:-0400
TZNAME:EDT
DTSTART:20260308T070000
END:DAYLIGHT
BEGIN:STANDARD
TZOFFSETFROM:-0400
TZOFFSETTO:-0500
TZNAME:EST
DTSTART:20261101T060000
END:STANDARD
BEGIN:DAYLIGHT
TZOFFSETFROM:-0500
TZOFFSETTO:-0400
TZNAME:EDT
DTSTART:20270314T070000
END:DAYLIGHT
BEGIN:STANDARD
TZOFFSETFROM:-0400
TZOFFSETTO:-0500
TZNAME:EST
DTSTART:20271107T060000
END:STANDARD
END:VTIMEZONE
BEGIN:VEVENT
DTSTART;TZID=America/New_York:20260416T080000
DTEND;TZID=America/New_York:20260416T120000
DTSTAMP:20260420T105605
CREATED:20260318T152112Z
LAST-MODIFIED:20260318T152127Z
UID:10003404-1776326400-1776340800@acprosite.com
SUMMARY:Tropic Supply Mid Miami: Nu-Calgon Demo Day at Mid Miami Resource Center
DESCRIPTION:Learning Objectives: \n\nBetter Installs: Learn how cleaning new evaporator coils with Evap Foam No Rinse removes factory residues so systems start clean and run efficiently.\nBetter Maintenance & Upsells: Use PowerZyme\, PurCool Strips\, Gel Tabs\, and Evap Fresh to support maintenance plans and extend equipment life.\nBetter Diagnosis & Repairs: Improve first-time fixes with RX11 Flush\, Acid Scavenger\, A/C Renew\, and Easy Seal.\nBetter Proposal Selling: Increase conversions with upgrades like iWave\, NuStart soft starters\, and maintenance plans.\n\nFree Event. No registration required. \n \n  \n  \n  \n  \n 
URL:https://acprosite.com/event/tropic-supply-mid-miami-nu-calgon-demo-day-at-mid-miami-resource-center/
LOCATION:Tropic Supply T7\, 3770 NW 21st St\, Miami\, Florida\, 33142
CATEGORIES:Southeast Florida
END:VEVENT
BEGIN:VEVENT
DTSTART;TZID=America/New_York:20250924T080000
DTEND;TZID=America/New_York:20250924T110000
DTSTAMP:20260420T105605
CREATED:20250805T175520Z
LAST-MODIFIED:20250805T175520Z
UID:10003171-1758700800-1758711600@acprosite.com
SUMMARY:Tropic Supply Mid Miami: Inficon Test & Tune Day
DESCRIPTION:Join us for a chance to fine-tune your tools and level up your expertise with Inficon! \n \n  \n  \n  \n  \n  \n  \n 
URL:https://acprosite.com/event/tropic-supply-mid-miami-inficon-test-tune-day-2/
LOCATION:Tropic Supply T7\, 3770 NW 21st St\, Miami\, Florida\, 33142
CATEGORIES:Southeast Florida
END:VEVENT
BEGIN:VEVENT
DTSTART;TZID=America/New_York:20250702T080000
DTEND;TZID=America/New_York:20250702T110000
DTSTAMP:20260420T105605
CREATED:20250620T145651Z
LAST-MODIFIED:20250620T145651Z
UID:10003101-1751443200-1751454000@acprosite.com
SUMMARY:Tropic Supply T-07 Mid-Miami - Yellow Jacket & Mars Demo Days
DESCRIPTION:Discover the Future of HVAC/R Performance with Yellow Jacket TITANMAX™Diagnostics and the versatile MARS Azure Motor Line. \nWHAT YOU WILL LEARN: \n\nHow to achieve fast and accurate diagnostics for refrigeration and A/C Systems with TITANMAX™.\nHow to troubleshoot with precision\, helping you gain efficiency while decreasing your callbacks.\nHow TITANMAX™’s high resolution backlit touchscreen display saves you time by eliminating the need for multi-function\nLearn how just two motors (covering 1/5 HP to 1 HP) simplifies your truck stock inventory-saving you time and increasing your profits.\nDiscover how Azure’s Bluetooth technology allows precise airflow tuning\, reducing\nSpeed up installations with plug-and-play setup and fewer trips to the supply house.\n\nMEET OUR EXPERT:  \nRyan Reynolds – E.V. Dunbar Co. Ryan Reynolds\, originally from Kentucky\, grew up in Orlando\, Florida. He is an alumnus of Florida State University\, where he graduated in 1998. After a brief stint in the restaurant industry\, Ryan transitioned to the HVAC&R field. With over 20 years of experience in the industry\, he has spent the last 17 years with E.V. Dunbar Co.\, covering central and south Florida as well as Puerto Rico. \nNo registration required! \nBreakfast will be provided. \n 
URL:https://acprosite.com/event/tropic-supply-t-07-mid-miami-yellow-jacket-mars-demo-days/
LOCATION:Tropic Supply T7\, 3770 NW 21st St\, Miami\, Florida\, 33142
CATEGORIES:Southeast Florida
END:VEVENT
BEGIN:VEVENT
DTSTART;TZID=America/New_York:20250620T110000
DTEND;TZID=America/New_York:20250620T130000
DTSTAMP:20260420T105605
CREATED:20250603T144905Z
LAST-MODIFIED:20250606T172213Z
UID:10003073-1750417200-1750424400@acprosite.com
SUMMARY:Tropic Supply T-7 Mid Miami: Customer Appreciation Cookout  ﻿& HVAC/R Tech Tips
DESCRIPTION:Join us in celebration of both National HVAC Tech Appreciation Day and World Refrigeration Day on Friday\, June 20\, 2025 from 11:00 a.m. – 1:00 p.m. at any of our 22 resource center locations. All locations will feature a customer appreciation cookout\, and most locations will be hosting live demonstrations of time and money-saving best practices that will elevate the game of your HVAC/R techs! We look forward to seeing you there! \nFREE T-shirt for all attendees! \nRegistration is not required\, and there is NO COST to attend. \n\nTo find your nearest service center visit https://www.tropicsupply.com/resource-center-locator.
URL:https://acprosite.com/event/tropic-supply-t-7-mid-miami-customer-appreciation-cookout-hvac-r-tech-tips/
LOCATION:Tropic Supply T7\, 3770 NW 21st St\, Miami\, Florida\, 33142
CATEGORIES:Southeast Florida
END:VEVENT
BEGIN:VEVENT
DTSTART;TZID=America/New_York:20250424T083000
DTEND;TZID=America/New_York:20250424T113000
DTSTAMP:20260420T105605
CREATED:20250423T135205Z
LAST-MODIFIED:20250423T135223Z
UID:10003005-1745483400-1745494200@acprosite.com
SUMMARY:Tropic Supply Mid-Miami: Nu-Calgon Demo Day
DESCRIPTION:Learn About Time and Money-Saving Products \nSave time and money by learning about products that improve air quality\, reduce callbacks\, and boost customer satisfaction! \nBreakfast will be provided.
URL:https://acprosite.com/event/tropic-supply-mid-miami-nu-calgon-demo-day/
LOCATION:Tropic Supply T7\, 3770 NW 21st St\, Miami\, Florida\, 33142
CATEGORIES:Southeast Florida
END:VEVENT
BEGIN:VEVENT
DTSTART;TZID=America/New_York:20240918T073000
DTEND;TZID=America/New_York:20240918T103000
DTSTAMP:20260420T105605
CREATED:20240827T165723Z
LAST-MODIFIED:20240827T165723Z
UID:10002375-1726644600-1726655400@acprosite.com
SUMMARY:Tropic Supply Mid Miami T-7 - Uniweld Demo Day
DESCRIPTION:Learn How to Save Time and Money with Uniweld’s Innovative Products \nWHEN: Wednesday\, September 18\, 2024 7:30am – 10:30am Light refreshments will be provided. \nWHERE: T-7 Mid Miami Resource Center 3770 NW 21st Street Miami\, FL 33142 \nWHAT YOU WILL LEARN: \n• How Uniweld’s MaxEvac™ Kit saves you time by creating a closed system with unrestricted\, increased flow for fast\, efficient evacuation. \n• How the A2L-Rated Spirit™ Manifold’s double O-ring piston valve design provides long\, reliable service\, saving you money by extending the life of the product. \n$25 INSTANT REBATE on A2LSM5BV and MEPK14 during demo day events! \n \n  \n  \n  \n 
URL:https://acprosite.com/event/tropic-supply-mid-miami-t-7-uniweld-demo-day/
LOCATION:Tropic Supply T7\, 3770 NW 21st St\, Miami\, Florida\, 33142
CATEGORIES:Southeast Florida
END:VEVENT
BEGIN:VEVENT
DTSTART;TZID=America/New_York:20240909T130000
DTEND;TZID=America/New_York:20240909T160000
DTSTAMP:20260420T105605
CREATED:20240822T153636Z
LAST-MODIFIED:20240822T172542Z
UID:10002349-1725886800-1725897600@acprosite.com
SUMMARY:Tropic Supply Mid Miami T-7 - Mueller Demo Day
DESCRIPTION:Join Mueller for a Demo Day in Mid Miami! \nChemours A2L Update + Time & Money-Saving Tips from Appion & Mueller \nWHEN: September 9\, 2024 1:00pm – 4:00pm Light refreshments will be provided. \nWHERE: T-7 Mid Miami Resource Center 3770 N.W. 21st Street Miami\, FL 33142 \nWHAT YOU WILL LEARN: \n\nHow to properly transport\, install\, and service A2L refrigerants.\nHow to improve safety and save time with Appion’s A2L-rated tools.\nHow to reduce call backs and save time using Mueller’s ACR press fittings. Ask about Mueller’s money-saving tool/jaw promotion during the Demo Day!\nHow to save time and money using Mueller’s tool-free\, flame-free\, push-to-connect fittings.\n\nReceive a FREE QUART of TEZOM Vacuum Pump Oil with the purchase of a TEZ8 Vacuum Pump! \n \n  \n  \n  \n  \n  \n 
URL:https://acprosite.com/event/tropic-supply-s-miami-t-3-mueller-demo-day/
LOCATION:Tropic Supply T7\, 3770 NW 21st St\, Miami\, Florida\, 33142
CATEGORIES:Southeast Florida
END:VEVENT
BEGIN:VEVENT
DTSTART;TZID=America/New_York:20240828T080000
DTEND;TZID=America/New_York:20240828T120000
DTSTAMP:20260420T105605
CREATED:20240702T170401Z
LAST-MODIFIED:20240702T170401Z
UID:10002055-1724832000-1724846400@acprosite.com
SUMMARY:Tropic Supply Mid Miami: Inficon Test & Tune Day
DESCRIPTION:Inficon: Is your leak detector performing at its maximum potential? Bring your tool for a free multi-point inspection! \nWhat’s in it for you? \n\nFREE filter analysis and replacement for INFICON products\nOnsite testing of ANY refrigerant leak detector\nLEARN how to identify signs of component wear and tear that can cause underperformance\n\n \n  \n  \n  \n  \n  \n  \n  \n  \n 
URL:https://acprosite.com/event/tropic-supply-mid-miami-inficon-test-tune-day/
LOCATION:Tropic Supply T7\, 3770 NW 21st St\, Miami\, Florida\, 33142
CATEGORIES:Southeast Florida
END:VEVENT
BEGIN:VEVENT
DTSTART;TZID=America/New_York:20240827T080000
DTEND;TZID=America/New_York:20240827T110000
DTSTAMP:20260420T105605
CREATED:20240802T142628Z
LAST-MODIFIED:20240802T142628Z
UID:10002305-1724745600-1724756400@acprosite.com
SUMMARY:Tropic Supply Mid-Miami: Yellow Jacket Demo Day
DESCRIPTION:Flyer coming soon! \nNo registration required!
URL:https://acprosite.com/event/tropic-supply-mid-miami-yellow-jacket-demo-day/
LOCATION:Tropic Supply T7\, 3770 NW 21st St\, Miami\, Florida\, 33142
CATEGORIES:Southeast Florida
END:VEVENT
BEGIN:VEVENT
DTSTART;TZID=America/New_York:20240716T080000
DTEND;TZID=America/New_York:20240716T110000
DTSTAMP:20260420T105605
CREATED:20240619T161905Z
LAST-MODIFIED:20240621T175318Z
UID:10001968-1721116800-1721127600@acprosite.com
SUMMARY:Tropic Supply Mid Miami - NAVAC Demo Day
DESCRIPTION:NAVAC – Cordless\, Time-Saving HVAC Tools \nWhat’s in it for you: \n\nLearn how to speed up evacuation in the field using NAVAC’s 15.4\, lightweight\, cordless 4 cfm vacuum pump.\nLearn how to make accurate\, hassle-free flares in a fraction of the time it takes to create manual\, traditional flares.\n\nNo registration required. \n \n  \n 
URL:https://acprosite.com/event/tropic-supply-mid-miami-navac-demo-day/
LOCATION:Tropic Supply T7\, 3770 NW 21st St\, Miami\, Florida\, 33142
CATEGORIES:Southeast Florida
END:VEVENT
BEGIN:VEVENT
DTSTART;TZID=America/New_York:20240610T080000
DTEND;TZID=America/New_York:20240610T120000
DTSTAMP:20260420T105605
CREATED:20240519T163410Z
LAST-MODIFIED:20240519T163451Z
UID:10001816-1718006400-1718020800@acprosite.com
SUMMARY:Tropic Supply Fort Pierce: NuCalgon Demo Day
DESCRIPTION:Learn About White Slime  \nWHEN: Monday\, June 10\, 2024 8:00am – 12:00pm Breakfast will be provided. \nSave time and money by learning how to prevent and treat clogs and costly overflows caused by white slime! \nWHERE: T-7 Mid Miami Resource Center 3770 NW 21st Street Miami\, FL 33142 \nWHAT YOU WILL LEARN:  \n\nHow cleaning the indoor coil at the time of installation can minimize opportunities for biological growth.\nHow regular maintenance can:\n\n– Help reduce white slime from growing \n– Prevent condensate problems before they begin \n\nHow DrainSolve can clear clogs on contact.\nHow Nu-Calgon’s non-corrosive\, enzymebased PowerZyme drain line treatment can help address future clogs and issues for up to three months.\n\n \n  \n  \n 
URL:https://acprosite.com/event/tropic-supply-fort-pierce-nucalgon-demo-day/
LOCATION:Tropic Supply T7\, 3770 NW 21st St\, Miami\, Florida\, 33142
CATEGORIES:Southeast Florida
END:VEVENT
BEGIN:VEVENT
DTSTART;TZID=America/New_York:20240610T080000
DTEND;TZID=America/New_York:20240610T120000
DTSTAMP:20260420T105605
CREATED:20240519T132855Z
LAST-MODIFIED:20240519T133008Z
UID:10001804-1718006400-1718020800@acprosite.com
SUMMARY:Tropic Supply Mid-Miami: NuCalgon Demo Day
DESCRIPTION:Learn About White Slime  \nWHEN: Monday\, June 10\, 2024 8:00am – 12:00pm \nSave time and money by learning how to prevent and treat clogs and costly overflows caused by white slime! \nWHERE: T-7 Mid-Miami Resource Center 3770 NW 21st Street Miami\, FL 33142 \nWHAT YOU WILL LEARN:  \n\nHow cleaning the indoor coil at the time of installation can minimize opportunities for biological growth.\nHow regular maintenance can:\n\n– Help reduce white slime from growing \n– Prevent condensate problems before they begin \n\nHow DrainSolve can clear clogs on contact.\nHow Nu-Calgon’s non-corrosive\, enzymebased PowerZyme drain line treatment can help address future clogs and issues for up to three months.\n\n \n 
URL:https://acprosite.com/event/tropic-supply-mid-miami-nucalgon-demo-day/
LOCATION:Tropic Supply T7\, 3770 NW 21st St\, Miami\, Florida\, 33142
CATEGORIES:Southeast Florida
END:VEVENT
BEGIN:VEVENT
DTSTART;TZID=America/New_York:20240131T073000
DTEND;TZID=America/New_York:20240131T140000
DTSTAMP:20260420T105605
CREATED:20231206T154334Z
LAST-MODIFIED:20231206T154334Z
UID:10000946-1706686200-1706709600@acprosite.com
SUMMARY:Tropic Supply Mid-Miami T-7 - Samsung Mobile Training Center Show
DESCRIPTION:The Samsung Mobile Training Center will be onsite to provide a hands-on introduction to the Samsung product line. Stop by to see these innovative climate solutions in action! Lunch will be provided from 12-1 p.m. Giveaways for all attendees. Enter our Grand Prize Raffle for a chance to win a 43″ Class Crystal UHD Samsung Smart TV! \nSamsung Products on Display: \n\n3.0e High Wall\n3.0i High Wall\n3.0 High Wall\nHYLEX with matching Mortex AHU\nFJM with 7K 3.0e. slim duct\, floor console\nDVM Eco with 360 cassettes: white and black\nDVM S Max Heat with MCU box\nControls (Advanced Wired Controller\, thermostat adapter\, BACnet\, and Lon controls)\nTV\nSpeakers\n\nNo Registration Necessary
URL:https://acprosite.com/event/tropic-supply-mid-miami-t-7-samsung-mobile-training-center-show/
LOCATION:Tropic Supply T7\, 3770 NW 21st St\, Miami\, Florida\, 33142
CATEGORIES:Southeast Florida
END:VEVENT
BEGIN:VEVENT
DTSTART;TZID=America/New_York:20230915T110000
DTEND;TZID=America/New_York:20230915T130000
DTSTAMP:20260420T105605
CREATED:20230823T151945Z
LAST-MODIFIED:20230823T151945Z
UID:10000441-1694775600-1694782800@acprosite.com
SUMMARY:Tropic Supply 50th Anniversary HVAC/R Best Practices Roadshow and Cookout T7 Mid Miami
DESCRIPTION:Please join us at all Tropic Supply Resource Centers as we host our last series of 50th Anniversary cookouts!\nAs this is our final Best Practices Roadshow and Customer Appreciation Cookout\, we want to thank everyone who lent a hand in helping us celebrate our 50thAnniversary over the past several months…including: (1) Our incredible Tropic team for their support in making these events the absolute best! (2) Our supplier partners for working together with us to put together incredible demonstrations that taught contractors new skills they can apply to their businesses going forward\, and (3) Our contractor family for continuing to show up and demonstrate their support and loyalty. Stay tuned for more events in the future\, as we look forward to finding new ways to fulfill our mission of helping contractors be the best that they can be! We look forward to seeing you on the 15th! \nClick HERE for more information.
URL:https://acprosite.com/event/tropic-supply-50th-anniversary-hvac-r-best-practices-roadshow-and-cookout-t7-mid-miami/
LOCATION:Tropic Supply T7\, 3770 NW 21st St\, Miami\, Florida\, 33142
CATEGORIES:Southeast Florida
END:VEVENT
BEGIN:VEVENT
DTSTART;TZID=America/New_York:20230615T110000
DTEND;TZID=America/New_York:20230615T130000
DTSTAMP:20260420T105605
CREATED:20230518T154403Z
LAST-MODIFIED:20230518T154403Z
UID:10000065-1686826800-1686834000@acprosite.com
SUMMARY:Tropic Supply June T-7 HVAC/R Best Practices Road Show
DESCRIPTION:To celebrate our 50th Anniversary\, over the next six months\, we will be hosting monthly customer appreciation cookouts at all Tropic Supply Resource Centers. Please join us for a home-cooked meal. Some locations with also be hosting hands-on HVAC/R BEST PRACTICES demonstrations. No registration is required and demonstrations will be conducted repeatedly throughout the event. \nThe following demonstration will be conducted: \n\nFresh-Aire UV: UV Lamp Troubleshooting
URL:https://acprosite.com/event/tropic-supply-june-t-7-hvac-r-best-practices-road-show/
LOCATION:Tropic Supply T7\, 3770 NW 21st St\, Miami\, Florida\, 33142
CATEGORIES:Southeast Florida
END:VEVENT
BEGIN:VEVENT
DTSTART;TZID=America/New_York:20230515T110000
DTEND;TZID=America/New_York:20230515T130000
DTSTAMP:20260420T105605
CREATED:20230509T152439Z
LAST-MODIFIED:20230509T152439Z
UID:10000025-1684148400-1684155600@acprosite.com
SUMMARY:Tropic Supply T-7 HVAC/R Best Practices Road Show
DESCRIPTION:To celebrate our 50th Anniversary\, over the next six months\, we will be hosting monthly customer appreciation cookouts at all Tropic Supply Resource Centers. Please join us for a home-cooked meal. Some locations with also be hosting hands-on HVAC/R BEST PRACTICES demonstrations. No registration is required.
URL:https://acprosite.com/event/tropic-supply-t-7-hvac-r-best-practices-road-show/
LOCATION:Tropic Supply T7\, 3770 NW 21st St\, Miami\, Florida\, 33142
CATEGORIES:Southeast Florida
END:VEVENT
END:VCALENDAR