BEGIN:VCALENDAR
VERSION:2.0
PRODID:-//ACprosite - ECPv6.15.20//NONSGML v1.0//EN
CALSCALE:GREGORIAN
METHOD:PUBLISH
X-WR-CALNAME:ACprosite
X-ORIGINAL-URL:https://acprosite.com
X-WR-CALDESC:Events for ACprosite
REFRESH-INTERVAL;VALUE=DURATION:PT1H
X-Robots-Tag:noindex
X-PUBLISHED-TTL:PT1H
BEGIN:VTIMEZONE
TZID:America/New_York
BEGIN:DAYLIGHT
TZOFFSETFROM:-0500
TZOFFSETTO:-0400
TZNAME:EDT
DTSTART:20250309T070000
END:DAYLIGHT
BEGIN:STANDARD
TZOFFSETFROM:-0400
TZOFFSETTO:-0500
TZNAME:EST
DTSTART:20251102T060000
END:STANDARD
BEGIN:DAYLIGHT
TZOFFSETFROM:-0500
TZOFFSETTO:-0400
TZNAME:EDT
DTSTART:20260308T070000
END:DAYLIGHT
BEGIN:STANDARD
TZOFFSETFROM:-0400
TZOFFSETTO:-0500
TZNAME:EST
DTSTART:20261101T060000
END:STANDARD
BEGIN:DAYLIGHT
TZOFFSETFROM:-0500
TZOFFSETTO:-0400
TZNAME:EDT
DTSTART:20270314T070000
END:DAYLIGHT
BEGIN:STANDARD
TZOFFSETFROM:-0400
TZOFFSETTO:-0500
TZNAME:EST
DTSTART:20271107T060000
END:STANDARD
END:VTIMEZONE
BEGIN:VEVENT
DTSTART;TZID=America/New_York:20260423T080000
DTEND;TZID=America/New_York:20260423T100000
DTSTAMP:20260420T132249
CREATED:20260312T155424Z
LAST-MODIFIED:20260312T155424Z
UID:10003385-1776931200-1776938400@acprosite.com
SUMMARY:Tropic Supply Mid Miami: FloXtreme Demo Day at Mid Miami Resource Center
DESCRIPTION:Reduce callbacks and improve customer satisfaction with FloXtreme 24/7 automatic a/c drain system protection. \nFree event. No registration required. \n  \n \n  \n  \n  \n  \n  \n  \n 
URL:https://acprosite.com/event/tropic-supply-mid-miami-floxtreme-demo-day-at-mid-miami-resource-center/
LOCATION:Tropic Supply T7\, 3770 NW 21st St\, Miami\, Florida\, 33142
CATEGORIES:Southeast Florida
END:VEVENT
END:VCALENDAR