BEGIN:VCALENDAR
VERSION:2.0
PRODID:-//ACprosite - ECPv6.15.20//NONSGML v1.0//EN
CALSCALE:GREGORIAN
METHOD:PUBLISH
X-ORIGINAL-URL:https://acprosite.com
X-WR-CALDESC:Events for ACprosite
REFRESH-INTERVAL;VALUE=DURATION:PT1H
X-Robots-Tag:noindex
X-PUBLISHED-TTL:PT1H
BEGIN:VTIMEZONE
TZID:America/New_York
BEGIN:DAYLIGHT
TZOFFSETFROM:-0500
TZOFFSETTO:-0400
TZNAME:EDT
DTSTART:20220313T070000
END:DAYLIGHT
BEGIN:STANDARD
TZOFFSETFROM:-0400
TZOFFSETTO:-0500
TZNAME:EST
DTSTART:20221106T060000
END:STANDARD
BEGIN:DAYLIGHT
TZOFFSETFROM:-0500
TZOFFSETTO:-0400
TZNAME:EDT
DTSTART:20230312T070000
END:DAYLIGHT
BEGIN:STANDARD
TZOFFSETFROM:-0400
TZOFFSETTO:-0500
TZNAME:EST
DTSTART:20231105T060000
END:STANDARD
BEGIN:DAYLIGHT
TZOFFSETFROM:-0500
TZOFFSETTO:-0400
TZNAME:EDT
DTSTART:20240310T070000
END:DAYLIGHT
BEGIN:STANDARD
TZOFFSETFROM:-0400
TZOFFSETTO:-0500
TZNAME:EST
DTSTART:20241103T060000
END:STANDARD
END:VTIMEZONE
BEGIN:VEVENT
DTSTART;TZID=America/New_York:20230728T073000
DTEND;TZID=America/New_York:20230728T163000
DTSTAMP:20260420T152920
CREATED:20230705T180249Z
LAST-MODIFIED:20230725T150405Z
UID:10000285-1690529400-1690561800@acprosite.com
SUMMARY:CE Wesley Chapel: Tent Sale!
DESCRIPTION:Closeouts\, clearance items\, scratch and dent tent sale! Plus\, food & refreshments!
URL:https://acprosite.com/event/ce-wesley-chapel-tent-sale/2023-07-28/
LOCATION:Wesley Chapel\, 30568 State Road 54\, Wesley Chapel\, Florida\, 33543
CATEGORIES:West Central Florida
END:VEVENT
BEGIN:VEVENT
DTSTART;TZID=America/New_York:20230727T073000
DTEND;TZID=America/New_York:20230727T163000
DTSTAMP:20260420T152920
CREATED:20230705T180249Z
LAST-MODIFIED:20230725T150405Z
UID:10000226-1690443000-1690475400@acprosite.com
SUMMARY:CE Wesley Chapel: Tent Sale!
DESCRIPTION:Closeouts\, clearance items\, scratch and dent tent sale! Plus\, food & refreshments!
URL:https://acprosite.com/event/ce-wesley-chapel-tent-sale/2023-07-27/
LOCATION:Wesley Chapel\, 30568 State Road 54\, Wesley Chapel\, Florida\, 33543
CATEGORIES:West Central Florida
END:VEVENT
BEGIN:VEVENT
DTSTART;TZID=America/New_York:20230721T073000
DTEND;TZID=America/New_York:20230721T163000
DTSTAMP:20260420T152920
CREATED:20230703T172043Z
LAST-MODIFIED:20230703T172043Z
UID:10000200-1689924600-1689957000@acprosite.com
SUMMARY:CE: Wesley Chapel Parts & Supplies Social!
DESCRIPTION:Stop by for snacks\, refreshments & promotions. Featuring product vendors VIVE thermostats and Intermatic surge protection devices.
URL:https://acprosite.com/event/ce-wesley-chapel-parts-supplies-social/
LOCATION:Wesley Chapel\, 30568 State Road 54\, Wesley Chapel\, Florida\, 33543
CATEGORIES:West Central Florida
END:VEVENT
BEGIN:VEVENT
DTSTART;VALUE=DATE:20230711
DTEND;VALUE=DATE:20230712
DTSTAMP:20260420T152920
CREATED:20230630T173515Z
LAST-MODIFIED:20230630T173515Z
UID:10000173-1689033600-1689119999@acprosite.com
SUMMARY:CE: Morning Jolt! Wesley Chapel
DESCRIPTION:Join us for a morning JOLT! Enjoy breakfast with the CE team!
URL:https://acprosite.com/event/ce-morning-jolt-wesley-chapel/
LOCATION:Wesley Chapel\, 30568 State Road 54\, Wesley Chapel\, Florida\, 33543
CATEGORIES:West Central Florida
END:VEVENT
END:VCALENDAR