BEGIN:VCALENDAR
VERSION:2.0
PRODID:-//ACprosite - ECPv6.15.20//NONSGML v1.0//EN
CALSCALE:GREGORIAN
METHOD:PUBLISH
X-WR-CALNAME:ACprosite
X-ORIGINAL-URL:https://acprosite.com
X-WR-CALDESC:Events for ACprosite
REFRESH-INTERVAL;VALUE=DURATION:PT1H
X-Robots-Tag:noindex
X-PUBLISHED-TTL:PT1H
BEGIN:VTIMEZONE
TZID:America/New_York
BEGIN:DAYLIGHT
TZOFFSETFROM:-0500
TZOFFSETTO:-0400
TZNAME:EDT
DTSTART:20250309T070000
END:DAYLIGHT
BEGIN:STANDARD
TZOFFSETFROM:-0400
TZOFFSETTO:-0500
TZNAME:EST
DTSTART:20251102T060000
END:STANDARD
BEGIN:DAYLIGHT
TZOFFSETFROM:-0500
TZOFFSETTO:-0400
TZNAME:EDT
DTSTART:20260308T070000
END:DAYLIGHT
BEGIN:STANDARD
TZOFFSETFROM:-0400
TZOFFSETTO:-0500
TZNAME:EST
DTSTART:20261101T060000
END:STANDARD
BEGIN:DAYLIGHT
TZOFFSETFROM:-0500
TZOFFSETTO:-0400
TZNAME:EDT
DTSTART:20270314T070000
END:DAYLIGHT
BEGIN:STANDARD
TZOFFSETFROM:-0400
TZOFFSETTO:-0500
TZNAME:EST
DTSTART:20271107T060000
END:STANDARD
END:VTIMEZONE
BEGIN:VEVENT
DTSTART;TZID=America/New_York:20260428T080000
DTEND;TZID=America/New_York:20260428T100000
DTSTAMP:20260425T133938
CREATED:20260313T143857Z
LAST-MODIFIED:20260313T144139Z
UID:10003386-1777363200-1777370400@acprosite.com
SUMMARY:Tropic Supply South Miami: FloXtreme Demo Day at South Miami Resource Center
DESCRIPTION:Reduce callbacks and improve customer satisfaction with FloXtreme 24/7 automatic a/c drain system protection. \nFree event. No registration required. \n \n  \n  \n  \n  \n  \n  \n  \n  \n 
URL:https://acprosite.com/event/tropic-supply-south-miami-floxtreme-demo-day-at-south-miami-resource-center/
LOCATION:Tropic Supply T3\, 10776A SW 190 St\, Miami\, Florida\, 33157\, United States
CATEGORIES:Southeast Florida
END:VEVENT
BEGIN:VEVENT
DTSTART;TZID=America/New_York:20260428T080000
DTEND;TZID=America/New_York:20260428T120000
DTSTAMP:20260425T133938
CREATED:20260319T161025Z
LAST-MODIFIED:20260319T161025Z
UID:10003410-1777363200-1777377600@acprosite.com
SUMMARY:Tropic Supply Sunrise: Nu-Calgon Demo Day at Sunrise Resource Center
DESCRIPTION:Learning Objectives: \n\nBetter Installs: Learn how cleaning new evaporator coils with Evap Foam No Rinse removes factory residues so systems start clean and run efficiently.\nBetter Maintenance & Upsells: Use PowerZyme\, PurCool Strips\, Gel Tabs\, and Evap Fresh to support maintenance plans and extend equipment life.\nBetter Diagnosis & Repairs: Improve first-time fixes with RX11 Flush\, Acid Scavenger\, A/C Renew\, and Easy Seal.\nBetter Proposal Selling: Increase conversions with upgrades like iWave\, NuStart soft starters\, and maintenance plans.\n\nFree Event. No registration required. \n \n  \n  \n  \n  \n  \n  \n  \n  \n 
URL:https://acprosite.com/event/tropic-supply-sunrise-nu-calgon-demo-day-at-sunrise-resource-center/
LOCATION:Tropic Supply T20\, 1001 Sawgrass Corporate Pkwy\, Sunrise\, Florida\, 33323
CATEGORIES:Southeast Florida
END:VEVENT
BEGIN:VEVENT
DTSTART;TZID=America/New_York:20260428T090000
DTEND;TZID=America/New_York:20260428T130000
DTSTAMP:20260425T133938
CREATED:20260325T145704Z
LAST-MODIFIED:20260325T145704Z
UID:10003420-1777366800-1777381200@acprosite.com
SUMMARY:Baker Distributing Sarasota: Gree Technical Training
DESCRIPTION:JOIN US FOR: \n• Gree Flex side discharge unit training\n• Introduction to new products\n• Installation and troubleshooting\n• CE credits will be given \n \n  \n  \n 
URL:https://acprosite.com/event/baker-distributing-sarasota-gree-technical-training/
LOCATION:Courtyard Sarasota University Town Center\, 8305 Tourist Center Drive\, Sarasota\, Florida\, 34201
CATEGORIES:Southwest Florida
END:VEVENT
BEGIN:VEVENT
DTSTART;TZID=America/New_York:20260429T080000
DTEND;TZID=America/New_York:20260429T100000
DTSTAMP:20260425T133938
CREATED:20260313T144322Z
LAST-MODIFIED:20260313T144322Z
UID:10003387-1777449600-1777456800@acprosite.com
SUMMARY:Tropic Supply Cape Coral: FloXtreme Demo Day at Cape Coral Resource Center
DESCRIPTION:Reduce callbacks and improve customer satisfaction with FloXtreme 24/7 automatic a/c drain system protection. \nFree event. No registration required. \n \n  \n  \n  \n  \n  \n  \n  \n 
URL:https://acprosite.com/event/tropic-supply-cape-coral-floxtreme-demo-day-at-cape-coral-resource-center/
LOCATION:Tropic Supply T11\, 785 NE 19th Pl\, Cape Coral\, Florida\, 33909
CATEGORIES:Southwest Florida
END:VEVENT
BEGIN:VEVENT
DTSTART;TZID=America/New_York:20260429T080000
DTEND;TZID=America/New_York:20260430T170000
DTSTAMP:20260425T133938
CREATED:20260303T170913Z
LAST-MODIFIED:20260303T171053Z
UID:10003372-1777449600-1777568400@acprosite.com
SUMMARY:SFACCA & Air Design Concepts Offers Manual J Training Ft. Lauderdale
DESCRIPTION:Instructor\, Bob Volin\, Air Design Concepts officers 2-day trainings \n\n\n\n\nWhat You Need to Bring with You \nBring a laptop and mouse to interact with class Wrightsoft demo version which can be downloaded @ https://www.wrightsoft.com/Download If already using Wrightsoft\, spreadsheet or Elite software\, (Licensed or Demo) it may be used during class instead of demo software. Software works best with a PC-based laptop or Mac OS that is PC integrated. \nThis two–day workshop provides comprehensive training on how to perform Manual J Load calculations\, how to select equipment as per Manual S and Ductwork Design as per Manual D. Included is how to perform a field study and a discussion about the Florida Energy Code and its effect on load calculations. \nClick HERE to register and get tickets.
URL:https://acprosite.com/event/sfacca-air-design-concepts-offers-manual-j-training-ft-lauderdale/
LOCATION:Everlast Cleaning Equipment & Supplies\, Inc.\, 6881 Northwest 16th Terrace\, Fort Lauderdale\, Florida\, 33309
CATEGORIES:Southeast Florida
END:VEVENT
BEGIN:VEVENT
DTSTART;TZID=America/New_York:20260429T090000
DTEND;TZID=America/New_York:20260429T130000
DTSTAMP:20260425T133938
CREATED:20260325T150203Z
LAST-MODIFIED:20260325T150203Z
UID:10003421-1777453200-1777467600@acprosite.com
SUMMARY:Baker Distributing Ft. Myers: Gree Technical Training
DESCRIPTION:JOIN US FOR: \n• Gree Flex side discharge unit training\n• Introduction to new products\n• Installation and troubleshooting\n• CE credits will be given \n \n  \n  \n 
URL:https://acprosite.com/event/baker-distributing-ft-myers-gree-technical-training/
LOCATION:Baker FCS Ft. Myers\, 6151 Metro Plex Dr\, Fort Myers\, Florida\, 33966
CATEGORIES:Southwest Florida
END:VEVENT
BEGIN:VEVENT
DTSTART;TZID=America/New_York:20260430T080000
DTEND;TZID=America/New_York:20260430T120000
DTSTAMP:20260425T133938
CREATED:20260319T161304Z
LAST-MODIFIED:20260319T161304Z
UID:10003411-1777536000-1777550400@acprosite.com
SUMMARY:Tropic Supply Delray Beach: Nu-Calgon Demo Day at Delray Beach Resource Center
DESCRIPTION:Learning Objectives: \n\nBetter Installs: Learn how cleaning new evaporator coils with Evap Foam No Rinse removes factory residues so systems start clean and run efficiently.\nBetter Maintenance & Upsells: Use PowerZyme\, PurCool Strips\, Gel Tabs\, and Evap Fresh to support maintenance plans and extend equipment life.\nBetter Diagnosis & Repairs: Improve first-time fixes with RX11 Flush\, Acid Scavenger\, A/C Renew\, and Easy Seal.\nBetter Proposal Selling: Increase conversions with upgrades like iWave\, NuStart soft starters\, and maintenance plans.\n\nFree Event. No registration required. \n \n  \n  \n  \n  \n  \n  \n  \n  \n 
URL:https://acprosite.com/event/tropic-supply-delray-beach-nu-calgon-demo-day-at-delray-beach-resource-center/
LOCATION:Tropic Supply T9\, 1203 Poinsettia Dr\, Del Ray Beach\, Florida\, 33444
CATEGORIES:Southeast Florida
END:VEVENT
BEGIN:VEVENT
DTSTART;TZID=America/New_York:20260430T083000
DTEND;TZID=America/New_York:20260430T123000
DTSTAMP:20260425T133938
CREATED:20260331T161459Z
LAST-MODIFIED:20260331T161546Z
UID:10003422-1777537800-1777552200@acprosite.com
SUMMARY:Baker Distributing Stuart: Gree Technical Training
DESCRIPTION:JOIN US FOR: \n• Gree Flex side discharge unit training\n• Introduction to new products\n• Installation and troubleshooting\n• CE credits will be given \n  \n \n  \n 
URL:https://acprosite.com/event/baker-distributing-stuart-gree-technical-training/
LOCATION:Hampton Inn & Suites\, 1150 NW Federal HWY\, Stuart\, Florida\, 34994
CATEGORIES:Southeast Florida
END:VEVENT
END:VCALENDAR